BEGIN:VCALENDAR
VERSION:2.0
PRODID:-//Municipalidad de Villa Elisa, Entre Ríos - ECPv6.6.4.2//NONSGML v1.0//EN
CALSCALE:GREGORIAN
METHOD:PUBLISH
X-ORIGINAL-URL:https://villaelisa.gov.ar
X-WR-CALDESC:Eventos para Municipalidad de Villa Elisa, Entre Ríos
REFRESH-INTERVAL;VALUE=DURATION:PT1H
X-Robots-Tag:noindex
X-PUBLISHED-TTL:PT1H
BEGIN:VTIMEZONE
TZID:America/Argentina/Buenos_Aires
BEGIN:STANDARD
TZOFFSETFROM:-0300
TZOFFSETTO:-0300
TZNAME:-03
DTSTART:20260101T000000
END:STANDARD
END:VTIMEZONE
BEGIN:VEVENT
DTSTART;TZID=America/Argentina/Buenos_Aires:20260403T210000
DTEND;TZID=America/Argentina/Buenos_Aires:20260404T003000
DTSTAMP:20260422T195212
CREATED:20260319T134032Z
LAST-MODIFIED:20260401T121005Z
UID:10009394-1775250000-1775262600@villaelisa.gov.ar
SUMMARY:Cena Show en Restaurante "Los Teros"
DESCRIPTION:El mejor lugar\, la mejor comida y la mejor música en vivo del reconocido Grupo Somos Así te esperan con un variado menú y exquisito cordero al asador en Restaurante Los Teros del Complejo Termal… una noche que no te podés perder !!!
URL:https://villaelisa.gov.ar/evento/cena-show-en-restaurante-los-teros-2/
ATTACH;FMTTYPE=image/jpeg:https://villaelisa.gov.ar/wp-content/uploads/2026/03/WhatsApp-Image-2026-03-19-at-10.06.20-AM.jpeg
END:VEVENT
BEGIN:VEVENT
DTSTART;TZID=America/Argentina/Buenos_Aires:20260404T100000
DTEND;TZID=America/Argentina/Buenos_Aires:20260404T113000
DTSTAMP:20260422T195212
CREATED:20260330T171515Z
LAST-MODIFIED:20260330T171515Z
UID:10009383-1775296800-1775302200@villaelisa.gov.ar
SUMMARY:Caminatur
DESCRIPTION:No es solo un city tour…\nes una invitación a sentir la ciudad. \nA caminar sin prisa\,\na escuchar las historias que viven en sus calles\,\na descubrir rincones que emocionan\ncuando se mira distinto\ny se recorre con todos los sentidos. \nCosto colaboración a voluntad. \n📞 Reservas: 3447 456151\n👩‍🦰 Graciela Antonin\nGuía Nacional de Turismo – UADER\nMatrícula Nº 0054\nCoProTuer
URL:https://villaelisa.gov.ar/evento/caminatur-10-2/
ATTACH;FMTTYPE=image/jpeg:https://villaelisa.gov.ar/wp-content/uploads/2026/03/WhatsApp-Image-2026-03-30-at-2.12.55-PM.jpeg
END:VEVENT
BEGIN:VEVENT
DTSTART;TZID=America/Argentina/Buenos_Aires:20260404T100000
DTEND;TZID=America/Argentina/Buenos_Aires:20260404T180000
DTSTAMP:20260422T195212
CREATED:20260206T195045Z
LAST-MODIFIED:20260401T123440Z
UID:10009451-1775296800-1775325600@villaelisa.gov.ar
SUMMARY:Almacén Francou en Semana Santa
DESCRIPTION:En una visita al histórico Almacén Francou tendrás la posibilidad de compartir actividades fascinantes e inolvidables. \nDe Jueves a Sabado de 10 a 18 Hs \n 
URL:https://villaelisa.gov.ar/evento/almacen-francou-en-carnaval/2026-04-04/
LOCATION:Almacén de Ramos Generales Francou\, Colonia del Carmen\, Villa Elisa\, Entre Rios\, 3265\, Argentina
ATTACH;FMTTYPE=image/jpeg:https://villaelisa.gov.ar/wp-content/uploads/2026/02/WhatsApp-Image-2026-04-01-at-8.47.01-AM.jpeg
END:VEVENT
BEGIN:VEVENT
DTSTART;TZID=America/Argentina/Buenos_Aires:20260404T103000
DTEND;TZID=America/Argentina/Buenos_Aires:20260404T173000
DTSTAMP:20260422T195212
CREATED:20260330T200616Z
LAST-MODIFIED:20260330T200616Z
UID:10009441-1775298600-1775323800@villaelisa.gov.ar
SUMMARY:Visitas Guiadas en Estancia Museo El Porvenir
DESCRIPTION:Viernes 3 y sábado 4 de abril a las 10:30\, 12:00\, 16:30 y 17:30 horas\,  pueden realizarse las visitas guiadas gratuitas por la Estancia. \nSi se lo desea\, se puede visitar el lugar en forma independiente (sin visita guiada) de 10:00 a 13:00 y de 16:00 a 19:00 horas\, recordando que también está habilitado el sector del parque recreativo. \nEl valor del bono contribución de ingreso es de $2000 general y $1500 para menores entre 6 y 12 años inclusive\, jubilados y residentes de la micro región “Tierra de Palmares”. \nContacto: 3447436203 – www.museoelporvenir.com.ar
URL:https://villaelisa.gov.ar/evento/visitas-guiadas-en-estancia-museo-el-porvenir-20/2026-04-04/
LOCATION:Estancia Museo “El Porvenir”
ATTACH;FMTTYPE=image/jpeg:https://villaelisa.gov.ar/wp-content/uploads/2026/03/1.4-horario-fin-de-semana-largo.jpeg
END:VEVENT
BEGIN:VEVENT
DTSTART;TZID=America/Argentina/Buenos_Aires:20260404T113000
DTEND;TZID=America/Argentina/Buenos_Aires:20260404T170000
DTSTAMP:20260422T195212
CREATED:20260401T160052Z
LAST-MODIFIED:20260401T181206Z
UID:10009459-1775302200-1775322000@villaelisa.gov.ar
SUMMARY:Almacén Don Leandro
DESCRIPTION:Visita y relato de nuestros orígenes Alpinos\,degustación de Licores y Almuerzos.
URL:https://villaelisa.gov.ar/evento/almacen-don-leandro-10/2026-04-04/
ATTACH;FMTTYPE=image/jpeg:https://villaelisa.gov.ar/wp-content/uploads/2026/04/IMG-20260325-WA0111-4.jpg
END:VEVENT
BEGIN:VEVENT
DTSTART;TZID=America/Argentina/Buenos_Aires:20260404T150000
DTEND;TZID=America/Argentina/Buenos_Aires:20260404T193000
DTSTAMP:20260422T195212
CREATED:20260328T152238Z
LAST-MODIFIED:20260330T194129Z
UID:10009433-1775314800-1775331000@villaelisa.gov.ar
SUMMARY:Tren Histórico
DESCRIPTION:Jueves\, Viernes\, Sábado y Domingo desde 10:00 hs. estará abierta la estación Elisa donde encontrarás para observar maquinarias y elementos de época\, a las 10\,30\,15:30 y 18 horas habrá paseos en el tren histórico turístico para vivir una gran experiencia. \nCalle Centenario 2200 \nConsultas al 3442 551086
URL:https://villaelisa.gov.ar/evento/tren-historico/2026-04-04/
LOCATION:Estación ferroviaria Villa Elisa
ATTACH;FMTTYPE=image/jpeg:https://villaelisa.gov.ar/wp-content/uploads/2026/03/WhatsApp-Image-2026-03-30-at-4.38.15-PM.jpeg
END:VEVENT
BEGIN:VEVENT
DTSTART;TZID=America/Argentina/Buenos_Aires:20260404T183000
DTEND;TZID=America/Argentina/Buenos_Aires:20260404T210000
DTSTAMP:20260422T195212
CREATED:20260401T174644Z
LAST-MODIFIED:20260401T174644Z
UID:10009457-1775327400-1775336400@villaelisa.gov.ar
SUMMARY:Sábado Santo
DESCRIPTION:En esta fecha tan importante tendremos dos celebraciones religiosas. \n18:30Hs en Capilla San Francisco de Sáles \n20:00 Hs en Parroquia Natividad de Nuestra Señora
URL:https://villaelisa.gov.ar/evento/sabado-santo/
ATTACH;FMTTYPE=image/jpeg:https://villaelisa.gov.ar/wp-content/uploads/2026/04/WhatsApp-Image-2026-04-01-at-2.30.10-PM-1.jpeg
END:VEVENT
BEGIN:VEVENT
DTSTART;TZID=America/Argentina/Buenos_Aires:20260404T183000
DTEND;TZID=America/Argentina/Buenos_Aires:20260405T000000
DTSTAMP:20260422T195212
CREATED:20260330T180450Z
LAST-MODIFIED:20260330T182042Z
UID:10009438-1775327400-1775347200@villaelisa.gov.ar
SUMMARY:Sunset en la Bodega
DESCRIPTION:Un evento mágico con buenos vinos\,sabores\, música en un paisaje increible \nSolo con reserva previa 3454331443
URL:https://villaelisa.gov.ar/evento/sunset-en-la-bodega/
LOCATION:Bodega Alonso Sáenz\, Ruta provincial 23\, km 28\, Arroyo Barú
ATTACH;FMTTYPE=image/jpeg:https://villaelisa.gov.ar/wp-content/uploads/2026/03/WhatsApp-Image-2026-03-30-at-2.49.29-PM.jpeg
END:VEVENT
BEGIN:VEVENT
DTSTART;TZID=America/Argentina/Buenos_Aires:20260404T210000
DTEND;TZID=America/Argentina/Buenos_Aires:20260404T223000
DTSTAMP:20260422T195212
CREATED:20260325T125112Z
LAST-MODIFIED:20260401T132715Z
UID:10009452-1775336400-1775341800@villaelisa.gov.ar
SUMMARY:Cine Paradiso "Taxi Un Encuentro"
DESCRIPTION: Esta buena y cautivante pelicula es un drama que gira en torno a la relación que entablan una muchacha y un joven ladrón conductor ocasional de un taxi teniendo como protagonistas destacados a Diego Peretti\, Miguel Guerberof\, Josefina Viton\, Pablo Brichta. \nImperdible en Cine Paradiso de Alvear 942. Entrada solo $2000.
URL:https://villaelisa.gov.ar/evento/cine-paradiso-el-turista-2/2026-04-04/
LOCATION:Cine Paradiso\, Gral. Alvear 942\, Villa Elisa\, 3265
ATTACH;FMTTYPE=image/jpeg:https://villaelisa.gov.ar/wp-content/uploads/2026/03/WhatsApp-Image-2026-04-01-at-10.09.27-AM.jpeg
END:VEVENT
BEGIN:VEVENT
DTSTART;TZID=America/Argentina/Buenos_Aires:20260404T210000
DTEND;TZID=America/Argentina/Buenos_Aires:20260405T003000
DTSTAMP:20260422T195212
CREATED:20260327T152332Z
LAST-MODIFIED:20260331T182146Z
UID:10009422-1775336400-1775349000@villaelisa.gov.ar
SUMMARY:Noche de Peña en Parrilla "El Gringo"
DESCRIPTION:Nos encontramos todos para pasar una noche bien argentina!!!
URL:https://villaelisa.gov.ar/evento/pena-en-parrilla-el-gringo/
LOCATION:Parrilla El Gringo
ATTACH;FMTTYPE=image/jpeg:https://villaelisa.gov.ar/wp-content/uploads/2026/03/WhatsApp-Image-2026-03-31-at-3.19.11-PM.jpeg
END:VEVENT
BEGIN:VEVENT
DTSTART;TZID=America/Argentina/Buenos_Aires:20260404T210000
DTEND;TZID=America/Argentina/Buenos_Aires:20260405T003000
DTSTAMP:20260422T195212
CREATED:20260330T153559Z
LAST-MODIFIED:20260330T153559Z
UID:10009437-1775336400-1775349000@villaelisa.gov.ar
SUMMARY:Cena Show en Restaurante El Paso
DESCRIPTION:Vení a disfrutar de una experiencia única donde vas a poder degustar exquisitos menús\, con lo mejor de la parrilla y platos abundantes\, en un ambiente cálido y familiar. \nAdemás\, viví una noche diferente con show musical en vivo\, ideal para compartir con amigos o en familia.
URL:https://villaelisa.gov.ar/evento/cena-show-en-restaurante-el-paso/
LOCATION:Parrilla El Paso\, Av. Urquiza 3145\, Villa Elisa\, 3265
ATTACH;FMTTYPE=image/jpeg:https://villaelisa.gov.ar/wp-content/uploads/2026/03/WhatsApp-Image-2026-03-30-at-12.31.47-PM.jpeg
END:VEVENT
BEGIN:VEVENT
DTSTART;TZID=America/Argentina/Buenos_Aires:20260404T213000
DTEND;TZID=America/Argentina/Buenos_Aires:20260404T213000
DTSTAMP:20260422T195212
CREATED:20260401T123042Z
LAST-MODIFIED:20260401T123058Z
UID:10009448-1775338200-1775338200@villaelisa.gov.ar
SUMMARY:Cena Show con Canto Raíz en Los Teros
DESCRIPTION:El mejor lugar\, la mejor comida y la mejor música en vivo del reconocido Grupo Canto Raíz te esperan\, con un variado menú y exquisito cordero al asador en Restaurante Los Teros del Complejo Termal… una noche que no te podés perder !!!
URL:https://villaelisa.gov.ar/evento/cena-show-con-canto-raiz-en-los-teros/
LOCATION:Los Teros – restaurante\, Termas Villa Elisa\, Villa Elisa\, Entre Rios\, 3265\, Argentina
ATTACH;FMTTYPE=image/jpeg:https://villaelisa.gov.ar/wp-content/uploads/2026/04/WhatsApp-Image-2026-04-01-at-9.27.31-AM.jpeg
END:VEVENT
BEGIN:VEVENT
DTSTART;TZID=America/Argentina/Buenos_Aires:20260404T233000
DTEND;TZID=America/Argentina/Buenos_Aires:20260405T050000
DTSTAMP:20260422T195212
CREATED:20260401T175113Z
LAST-MODIFIED:20260401T175113Z
UID:10009458-1775345400-1775365200@villaelisa.gov.ar
SUMMARY:Retro Villa Elisa
DESCRIPTION:Llega la noche más esperada!!!!!!!!!!! \nTodos tienen su lugarcito no te lo podés perder
URL:https://villaelisa.gov.ar/evento/retro-villa-elisa-2/
LOCATION:Hipódromo Jockey Club Villa Elisa
ATTACH;FMTTYPE=image/jpeg:https://villaelisa.gov.ar/wp-content/uploads/2026/04/WhatsApp-Image-2026-04-01-at-2.46.01-PM-1.jpeg
END:VEVENT
BEGIN:VEVENT
DTSTART;TZID=America/Argentina/Buenos_Aires:20260405T100000
DTEND;TZID=America/Argentina/Buenos_Aires:20260405T130000
DTSTAMP:20260422T195212
CREATED:20241104T113404Z
LAST-MODIFIED:20241104T113404Z
UID:10002267-1775383200-1775394000@villaelisa.gov.ar
SUMMARY:Auto Tour
DESCRIPTION:TRAVELING VINA:  \nEs un servicio  extra\, que ofrece el complejo de Alojamientos “V I N A” \nExperiencia Rurales\, AUTO TOUR:  \nPlanificamos y coordinamos recorridos por bodegas\, fábricas de productos regionales\, y almacenes locales\, te llevamos a descubrir La Colonia\, cultura local y los paisajes mas hermosos de nuestra Tierra de Palmares.- \nOrganizado por Perla Lopez – \nReservas con anticipación: contacto 3447503491.- \nValor del recorrido: según destino elegido. \nTiempo demandado: aproximadamente 3 horas.- \nEl objetivo es formar una caravana\, con los vehículos de los interesados y hacer\, una mañana o una tarde de recorridos a los diferentes atractivos de nuestra zona  \nprevia coordinación.- \nPunto de salida: oficina de Turismo Villa Elisa.-
URL:https://villaelisa.gov.ar/evento/auto-tour/2026-04-05/
ATTACH;FMTTYPE=image/jpeg:https://villaelisa.gov.ar/wp-content/uploads/2024/11/Traveling-vina.jpg
END:VEVENT
BEGIN:VEVENT
DTSTART;TZID=America/Argentina/Buenos_Aires:20260405T113000
DTEND;TZID=America/Argentina/Buenos_Aires:20260405T170000
DTSTAMP:20260422T195212
CREATED:20260401T160052Z
LAST-MODIFIED:20260401T181206Z
UID:10009460-1775388600-1775408400@villaelisa.gov.ar
SUMMARY:Almacén Don Leandro
DESCRIPTION:Visita y relato de nuestros orígenes Alpinos\,degustación de Licores y Almuerzos.
URL:https://villaelisa.gov.ar/evento/almacen-don-leandro-10/2026-04-05/
ATTACH;FMTTYPE=image/jpeg:https://villaelisa.gov.ar/wp-content/uploads/2026/04/IMG-20260325-WA0111-4.jpg
END:VEVENT
BEGIN:VEVENT
DTSTART;TZID=America/Argentina/Buenos_Aires:20260405T150000
DTEND;TZID=America/Argentina/Buenos_Aires:20260405T193000
DTSTAMP:20260422T195212
CREATED:20260328T152238Z
LAST-MODIFIED:20260330T194129Z
UID:10009434-1775401200-1775417400@villaelisa.gov.ar
SUMMARY:Tren Histórico
DESCRIPTION:Jueves\, Viernes\, Sábado y Domingo desde 10:00 hs. estará abierta la estación Elisa donde encontrarás para observar maquinarias y elementos de época\, a las 10\,30\,15:30 y 18 horas habrá paseos en el tren histórico turístico para vivir una gran experiencia. \nCalle Centenario 2200 \nConsultas al 3442 551086
URL:https://villaelisa.gov.ar/evento/tren-historico/2026-04-05/
LOCATION:Estación ferroviaria Villa Elisa
ATTACH;FMTTYPE=image/jpeg:https://villaelisa.gov.ar/wp-content/uploads/2026/03/WhatsApp-Image-2026-03-30-at-4.38.15-PM.jpeg
END:VEVENT
BEGIN:VEVENT
DTSTART;TZID=America/Argentina/Buenos_Aires:20260405T200000
DTEND;TZID=America/Argentina/Buenos_Aires:20260405T213000
DTSTAMP:20260422T195212
CREATED:20260325T125112Z
LAST-MODIFIED:20260401T132715Z
UID:10009453-1775419200-1775424600@villaelisa.gov.ar
SUMMARY:Cine Paradiso "Taxi Un Encuentro"
DESCRIPTION: Esta buena y cautivante pelicula es un drama que gira en torno a la relación que entablan una muchacha y un joven ladrón conductor ocasional de un taxi teniendo como protagonistas destacados a Diego Peretti\, Miguel Guerberof\, Josefina Viton\, Pablo Brichta. \nImperdible en Cine Paradiso de Alvear 942. Entrada solo $2000.
URL:https://villaelisa.gov.ar/evento/cine-paradiso-el-turista-2/2026-04-05/
LOCATION:Cine Paradiso\, Gral. Alvear 942\, Villa Elisa\, 3265
ATTACH;FMTTYPE=image/jpeg:https://villaelisa.gov.ar/wp-content/uploads/2026/03/WhatsApp-Image-2026-04-01-at-10.09.27-AM.jpeg
END:VEVENT
BEGIN:VEVENT
DTSTART;TZID=America/Argentina/Buenos_Aires:20260406T103000
DTEND;TZID=America/Argentina/Buenos_Aires:20260406T130000
DTSTAMP:20260422T195212
CREATED:20260319T195924Z
LAST-MODIFIED:20260319T195924Z
UID:10009398-1775471400-1775480400@villaelisa.gov.ar
SUMMARY:Visitas Guiadas en Estancia Museo El Porvenir
DESCRIPTION:De lunes a viernes (excepto martes) las 10:30 y 12:00 horas\,  pueden realizarse las visitas guiadas gratuitas por la Estancia. \nSi se lo desea\, se puede visitar el lugar en forma independiente (sin visita guiada) de 10:00 a 13:00 y de 16:00 a 19:00 horas\, recordando que también está habilitado el sector del parque recreativo. \nEl valor del bono contribución de ingreso es de $2000 general y $1500 para menores entre 6 y 12 años inclusive\, jubilados y residentes de la micro región “Tierra de Palmares”. \nContacto: 3447436203 – www.museoelporvenir.com.ar
URL:https://villaelisa.gov.ar/evento/visitas-guiadas-en-estancia-museo-el-porvenir-19/2026-04-06/
LOCATION:Estancia Museo “El Porvenir”
ATTACH;FMTTYPE=image/jpeg:https://villaelisa.gov.ar/wp-content/uploads/2026/02/Horarios-marzo-2026-feed.jpeg
END:VEVENT
BEGIN:VEVENT
DTSTART;TZID=America/Argentina/Buenos_Aires:20260408T103000
DTEND;TZID=America/Argentina/Buenos_Aires:20260408T130000
DTSTAMP:20260422T195212
CREATED:20260319T195924Z
LAST-MODIFIED:20260319T195924Z
UID:10009399-1775644200-1775653200@villaelisa.gov.ar
SUMMARY:Visitas Guiadas en Estancia Museo El Porvenir
DESCRIPTION:De lunes a viernes (excepto martes) las 10:30 y 12:00 horas\,  pueden realizarse las visitas guiadas gratuitas por la Estancia. \nSi se lo desea\, se puede visitar el lugar en forma independiente (sin visita guiada) de 10:00 a 13:00 y de 16:00 a 19:00 horas\, recordando que también está habilitado el sector del parque recreativo. \nEl valor del bono contribución de ingreso es de $2000 general y $1500 para menores entre 6 y 12 años inclusive\, jubilados y residentes de la micro región “Tierra de Palmares”. \nContacto: 3447436203 – www.museoelporvenir.com.ar
URL:https://villaelisa.gov.ar/evento/visitas-guiadas-en-estancia-museo-el-porvenir-19/2026-04-08/
LOCATION:Estancia Museo “El Porvenir”
ATTACH;FMTTYPE=image/jpeg:https://villaelisa.gov.ar/wp-content/uploads/2026/02/Horarios-marzo-2026-feed.jpeg
END:VEVENT
BEGIN:VEVENT
DTSTART;TZID=America/Argentina/Buenos_Aires:20260409T103000
DTEND;TZID=America/Argentina/Buenos_Aires:20260409T130000
DTSTAMP:20260422T195212
CREATED:20260319T195924Z
LAST-MODIFIED:20260319T195924Z
UID:10009400-1775730600-1775739600@villaelisa.gov.ar
SUMMARY:Visitas Guiadas en Estancia Museo El Porvenir
DESCRIPTION:De lunes a viernes (excepto martes) las 10:30 y 12:00 horas\,  pueden realizarse las visitas guiadas gratuitas por la Estancia. \nSi se lo desea\, se puede visitar el lugar en forma independiente (sin visita guiada) de 10:00 a 13:00 y de 16:00 a 19:00 horas\, recordando que también está habilitado el sector del parque recreativo. \nEl valor del bono contribución de ingreso es de $2000 general y $1500 para menores entre 6 y 12 años inclusive\, jubilados y residentes de la micro región “Tierra de Palmares”. \nContacto: 3447436203 – www.museoelporvenir.com.ar
URL:https://villaelisa.gov.ar/evento/visitas-guiadas-en-estancia-museo-el-porvenir-19/2026-04-09/
LOCATION:Estancia Museo “El Porvenir”
ATTACH;FMTTYPE=image/jpeg:https://villaelisa.gov.ar/wp-content/uploads/2026/02/Horarios-marzo-2026-feed.jpeg
END:VEVENT
BEGIN:VEVENT
DTSTART;TZID=America/Argentina/Buenos_Aires:20260410T103000
DTEND;TZID=America/Argentina/Buenos_Aires:20260410T130000
DTSTAMP:20260422T195212
CREATED:20260319T195924Z
LAST-MODIFIED:20260319T195924Z
UID:10009401-1775817000-1775826000@villaelisa.gov.ar
SUMMARY:Visitas Guiadas en Estancia Museo El Porvenir
DESCRIPTION:De lunes a viernes (excepto martes) las 10:30 y 12:00 horas\,  pueden realizarse las visitas guiadas gratuitas por la Estancia. \nSi se lo desea\, se puede visitar el lugar en forma independiente (sin visita guiada) de 10:00 a 13:00 y de 16:00 a 19:00 horas\, recordando que también está habilitado el sector del parque recreativo. \nEl valor del bono contribución de ingreso es de $2000 general y $1500 para menores entre 6 y 12 años inclusive\, jubilados y residentes de la micro región “Tierra de Palmares”. \nContacto: 3447436203 – www.museoelporvenir.com.ar
URL:https://villaelisa.gov.ar/evento/visitas-guiadas-en-estancia-museo-el-porvenir-19/2026-04-10/
LOCATION:Estancia Museo “El Porvenir”
ATTACH;FMTTYPE=image/jpeg:https://villaelisa.gov.ar/wp-content/uploads/2026/02/Horarios-marzo-2026-feed.jpeg
END:VEVENT
BEGIN:VEVENT
DTSTART;TZID=America/Argentina/Buenos_Aires:20260410T180000
DTEND;TZID=America/Argentina/Buenos_Aires:20260410T190000
DTSTAMP:20260422T195212
CREATED:20260407T100603Z
LAST-MODIFIED:20260407T100603Z
UID:10009470-1775844000-1775847600@villaelisa.gov.ar
SUMMARY:Taller de Maquilaje Teatral y de Comparsa / Función de Teatro
DESCRIPTION:Viernes  10 de Abril a las 18hr\, se realizará en el Salón del Ferrocarril\,un taller de Maquillaje Teatral y para Comparsas a cargo del actor e integrante de la comparsa Papelitos de Gualeguaychú\, Ricardo ” Gallego” Urbini \nSábado 11 de Abril a las 20hr\, se realizará una función de Teatro ” Angélica\, una zamba romántica alienígena” de Pablo Albarello\, con la actuación de Ricardo Urbini y Juan Terrussi\, ambos actores de la Ciudad de Chajarí. \nEstas actividades son a la gorra./ Dichas actividades cuentan con el apoyo del ConTIER. ( Consejo de Teatristas Independientes Entrerrianos
URL:https://villaelisa.gov.ar/evento/taller-de-maquilaje-teatral-y-de-comparsa-funcion-de-teatro/
LOCATION:La Clarita
ATTACH;FMTTYPE=image/png:https://villaelisa.gov.ar/wp-content/uploads/2026/04/Circuito-Teatral.png
END:VEVENT
BEGIN:VEVENT
DTSTART;TZID=America/Argentina/Buenos_Aires:20260411T210000
DTEND;TZID=America/Argentina/Buenos_Aires:20260411T233000
DTSTAMP:20260422T195212
CREATED:20260406T132822Z
LAST-MODIFIED:20260406T132822Z
UID:10009466-1775941200-1775950200@villaelisa.gov.ar
SUMMARY:Teatro "La mujer invisible"
DESCRIPTION:Sábado 11 – 21 hs –  En El Centro Cultural La Fragua \n✨ La mujer invisible\, versión de @monaalvarezgatica sobre el texto de Marc Egea “Suéltate”.\n¿Qué nos inspira a vivir plenamente? ¿Qué nos lleva a elegir la vida olvidando que la muerte nos pisa los talones?\nUna mujer invisible busca estas respuestas en una tarde tragicómica como la vida misma.\n🎟 función a la gorra\n💬 desmontaje con la artista al finalizar\n🍔 buffet + bebidas\nLes esperamos!
URL:https://villaelisa.gov.ar/evento/teatro-la-mujer-invisible/
LOCATION:Asociación Civil La Fragua\, Héctor de Elía 1489\, Villa Elisa\, 3265
ATTACH;FMTTYPE=image/jpeg:https://villaelisa.gov.ar/wp-content/uploads/2026/04/funcion-11-de-abril.jpg
END:VEVENT
BEGIN:VEVENT
DTSTART;TZID=America/Argentina/Buenos_Aires:20260411T210000
DTEND;TZID=America/Argentina/Buenos_Aires:20260412T030000
DTSTAMP:20260422T195212
CREATED:20260326T143952Z
LAST-MODIFIED:20260326T143952Z
UID:10009421-1775941200-1775962800@villaelisa.gov.ar
SUMMARY:GRAN BAILE
DESCRIPTION:SABADO 11 DE ABRIL  \nGRAN BAILE CON BETOLA BOURLOT “EL VAGABUNDO”
URL:https://villaelisa.gov.ar/evento/gran-baile-8/
LOCATION:Centro María Auxiliadora\, H. Irigoyen 1269\, Villa Elisa
ATTACH;FMTTYPE=image/jpeg:https://villaelisa.gov.ar/wp-content/uploads/2026/03/InShot_20260325_084203447-1.jpg
END:VEVENT
BEGIN:VEVENT
DTSTART;TZID=America/Argentina/Buenos_Aires:20260412T100000
DTEND;TZID=America/Argentina/Buenos_Aires:20260412T130000
DTSTAMP:20260422T195212
CREATED:20241104T113404Z
LAST-MODIFIED:20241104T113404Z
UID:10002268-1775988000-1775998800@villaelisa.gov.ar
SUMMARY:Auto Tour
DESCRIPTION:TRAVELING VINA:  \nEs un servicio  extra\, que ofrece el complejo de Alojamientos “V I N A” \nExperiencia Rurales\, AUTO TOUR:  \nPlanificamos y coordinamos recorridos por bodegas\, fábricas de productos regionales\, y almacenes locales\, te llevamos a descubrir La Colonia\, cultura local y los paisajes mas hermosos de nuestra Tierra de Palmares.- \nOrganizado por Perla Lopez – \nReservas con anticipación: contacto 3447503491.- \nValor del recorrido: según destino elegido. \nTiempo demandado: aproximadamente 3 horas.- \nEl objetivo es formar una caravana\, con los vehículos de los interesados y hacer\, una mañana o una tarde de recorridos a los diferentes atractivos de nuestra zona  \nprevia coordinación.- \nPunto de salida: oficina de Turismo Villa Elisa.-
URL:https://villaelisa.gov.ar/evento/auto-tour/2026-04-12/
ATTACH;FMTTYPE=image/jpeg:https://villaelisa.gov.ar/wp-content/uploads/2024/11/Traveling-vina.jpg
END:VEVENT
BEGIN:VEVENT
DTSTART;TZID=America/Argentina/Buenos_Aires:20260412T100000
DTEND;TZID=America/Argentina/Buenos_Aires:20260412T193000
DTSTAMP:20260422T195212
CREATED:20260406T145204Z
LAST-MODIFIED:20260406T145204Z
UID:10009468-1775988000-1776022200@villaelisa.gov.ar
SUMMARY:Expo Autos en Club Atlético Vazquez
DESCRIPTION:¡Los esperamos para visitar la exposición de autos y camionetas clásicas! 🚗✨ \nDisfrutá de una increíble muestra de autos antiguos\, motos y Rat Rod. \nAdemás\, contaremos con feria artesanal\, servicio de cantina y comidas rápidas para pasar un día en familia o con amigos. \n¡No te lo pierdas!
URL:https://villaelisa.gov.ar/evento/expo-autos-en-club-atletico-vazquez/
LOCATION:Club Vazquez\, Ruta provincial 23\, km8\, Villa Elisa\, Entre Rios\, 3265\, Argentina
ATTACH;FMTTYPE=image/jpeg:https://villaelisa.gov.ar/wp-content/uploads/2026/04/WhatsApp-Image-2026-04-06-at-9.36.45-AM.jpeg
END:VEVENT
BEGIN:VEVENT
DTSTART;TZID=America/Argentina/Buenos_Aires:20260412T163000
DTEND;TZID=America/Argentina/Buenos_Aires:20260412T223000
DTSTAMP:20260422T195212
CREATED:20260311T132628Z
LAST-MODIFIED:20260311T135803Z
UID:10009360-1776011400-1776033000@villaelisa.gov.ar
SUMMARY:Festival Folkloreando
DESCRIPTION: ¡Se viene una jornada llena de alegría y tradición! \n💃 Un gran encuentro de danzas folklóricas\, españolas y tango para disfrutar\, aplaudir y emocionarse. \n🎶 Música\, baile y mucho color en una velada especial para compartir con amigos y en familia en Plazoleta Belgrano. \n🍔 Además\, contaremos con un excelente servicio de cantina y ricas comidas rápidas. \n✨ ¡No te lo pierdas! Vení a vivir una fiesta de cultura\, danza y buena compañía.
URL:https://villaelisa.gov.ar/evento/festival-folkloreando/
LOCATION:Plazoleta Manuel Belgrano\, Villa Elisa
ATTACH;FMTTYPE=image/jpeg:https://villaelisa.gov.ar/wp-content/uploads/2026/03/WhatsApp-Image-2026-03-11-at-10.14.47-AM.jpeg
END:VEVENT
BEGIN:VEVENT
DTSTART;TZID=America/Argentina/Buenos_Aires:20260413T103000
DTEND;TZID=America/Argentina/Buenos_Aires:20260413T130000
DTSTAMP:20260422T195212
CREATED:20260319T195924Z
LAST-MODIFIED:20260319T195924Z
UID:10009402-1776076200-1776085200@villaelisa.gov.ar
SUMMARY:Visitas Guiadas en Estancia Museo El Porvenir
DESCRIPTION:De lunes a viernes (excepto martes) las 10:30 y 12:00 horas\,  pueden realizarse las visitas guiadas gratuitas por la Estancia. \nSi se lo desea\, se puede visitar el lugar en forma independiente (sin visita guiada) de 10:00 a 13:00 y de 16:00 a 19:00 horas\, recordando que también está habilitado el sector del parque recreativo. \nEl valor del bono contribución de ingreso es de $2000 general y $1500 para menores entre 6 y 12 años inclusive\, jubilados y residentes de la micro región “Tierra de Palmares”. \nContacto: 3447436203 – www.museoelporvenir.com.ar
URL:https://villaelisa.gov.ar/evento/visitas-guiadas-en-estancia-museo-el-porvenir-19/2026-04-13/
LOCATION:Estancia Museo “El Porvenir”
ATTACH;FMTTYPE=image/jpeg:https://villaelisa.gov.ar/wp-content/uploads/2026/02/Horarios-marzo-2026-feed.jpeg
END:VEVENT
BEGIN:VEVENT
DTSTART;TZID=America/Argentina/Buenos_Aires:20260415T103000
DTEND;TZID=America/Argentina/Buenos_Aires:20260415T130000
DTSTAMP:20260422T195212
CREATED:20260319T195924Z
LAST-MODIFIED:20260319T195924Z
UID:10009403-1776249000-1776258000@villaelisa.gov.ar
SUMMARY:Visitas Guiadas en Estancia Museo El Porvenir
DESCRIPTION:De lunes a viernes (excepto martes) las 10:30 y 12:00 horas\,  pueden realizarse las visitas guiadas gratuitas por la Estancia. \nSi se lo desea\, se puede visitar el lugar en forma independiente (sin visita guiada) de 10:00 a 13:00 y de 16:00 a 19:00 horas\, recordando que también está habilitado el sector del parque recreativo. \nEl valor del bono contribución de ingreso es de $2000 general y $1500 para menores entre 6 y 12 años inclusive\, jubilados y residentes de la micro región “Tierra de Palmares”. \nContacto: 3447436203 – www.museoelporvenir.com.ar
URL:https://villaelisa.gov.ar/evento/visitas-guiadas-en-estancia-museo-el-porvenir-19/2026-04-15/
LOCATION:Estancia Museo “El Porvenir”
ATTACH;FMTTYPE=image/jpeg:https://villaelisa.gov.ar/wp-content/uploads/2026/02/Horarios-marzo-2026-feed.jpeg
END:VEVENT
BEGIN:VEVENT
DTSTART;TZID=America/Argentina/Buenos_Aires:20260416T103000
DTEND;TZID=America/Argentina/Buenos_Aires:20260416T130000
DTSTAMP:20260422T195213
CREATED:20260319T195924Z
LAST-MODIFIED:20260319T195924Z
UID:10009404-1776335400-1776344400@villaelisa.gov.ar
SUMMARY:Visitas Guiadas en Estancia Museo El Porvenir
DESCRIPTION:De lunes a viernes (excepto martes) las 10:30 y 12:00 horas\,  pueden realizarse las visitas guiadas gratuitas por la Estancia. \nSi se lo desea\, se puede visitar el lugar en forma independiente (sin visita guiada) de 10:00 a 13:00 y de 16:00 a 19:00 horas\, recordando que también está habilitado el sector del parque recreativo. \nEl valor del bono contribución de ingreso es de $2000 general y $1500 para menores entre 6 y 12 años inclusive\, jubilados y residentes de la micro región “Tierra de Palmares”. \nContacto: 3447436203 – www.museoelporvenir.com.ar
URL:https://villaelisa.gov.ar/evento/visitas-guiadas-en-estancia-museo-el-porvenir-19/2026-04-16/
LOCATION:Estancia Museo “El Porvenir”
ATTACH;FMTTYPE=image/jpeg:https://villaelisa.gov.ar/wp-content/uploads/2026/02/Horarios-marzo-2026-feed.jpeg
END:VEVENT
END:VCALENDAR