BEGIN:VCALENDAR
VERSION:2.0
PRODID:-//Municipalidad de Villa Elisa, Entre Ríos - ECPv6.6.4.2//NONSGML v1.0//EN
CALSCALE:GREGORIAN
METHOD:PUBLISH
X-ORIGINAL-URL:https://villaelisa.gov.ar
X-WR-CALDESC:Eventos para Municipalidad de Villa Elisa, Entre Ríos
REFRESH-INTERVAL;VALUE=DURATION:PT1H
X-Robots-Tag:noindex
X-PUBLISHED-TTL:PT1H
BEGIN:VTIMEZONE
TZID:America/Argentina/Buenos_Aires
BEGIN:STANDARD
TZOFFSETFROM:-0300
TZOFFSETTO:-0300
TZNAME:-03
DTSTART:20250101T000000
END:STANDARD
END:VTIMEZONE
BEGIN:VEVENT
DTSTART;TZID=America/Argentina/Buenos_Aires:20250818T103000
DTEND;TZID=America/Argentina/Buenos_Aires:20250818T130000
DTSTAMP:20260424T215402
CREATED:20250724T200626Z
LAST-MODIFIED:20250724T200626Z
UID:10004475-1755513000-1755522000@villaelisa.gov.ar
SUMMARY:Visitas Guiadas en Estancia Museo El Porvenir
DESCRIPTION:Las visitas guiadas pueden realizarse de lunes a viernes (excepto martes) a las 10:30 y 12:00 horas. Si se lo desea\, se puede visitar el lugar en forma independiente (sin visita guiada) de 10:00 a 13:00 y de 15:00 a 18:00 horas\, recordando que también está habilitado el sector del parque recreativo. \nEl valor del bono contribución de ingreso es de $1500 general y $1000 para menores entre 6 y 12 años inclusive\, jubilados y residentes de la micro región “Tierra de Palmares”. \nContacto: 3447436203 – www.museoelporvenir.com.ar
URL:https://villaelisa.gov.ar/evento/visitas-guiadas-en-estancia-museo-el-porvenir-4/2025-08-18/
LOCATION:Estancia Museo “El Porvenir”
ATTACH;FMTTYPE=image/jpeg:https://villaelisa.gov.ar/wp-content/uploads/2025/07/02.8-Horarios-Agosto.jpeg
END:VEVENT
BEGIN:VEVENT
DTSTART;TZID=America/Argentina/Buenos_Aires:20250820T103000
DTEND;TZID=America/Argentina/Buenos_Aires:20250820T130000
DTSTAMP:20260424T215402
CREATED:20250724T200626Z
LAST-MODIFIED:20250724T200626Z
UID:10004476-1755685800-1755694800@villaelisa.gov.ar
SUMMARY:Visitas Guiadas en Estancia Museo El Porvenir
DESCRIPTION:Las visitas guiadas pueden realizarse de lunes a viernes (excepto martes) a las 10:30 y 12:00 horas. Si se lo desea\, se puede visitar el lugar en forma independiente (sin visita guiada) de 10:00 a 13:00 y de 15:00 a 18:00 horas\, recordando que también está habilitado el sector del parque recreativo. \nEl valor del bono contribución de ingreso es de $1500 general y $1000 para menores entre 6 y 12 años inclusive\, jubilados y residentes de la micro región “Tierra de Palmares”. \nContacto: 3447436203 – www.museoelporvenir.com.ar
URL:https://villaelisa.gov.ar/evento/visitas-guiadas-en-estancia-museo-el-porvenir-4/2025-08-20/
LOCATION:Estancia Museo “El Porvenir”
ATTACH;FMTTYPE=image/jpeg:https://villaelisa.gov.ar/wp-content/uploads/2025/07/02.8-Horarios-Agosto.jpeg
END:VEVENT
BEGIN:VEVENT
DTSTART;TZID=America/Argentina/Buenos_Aires:20250820T190000
DTEND;TZID=America/Argentina/Buenos_Aires:20250820T203000
DTSTAMP:20260424T215402
CREATED:20250818T161929Z
LAST-MODIFIED:20250818T162436Z
UID:10004524-1755716400-1755721800@villaelisa.gov.ar
SUMMARY:Presentación del Libro “La Historia del Rey de las Pestañas Largas”
DESCRIPTION:Un viaje literario que nos llevará a conocer una nueva historia que nos estará esperando.
URL:https://villaelisa.gov.ar/evento/presentacion-de-libro/
LOCATION:Biblioteca Popular General Mitre\, Av. Mitre 1160\, Villa Elisa\, 3265
ATTACH;FMTTYPE=image/jpeg:https://villaelisa.gov.ar/wp-content/uploads/2025/08/WhatsApp-Image-2025-08-18-at-1.11.54-PM.jpeg
END:VEVENT
BEGIN:VEVENT
DTSTART;TZID=America/Argentina/Buenos_Aires:20250821T103000
DTEND;TZID=America/Argentina/Buenos_Aires:20250821T130000
DTSTAMP:20260424T215402
CREATED:20250724T200626Z
LAST-MODIFIED:20250724T200626Z
UID:10004477-1755772200-1755781200@villaelisa.gov.ar
SUMMARY:Visitas Guiadas en Estancia Museo El Porvenir
DESCRIPTION:Las visitas guiadas pueden realizarse de lunes a viernes (excepto martes) a las 10:30 y 12:00 horas. Si se lo desea\, se puede visitar el lugar en forma independiente (sin visita guiada) de 10:00 a 13:00 y de 15:00 a 18:00 horas\, recordando que también está habilitado el sector del parque recreativo. \nEl valor del bono contribución de ingreso es de $1500 general y $1000 para menores entre 6 y 12 años inclusive\, jubilados y residentes de la micro región “Tierra de Palmares”. \nContacto: 3447436203 – www.museoelporvenir.com.ar
URL:https://villaelisa.gov.ar/evento/visitas-guiadas-en-estancia-museo-el-porvenir-4/2025-08-21/
LOCATION:Estancia Museo “El Porvenir”
ATTACH;FMTTYPE=image/jpeg:https://villaelisa.gov.ar/wp-content/uploads/2025/07/02.8-Horarios-Agosto.jpeg
END:VEVENT
BEGIN:VEVENT
DTSTART;TZID=America/Argentina/Buenos_Aires:20250821T190000
DTEND;TZID=America/Argentina/Buenos_Aires:20250821T200000
DTSTAMP:20260424T215402
CREATED:20250812T095859Z
LAST-MODIFIED:20250812T095859Z
UID:10004509-1755802800-1755806400@villaelisa.gov.ar
SUMMARY:🎭 “Romeo & Juliet\, a candied story”
DESCRIPTION:Una versión breve y divertida del clásico de Shakespeare\, en formato teatral en inglés\, ideal para fortalecer la comprensión auditiva\, el vocabulario y el vínculo con la literatura desde el juego y el humor. \nDirigido a estudiantes\, docentes e institutos de inglés\, como así también al publico general. \nLa obra es disfrutable y entendible para público desde los 7 años con cualquier nivel de inglés\, ya que la propuesta escénica cuenta con diferentes recursos que apoyan cada escena más allá del idioma. \n👉Edad: Apta para todo público\n👉 Duración: 50 minutos\n👉 Encuentro posterior con el elenco (bilingüe)\n👉 Incluye: material pedagógico por nivel\, con actividades previas y posteriores \n🎭 En escena: Equipo Chefpeare  📕Organiza: Guriescena 🤝Acompaña: Dirección de Cultura de Villa Elisa \nPara consultas y conseguir entradas:\n343 477 6424 / irenemarcilio19@gmail.com / Instagram: guri.escena \n 
URL:https://villaelisa.gov.ar/evento/%f0%9f%8e%ad-romeo-juliet-a-candied-story/
LOCATION:Auditorio Municipal Heraldo N. Peragallo\, Av. Mitre 1301\, Villa Elisa\, 3265
ATTACH;FMTTYPE=image/jpeg:https://villaelisa.gov.ar/wp-content/uploads/2025/08/IMG_0225-min-1-scaled.jpg
END:VEVENT
BEGIN:VEVENT
DTSTART;TZID=America/Argentina/Buenos_Aires:20250822T103000
DTEND;TZID=America/Argentina/Buenos_Aires:20250822T130000
DTSTAMP:20260424T215402
CREATED:20250724T200626Z
LAST-MODIFIED:20250724T200626Z
UID:10004478-1755858600-1755867600@villaelisa.gov.ar
SUMMARY:Visitas Guiadas en Estancia Museo El Porvenir
DESCRIPTION:Las visitas guiadas pueden realizarse de lunes a viernes (excepto martes) a las 10:30 y 12:00 horas. Si se lo desea\, se puede visitar el lugar en forma independiente (sin visita guiada) de 10:00 a 13:00 y de 15:00 a 18:00 horas\, recordando que también está habilitado el sector del parque recreativo. \nEl valor del bono contribución de ingreso es de $1500 general y $1000 para menores entre 6 y 12 años inclusive\, jubilados y residentes de la micro región “Tierra de Palmares”. \nContacto: 3447436203 – www.museoelporvenir.com.ar
URL:https://villaelisa.gov.ar/evento/visitas-guiadas-en-estancia-museo-el-porvenir-4/2025-08-22/
LOCATION:Estancia Museo “El Porvenir”
ATTACH;FMTTYPE=image/jpeg:https://villaelisa.gov.ar/wp-content/uploads/2025/07/02.8-Horarios-Agosto.jpeg
END:VEVENT
BEGIN:VEVENT
DTSTART;TZID=America/Argentina/Buenos_Aires:20250823T150000
DTEND;TZID=America/Argentina/Buenos_Aires:20250823T183000
DTSTAMP:20260424T215402
CREATED:20250819T151434Z
LAST-MODIFIED:20250819T151434Z
UID:10004259-1755961200-1755973800@villaelisa.gov.ar
SUMMARY:Estación Elisa - Ferroclub Central Entrerriano
DESCRIPTION:  \nDesde las 15:00 estará abierta la estación Elisa donde encontrarás maquinarias y elementos de época a las 15:30 hs. habrá paseos en el tren histórico turístico para vivir una gran experiencia. \nCalle Centenario 2200 \nConsultas al 3442 551086
URL:https://villaelisa.gov.ar/evento/ferroclub-central-entrerriano-6-2-2-2-5-6/2025-08-23/
LOCATION:Ferroclub Central Entrerriano\, Centenario y Arenales\, Villa Elisa\, 3265
ATTACH;FMTTYPE=image/jpeg:https://villaelisa.gov.ar/wp-content/uploads/2025/01/IMG_20231210_175944197-scaled.jpg
END:VEVENT
BEGIN:VEVENT
DTSTART;TZID=America/Argentina/Buenos_Aires:20250823T170000
DTEND;TZID=America/Argentina/Buenos_Aires:20250823T213000
DTSTAMP:20260424T215402
CREATED:20250822T145057Z
LAST-MODIFIED:20250822T145230Z
UID:10004563-1755968400-1755984600@villaelisa.gov.ar
SUMMARY:Fútbol Departamental
DESCRIPTION:Se juega este sábado 23 de agosto\, la segunda fecha del clausura del Fútbol Departamental y Cave recibe a Ubajay en el Estadio “2 de junio”. \n3ra división: 17:00 hs. \n1ra división: 19:15 hs.
URL:https://villaelisa.gov.ar/evento/futbol-departamental-3/
LOCATION:CAVE Estadio 2 de Junio
ATTACH;FMTTYPE=image/jpeg:https://villaelisa.gov.ar/wp-content/uploads/2025/08/WhatsApp-Image-2025-08-22-at-11.46.35-AM.jpeg
END:VEVENT
BEGIN:VEVENT
DTSTART;TZID=America/Argentina/Buenos_Aires:20250823T200000
DTEND;TZID=America/Argentina/Buenos_Aires:20250823T220000
DTSTAMP:20260424T215402
CREATED:20250805T142237Z
LAST-MODIFIED:20250805T145300Z
UID:10004494-1755979200-1755986400@villaelisa.gov.ar
SUMMARY:Ciclo Acústico " Ese amigo del alma"
DESCRIPTION:Noche de música en formato acustico\, junto al Trio ” Ese amigo del alma” integrado por Daniela Velzi\, Aldo Vela\, José Pascal\, estos amigos  músicos \, nos deleitarán con un amplio recorrido con melodias de Candombe\, Murga Canción y algo de folclore. \nTendremos el agrado de que se sumen más amigos músicos esa noche. \nContaremos con una amplia cantina\, comida casera rica y calentita para alimentar el alma.
URL:https://villaelisa.gov.ar/evento/ciclo-acustico-ese-amigo-del-alma/
LOCATION:La ENREDADA\, FRANCOU 1548\, Villa Elisa\, 3265
ATTACH;FMTTYPE=image/png:https://villaelisa.gov.ar/wp-content/uploads/2025/08/Ciclo-Acustico-1.png
END:VEVENT
BEGIN:VEVENT
DTSTART;TZID=America/Argentina/Buenos_Aires:20250823T200000
DTEND;TZID=America/Argentina/Buenos_Aires:20250824T030000
DTSTAMP:20260424T215402
CREATED:20250818T123531Z
LAST-MODIFIED:20250818T123531Z
UID:10004523-1755979200-1756004400@villaelisa.gov.ar
SUMMARY:Música en Monkeys
DESCRIPTION:Una noche imperdible para compartir todos juntos.
URL:https://villaelisa.gov.ar/evento/musica-en-monkeys-3/
LOCATION:Monkeys\, Bv Schroeder y T. del Pilar
ATTACH;FMTTYPE=image/jpeg:https://villaelisa.gov.ar/wp-content/uploads/2025/08/WhatsApp-Image-2025-08-18-at-9.33.19-AM.jpeg
END:VEVENT
BEGIN:VEVENT
DTSTART;TZID=America/Argentina/Buenos_Aires:20250823T203000
DTEND;TZID=America/Argentina/Buenos_Aires:20250823T220000
DTSTAMP:20260424T215402
CREATED:20250820T150016Z
LAST-MODIFIED:20250820T174127Z
UID:10004531-1755981000-1755986400@villaelisa.gov.ar
SUMMARY:"Expertos en Pinchazos" Película en Cine Paradiso
DESCRIPTION:Expertos en pinchazos es una película cómica argentina\, cuyos protagonistas principales son el dúo cómico de Alberto Olmedo y Jorge Porcel junto a Moria Casán y otros talentosos actores. \nEn Cine Paradiso de Alvear 942 Entrada solo $1000
URL:https://villaelisa.gov.ar/evento/expertos-en-pinchazos-pelicula-en-cine-paradiso/
LOCATION:Cine Paradiso\, Gral. Alvear 942\, Villa Elisa\, 3265
ATTACH;FMTTYPE=image/jpeg:https://villaelisa.gov.ar/wp-content/uploads/2025/08/WhatsApp-Image-2025-08-20-at-11.56.28-AM.jpeg
END:VEVENT
BEGIN:VEVENT
DTSTART;TZID=America/Argentina/Buenos_Aires:20250823T210000
DTEND;TZID=America/Argentina/Buenos_Aires:20250823T210000
DTSTAMP:20260424T215402
CREATED:20250818T180923Z
LAST-MODIFIED:20250818T180957Z
UID:10004525-1755982800-1755982800@villaelisa.gov.ar
SUMMARY:Super Mega Bailazo con Los Charros
DESCRIPTION:En una baile que será inolvidable la actuación de Leo Milezzi y los grandes éxitos de Los Charros
URL:https://villaelisa.gov.ar/evento/super-mega-bailazo-con-los-charros/
LOCATION:Club Vazquez\, Ruta provincial 23\, km8\, Villa Elisa\, Entre Rios\, 3265\, Argentina
ATTACH;FMTTYPE=image/jpeg:https://villaelisa.gov.ar/wp-content/uploads/2025/08/WhatsApp-Image-2025-08-18-at-3.05.46-PM.jpeg
END:VEVENT
BEGIN:VEVENT
DTSTART;TZID=America/Argentina/Buenos_Aires:20250823T210000
DTEND;TZID=America/Argentina/Buenos_Aires:20250823T233000
DTSTAMP:20260424T215402
CREATED:20250207T122600Z
LAST-MODIFIED:20250822T143600Z
UID:10003588-1755982800-1755991800@villaelisa.gov.ar
SUMMARY:Cena Show en El Paso
DESCRIPTION:Una exquisita cena acompañada del excelente show de Anibal Agüero es un planazo para disfrutar un buen momento en Parrilla Restaurante El Paso de Av. Urquiza 3145.
URL:https://villaelisa.gov.ar/evento/cena-show-en-el-paso/
LOCATION:Parrilla El Paso\, Av. Urquiza 3145\, Villa Elisa\, 3265
ATTACH;FMTTYPE=image/jpeg:https://villaelisa.gov.ar/wp-content/uploads/2025/02/WhatsApp-Image-2025-08-21-at-9.08.02-AM.jpeg
END:VEVENT
BEGIN:VEVENT
DTSTART;TZID=America/Argentina/Buenos_Aires:20250823T210000
DTEND;TZID=America/Argentina/Buenos_Aires:20250824T030000
DTSTAMP:20260424T215402
CREATED:20250811T131224Z
LAST-MODIFIED:20250811T131224Z
UID:10004507-1755982800-1756004400@villaelisa.gov.ar
SUMMARY:GRAN BAILE
DESCRIPTION:SÁBADO 23 DE AGOSTO  \nGRAN BAILE CON BETOLA BOURLOT 
URL:https://villaelisa.gov.ar/evento/gran-baile-14/
LOCATION:Centro María Auxiliadora\, H. Irigoyen 1269\, Villa Elisa
ATTACH;FMTTYPE=image/jpeg:https://villaelisa.gov.ar/wp-content/uploads/2025/08/InShot_20250811_090227758-scaled.jpg
END:VEVENT
BEGIN:VEVENT
DTSTART;TZID=America/Argentina/Buenos_Aires:20250824T100000
DTEND;TZID=America/Argentina/Buenos_Aires:20250824T130000
DTSTAMP:20260424T215402
CREATED:20241104T113404Z
LAST-MODIFIED:20241104T113404Z
UID:10002235-1756029600-1756040400@villaelisa.gov.ar
SUMMARY:Auto Tour
DESCRIPTION:TRAVELING VINA:  \nEs un servicio  extra\, que ofrece el complejo de Alojamientos “V I N A” \nExperiencia Rurales\, AUTO TOUR:  \nPlanificamos y coordinamos recorridos por bodegas\, fábricas de productos regionales\, y almacenes locales\, te llevamos a descubrir La Colonia\, cultura local y los paisajes mas hermosos de nuestra Tierra de Palmares.- \nOrganizado por Perla Lopez – \nReservas con anticipación: contacto 3447503491.- \nValor del recorrido: según destino elegido. \nTiempo demandado: aproximadamente 3 horas.- \nEl objetivo es formar una caravana\, con los vehículos de los interesados y hacer\, una mañana o una tarde de recorridos a los diferentes atractivos de nuestra zona  \nprevia coordinación.- \nPunto de salida: oficina de Turismo Villa Elisa.-
URL:https://villaelisa.gov.ar/evento/auto-tour/2025-08-24/
ATTACH;FMTTYPE=image/jpeg:https://villaelisa.gov.ar/wp-content/uploads/2024/11/Traveling-vina.jpg
END:VEVENT
BEGIN:VEVENT
DTSTART;TZID=America/Argentina/Buenos_Aires:20250824T110000
DTEND;TZID=America/Argentina/Buenos_Aires:20250824T160000
DTSTAMP:20260424T215402
CREATED:20250822T145738Z
LAST-MODIFIED:20250822T162208Z
UID:10004564-1756033200-1756051200@villaelisa.gov.ar
SUMMARY:Básquetbol en Villa Elisa
DESCRIPTION:Mini masculino juega otra fecha del Torneo Internasociativo Colón-Villaguay\, CAVE recibe al Club Adev.
URL:https://villaelisa.gov.ar/evento/basquetbol-en-villa-elisa-2/
LOCATION:Estadio cerrado CAVE\, Emilio Francou e Irigoyen\, Villa Elisa\, 3264
ATTACH;FMTTYPE=image/jpeg:https://villaelisa.gov.ar/wp-content/uploads/2025/08/WhatsApp-Image-2025-08-22-at-11.40.01-AM.jpeg
GEO:-32.164117;-58.397421
X-APPLE-STRUCTURED-LOCATION;VALUE=URI;X-ADDRESS=Estadio cerrado CAVE Emilio Francou e Irigoyen Villa Elisa 3264;X-APPLE-RADIUS=500;X-TITLE=Emilio Francou e Irigoyen:geo:-58.397421,-32.164117
END:VEVENT
BEGIN:VEVENT
DTSTART;TZID=America/Argentina/Buenos_Aires:20250824T130000
DTEND;TZID=America/Argentina/Buenos_Aires:20250824T180000
DTSTAMP:20260424T215402
CREATED:20250822T123913Z
LAST-MODIFIED:20250822T123913Z
UID:10004562-1756040400-1756058400@villaelisa.gov.ar
SUMMARY:Promo 25 y Festejos Estudiantiles
DESCRIPTION:Ya palpitando la primavera y el día del estudiante comienzan las actividades y celebraciones.
URL:https://villaelisa.gov.ar/evento/promo-25-y-festejos-estudiantiles/
LOCATION:Polideportivo Municipal\, Bv. Churruarín y Héctor de Elía
ATTACH;FMTTYPE=image/jpeg:https://villaelisa.gov.ar/wp-content/uploads/2025/08/WhatsApp-Image-2025-08-22-at-9.34.01-AM.jpeg
END:VEVENT
BEGIN:VEVENT
DTSTART;TZID=America/Argentina/Buenos_Aires:20250824T150000
DTEND;TZID=America/Argentina/Buenos_Aires:20250824T183000
DTSTAMP:20260424T215402
CREATED:20250819T153906Z
LAST-MODIFIED:20250819T153907Z
UID:10004372-1756047600-1756060200@villaelisa.gov.ar
SUMMARY:Estación Elisa - Ferroclub Central Entrerriano
DESCRIPTION:  \nDesde las 15:00 estará abierta la estación Elisa donde encontrarás maquinarias y elementos de época a las 15:30 hs. habrá paseos en el tren histórico turístico para vivir una gran experiencia. \nCalle Centenario 2200 \nConsultas al 3442 551086
URL:https://villaelisa.gov.ar/evento/ferroclub-central-entrerriano-6-2-2-2-5-6-2/
LOCATION:Ferroclub Central Entrerriano\, Centenario y Arenales\, Villa Elisa\, 3265
ATTACH;FMTTYPE=image/jpeg:https://villaelisa.gov.ar/wp-content/uploads/2025/01/IMG_20231210_175944197-scaled.jpg
END:VEVENT
BEGIN:VEVENT
DTSTART;TZID=America/Argentina/Buenos_Aires:20250824T180000
DTEND;TZID=America/Argentina/Buenos_Aires:20250824T210000
DTSTAMP:20260424T215402
CREATED:20250819T150356Z
LAST-MODIFIED:20250822T130228Z
UID:10004527-1756058400-1756069200@villaelisa.gov.ar
SUMMARY:"El Bailongo" en Centro Unión
DESCRIPTION:Grupo de Teatro Comunitario de La Clarita te invita a disfrutar de una genial y divertida obra de teatro. \n“El Bailongo”\, dirigido por Eduardo Velázquez. Esta obra nos lleva a los recuerdos donde la radio rural era el único medio de información para las familias de las colonias\, informando sobre los acontecimientos sociales y donde no podía faltar la invitación a la pista de baile para disfrutar con las orquestas típicas y disfrutar del Bailongo. Luego de la función\, seguiremos con la música. El Centro de Jubilados Villa Elisa tendrá servicio de cantina y comidas rápidas.
URL:https://villaelisa.gov.ar/evento/el-bailongo/
LOCATION:Centro Unión de Jubilados\, El Ñandubay 1475
ATTACH;FMTTYPE=image/png:https://villaelisa.gov.ar/wp-content/uploads/2025/08/El-Bailongoa.png
END:VEVENT
END:VCALENDAR