BEGIN:VCALENDAR
VERSION:2.0
PRODID:-//Municipalidad de Villa Elisa, Entre Ríos - ECPv6.6.4.2//NONSGML v1.0//EN
CALSCALE:GREGORIAN
METHOD:PUBLISH
X-WR-CALNAME:Municipalidad de Villa Elisa, Entre Ríos
X-ORIGINAL-URL:https://villaelisa.gov.ar
X-WR-CALDESC:Eventos para Municipalidad de Villa Elisa, Entre Ríos
REFRESH-INTERVAL;VALUE=DURATION:PT1H
X-Robots-Tag:noindex
X-PUBLISHED-TTL:PT1H
BEGIN:VTIMEZONE
TZID:America/Argentina/Buenos_Aires
BEGIN:STANDARD
TZOFFSETFROM:-0300
TZOFFSETTO:-0300
TZNAME:-03
DTSTART:20250101T000000
END:STANDARD
END:VTIMEZONE
BEGIN:VEVENT
DTSTART;TZID=America/Argentina/Buenos_Aires:20250825T103000
DTEND;TZID=America/Argentina/Buenos_Aires:20250825T130000
DTSTAMP:20260424T180834
CREATED:20250724T200626Z
LAST-MODIFIED:20250724T200626Z
UID:10004479-1756117800-1756126800@villaelisa.gov.ar
SUMMARY:Visitas Guiadas en Estancia Museo El Porvenir
DESCRIPTION:Las visitas guiadas pueden realizarse de lunes a viernes (excepto martes) a las 10:30 y 12:00 horas. Si se lo desea\, se puede visitar el lugar en forma independiente (sin visita guiada) de 10:00 a 13:00 y de 15:00 a 18:00 horas\, recordando que también está habilitado el sector del parque recreativo. \nEl valor del bono contribución de ingreso es de $1500 general y $1000 para menores entre 6 y 12 años inclusive\, jubilados y residentes de la micro región “Tierra de Palmares”. \nContacto: 3447436203 – www.museoelporvenir.com.ar
URL:https://villaelisa.gov.ar/evento/visitas-guiadas-en-estancia-museo-el-porvenir-4/2025-08-25/
LOCATION:Estancia Museo “El Porvenir”
ATTACH;FMTTYPE=image/jpeg:https://villaelisa.gov.ar/wp-content/uploads/2025/07/02.8-Horarios-Agosto.jpeg
END:VEVENT
BEGIN:VEVENT
DTSTART;TZID=America/Argentina/Buenos_Aires:20250826T080000
DTEND;TZID=America/Argentina/Buenos_Aires:20250826T170000
DTSTAMP:20260424T180834
CREATED:20250826T143758Z
LAST-MODIFIED:20250826T143758Z
UID:10004567-1756195200-1756227600@villaelisa.gov.ar
SUMMARY:Kerigma
DESCRIPTION:Música y cuarteto católico en explanada de Parroquia Natividad de Ntra Señora
URL:https://villaelisa.gov.ar/evento/kerigma/
LOCATION:Parroquia Virgen Niña
ATTACH;FMTTYPE=image/jpeg:https://villaelisa.gov.ar/wp-content/uploads/2025/08/WhatsApp-Image-2025-08-26-at-11.19.24-AM.jpeg
END:VEVENT
BEGIN:VEVENT
DTSTART;TZID=America/Argentina/Buenos_Aires:20250827T103000
DTEND;TZID=America/Argentina/Buenos_Aires:20250827T130000
DTSTAMP:20260424T180834
CREATED:20250724T200626Z
LAST-MODIFIED:20250724T200626Z
UID:10004480-1756290600-1756299600@villaelisa.gov.ar
SUMMARY:Visitas Guiadas en Estancia Museo El Porvenir
DESCRIPTION:Las visitas guiadas pueden realizarse de lunes a viernes (excepto martes) a las 10:30 y 12:00 horas. Si se lo desea\, se puede visitar el lugar en forma independiente (sin visita guiada) de 10:00 a 13:00 y de 15:00 a 18:00 horas\, recordando que también está habilitado el sector del parque recreativo. \nEl valor del bono contribución de ingreso es de $1500 general y $1000 para menores entre 6 y 12 años inclusive\, jubilados y residentes de la micro región “Tierra de Palmares”. \nContacto: 3447436203 – www.museoelporvenir.com.ar
URL:https://villaelisa.gov.ar/evento/visitas-guiadas-en-estancia-museo-el-porvenir-4/2025-08-27/
LOCATION:Estancia Museo “El Porvenir”
ATTACH;FMTTYPE=image/jpeg:https://villaelisa.gov.ar/wp-content/uploads/2025/07/02.8-Horarios-Agosto.jpeg
END:VEVENT
BEGIN:VEVENT
DTSTART;TZID=America/Argentina/Buenos_Aires:20250827T203000
DTEND;TZID=America/Argentina/Buenos_Aires:20250827T213000
DTSTAMP:20260424T180834
CREATED:20250820T122202Z
LAST-MODIFIED:20250820T122202Z
UID:10004530-1756326600-1756330200@villaelisa.gov.ar
SUMMARY:Viajá con nosotros por Villa Elisa!!!
DESCRIPTION:La Orientación en Turismo del ICPA D-70 invita a la comunidad a participar de una jornada para redescubrir nuestra ciudad. \nEl miércoles 27 de agosto\, desde las 20:30 horas en el Salón Heraldo Peragallo\, se vivirá una experiencia que permitirá recorrer la historia de Villa Elisa desde sus inicios hasta la actualidad. \nLos asistentes podrán sumergirse en un verdadero viaje en el tiempo\, comprendiendo cómo nuestra ciudad fue creciendo y transformándose hasta convertirse en lo que es hoy. \nUna propuesta abierta para vecinos\, familias y visitantes\, pensada para valorar nuestras raíces y proyectar nuestro futuro. \n¡Te esperamos para viajar juntos por Villa Elisa!
URL:https://villaelisa.gov.ar/evento/viaja-con-nosotros-por-villa-elisa/
LOCATION:Casa de la Cultura H. Peragallo
ATTACH;FMTTYPE=image/jpeg:https://villaelisa.gov.ar/wp-content/uploads/2025/08/WhatsApp-Image-2025-08-20-at-9.12.45-AM.jpeg
END:VEVENT
BEGIN:VEVENT
DTSTART;TZID=America/Argentina/Buenos_Aires:20250828T103000
DTEND;TZID=America/Argentina/Buenos_Aires:20250828T130000
DTSTAMP:20260424T180834
CREATED:20250724T200626Z
LAST-MODIFIED:20250724T200626Z
UID:10004481-1756377000-1756386000@villaelisa.gov.ar
SUMMARY:Visitas Guiadas en Estancia Museo El Porvenir
DESCRIPTION:Las visitas guiadas pueden realizarse de lunes a viernes (excepto martes) a las 10:30 y 12:00 horas. Si se lo desea\, se puede visitar el lugar en forma independiente (sin visita guiada) de 10:00 a 13:00 y de 15:00 a 18:00 horas\, recordando que también está habilitado el sector del parque recreativo. \nEl valor del bono contribución de ingreso es de $1500 general y $1000 para menores entre 6 y 12 años inclusive\, jubilados y residentes de la micro región “Tierra de Palmares”. \nContacto: 3447436203 – www.museoelporvenir.com.ar
URL:https://villaelisa.gov.ar/evento/visitas-guiadas-en-estancia-museo-el-porvenir-4/2025-08-28/
LOCATION:Estancia Museo “El Porvenir”
ATTACH;FMTTYPE=image/jpeg:https://villaelisa.gov.ar/wp-content/uploads/2025/07/02.8-Horarios-Agosto.jpeg
END:VEVENT
BEGIN:VEVENT
DTSTART;TZID=America/Argentina/Buenos_Aires:20250829T103000
DTEND;TZID=America/Argentina/Buenos_Aires:20250829T130000
DTSTAMP:20260424T180834
CREATED:20250724T200626Z
LAST-MODIFIED:20250724T200626Z
UID:10004482-1756463400-1756472400@villaelisa.gov.ar
SUMMARY:Visitas Guiadas en Estancia Museo El Porvenir
DESCRIPTION:Las visitas guiadas pueden realizarse de lunes a viernes (excepto martes) a las 10:30 y 12:00 horas. Si se lo desea\, se puede visitar el lugar en forma independiente (sin visita guiada) de 10:00 a 13:00 y de 15:00 a 18:00 horas\, recordando que también está habilitado el sector del parque recreativo. \nEl valor del bono contribución de ingreso es de $1500 general y $1000 para menores entre 6 y 12 años inclusive\, jubilados y residentes de la micro región “Tierra de Palmares”. \nContacto: 3447436203 – www.museoelporvenir.com.ar
URL:https://villaelisa.gov.ar/evento/visitas-guiadas-en-estancia-museo-el-porvenir-4/2025-08-29/
LOCATION:Estancia Museo “El Porvenir”
ATTACH;FMTTYPE=image/jpeg:https://villaelisa.gov.ar/wp-content/uploads/2025/07/02.8-Horarios-Agosto.jpeg
END:VEVENT
BEGIN:VEVENT
DTSTART;TZID=America/Argentina/Buenos_Aires:20250829T130000
DTEND;TZID=America/Argentina/Buenos_Aires:20250829T203000
DTSTAMP:20260424T180834
CREATED:20250826T161646Z
LAST-MODIFIED:20250826T161646Z
UID:10004569-1756472400-1756499400@villaelisa.gov.ar
SUMMARY:Campeonato Provincial de Fútbol Infantil
DESCRIPTION:Primera jornada de este certamen donde participan las categorias 2015 de clubes entrerrianos.
URL:https://villaelisa.gov.ar/evento/campeonato-provincial-de-futbol-infantil/
LOCATION:CAVE Estadio 2 de Junio
ATTACH;FMTTYPE=image/jpeg:https://villaelisa.gov.ar/wp-content/uploads/2025/08/WhatsApp-Image-2025-08-26-at-1.09.25-PM.jpeg
END:VEVENT
BEGIN:VEVENT
DTSTART;TZID=America/Argentina/Buenos_Aires:20250829T163000
DTEND;TZID=America/Argentina/Buenos_Aires:20250829T173000
DTSTAMP:20260424T180834
CREATED:20250829T115843Z
LAST-MODIFIED:20250829T115843Z
UID:10004574-1756485000-1756488600@villaelisa.gov.ar
SUMMARY:45°Aniversario Bomberos Voluntarios Villa Elisa
DESCRIPTION:16:30 Descubrimiento de placa en honor al 45 Aniversario de Sociedad de Bomberos Voluntarios Villa Elisa E Rios en monumento al Bombero Av Urquiza y Bv Schroeder.
URL:https://villaelisa.gov.ar/evento/45aniversario-bomberos-voluntarios-villa-elisa/
ATTACH;FMTTYPE=image/jpeg:https://villaelisa.gov.ar/wp-content/uploads/2025/08/WhatsApp-Image-2025-08-28-at-6.08.42-PM.jpeg
END:VEVENT
BEGIN:VEVENT
DTSTART;TZID=America/Argentina/Buenos_Aires:20250829T200000
DTEND;TZID=America/Argentina/Buenos_Aires:20250829T213000
DTSTAMP:20260424T180834
CREATED:20250821T165426Z
LAST-MODIFIED:20250821T165426Z
UID:10004561-1756497600-1756503000@villaelisa.gov.ar
SUMMARY:Charla sobre Ludopatía
DESCRIPTION:Disertantes ofreceran una charla sobre esta problemática tan en auge actualmente.
URL:https://villaelisa.gov.ar/evento/charla-sobre-ludopatia/
LOCATION:Asociación Civil La Fragua\, Héctor de Elía 1489\, Villa Elisa\, 3265
ATTACH;FMTTYPE=image/jpeg:https://villaelisa.gov.ar/wp-content/uploads/2025/08/WhatsApp-Image-2025-08-21-at-1.35.06-PM.jpeg
END:VEVENT
BEGIN:VEVENT
DTSTART;TZID=America/Argentina/Buenos_Aires:20250830T090000
DTEND;TZID=America/Argentina/Buenos_Aires:20250830T213000
DTSTAMP:20260424T180834
CREATED:20250826T161928Z
LAST-MODIFIED:20250826T161928Z
UID:10004570-1756544400-1756589400@villaelisa.gov.ar
SUMMARY:Campeonato Provincial de Fútbol Infantil
DESCRIPTION:Primera jornada de este certamen donde participan las categorias 2015 de clubes entrerrianos.
URL:https://villaelisa.gov.ar/evento/campeonato-provincial-de-futbol-infantil-2/
LOCATION:CAVE Estadio 2 de Junio
ATTACH;FMTTYPE=image/jpeg:https://villaelisa.gov.ar/wp-content/uploads/2025/08/WhatsApp-Image-2025-08-26-at-1.09.25-PM.jpeg
END:VEVENT
BEGIN:VEVENT
DTSTART;TZID=America/Argentina/Buenos_Aires:20250830T150000
DTEND;TZID=America/Argentina/Buenos_Aires:20250830T183000
DTSTAMP:20260424T180834
CREATED:20250819T151434Z
LAST-MODIFIED:20250819T151434Z
UID:10004261-1756566000-1756578600@villaelisa.gov.ar
SUMMARY:Estación Elisa - Ferroclub Central Entrerriano
DESCRIPTION:  \nDesde las 15:00 estará abierta la estación Elisa donde encontrarás maquinarias y elementos de época a las 15:30 hs. habrá paseos en el tren histórico turístico para vivir una gran experiencia. \nCalle Centenario 2200 \nConsultas al 3442 551086
URL:https://villaelisa.gov.ar/evento/ferroclub-central-entrerriano-6-2-2-2-5-6/2025-08-30/
LOCATION:Ferroclub Central Entrerriano\, Centenario y Arenales\, Villa Elisa\, 3265
ATTACH;FMTTYPE=image/jpeg:https://villaelisa.gov.ar/wp-content/uploads/2025/01/IMG_20231210_175944197-scaled.jpg
END:VEVENT
BEGIN:VEVENT
DTSTART;TZID=America/Argentina/Buenos_Aires:20250830T203000
DTEND;TZID=America/Argentina/Buenos_Aires:20250830T220000
DTSTAMP:20260424T180834
CREATED:20250828T124226Z
LAST-MODIFIED:20250828T124226Z
UID:10004573-1756585800-1756591200@villaelisa.gov.ar
SUMMARY:"Seguridad Nacional" en Cine Paradiso
DESCRIPTION:Una pelicula graciosa y muy entretenida en Cine Paradiso de Alvear 942 Entrada solo $1000
URL:https://villaelisa.gov.ar/evento/seguridad-nacional-en-cine-paradiso/
LOCATION:Cine Paradiso\, Gral. Alvear 942\, Villa Elisa\, 3265
ATTACH;FMTTYPE=image/jpeg:https://villaelisa.gov.ar/wp-content/uploads/2025/08/WhatsApp-Image-2025-08-28-at-9.39.09-AM.jpeg
END:VEVENT
BEGIN:VEVENT
DTSTART;TZID=America/Argentina/Buenos_Aires:20250831T090000
DTEND;TZID=America/Argentina/Buenos_Aires:20250831T153000
DTSTAMP:20260424T180834
CREATED:20250826T162419Z
LAST-MODIFIED:20250826T162419Z
UID:10004571-1756630800-1756654200@villaelisa.gov.ar
SUMMARY:Campeonato Provincial de Fútbol Provincial
DESCRIPTION:Primera jornada de este certamen donde participan las categorias 2015 de clubes entrerrianos.
URL:https://villaelisa.gov.ar/evento/campeonato-provincial-de-futbol-provincial/
LOCATION:CAVE Estadio 2 de Junio
ATTACH;FMTTYPE=image/jpeg:https://villaelisa.gov.ar/wp-content/uploads/2025/08/WhatsApp-Image-2025-08-26-at-1.09.25-PM.jpeg
END:VEVENT
BEGIN:VEVENT
DTSTART;TZID=America/Argentina/Buenos_Aires:20250831T100000
DTEND;TZID=America/Argentina/Buenos_Aires:20250831T130000
DTSTAMP:20260424T180834
CREATED:20241104T113404Z
LAST-MODIFIED:20241104T113404Z
UID:10002236-1756634400-1756645200@villaelisa.gov.ar
SUMMARY:Auto Tour
DESCRIPTION:TRAVELING VINA:  \nEs un servicio  extra\, que ofrece el complejo de Alojamientos “V I N A” \nExperiencia Rurales\, AUTO TOUR:  \nPlanificamos y coordinamos recorridos por bodegas\, fábricas de productos regionales\, y almacenes locales\, te llevamos a descubrir La Colonia\, cultura local y los paisajes mas hermosos de nuestra Tierra de Palmares.- \nOrganizado por Perla Lopez – \nReservas con anticipación: contacto 3447503491.- \nValor del recorrido: según destino elegido. \nTiempo demandado: aproximadamente 3 horas.- \nEl objetivo es formar una caravana\, con los vehículos de los interesados y hacer\, una mañana o una tarde de recorridos a los diferentes atractivos de nuestra zona  \nprevia coordinación.- \nPunto de salida: oficina de Turismo Villa Elisa.-
URL:https://villaelisa.gov.ar/evento/auto-tour/2025-08-31/
ATTACH;FMTTYPE=image/jpeg:https://villaelisa.gov.ar/wp-content/uploads/2024/11/Traveling-vina.jpg
END:VEVENT
BEGIN:VEVENT
DTSTART;TZID=America/Argentina/Buenos_Aires:20250831T150000
DTEND;TZID=America/Argentina/Buenos_Aires:20250831T183000
DTSTAMP:20260424T180834
CREATED:20250819T192453Z
LAST-MODIFIED:20250819T192453Z
UID:10004373-1756652400-1756665000@villaelisa.gov.ar
SUMMARY:Estación Elisa - Ferroclub Central Entrerriano
DESCRIPTION:  \nDesde las 15:00 estará abierta la estación Elisa donde encontrarás maquinarias y elementos de época a las 15:30 hs. habrá paseos en el tren histórico turístico para vivir una gran experiencia. \nCalle Centenario 2200 \nConsultas al 3442 551086
URL:https://villaelisa.gov.ar/evento/ferroclub-central-entrerriano-6-2-2-2-5-6-3/
LOCATION:Ferroclub Central Entrerriano\, Centenario y Arenales\, Villa Elisa\, 3265
ATTACH;FMTTYPE=image/jpeg:https://villaelisa.gov.ar/wp-content/uploads/2025/01/IMG_20231210_175944197-scaled.jpg
END:VEVENT
END:VCALENDAR