BEGIN:VCALENDAR
VERSION:2.0
PRODID:-//Municipalidad de Villa Elisa, Entre Ríos - ECPv6.6.4.2//NONSGML v1.0//EN
CALSCALE:GREGORIAN
METHOD:PUBLISH
X-ORIGINAL-URL:https://villaelisa.gov.ar
X-WR-CALDESC:Eventos para Municipalidad de Villa Elisa, Entre Ríos
REFRESH-INTERVAL;VALUE=DURATION:PT1H
X-Robots-Tag:noindex
X-PUBLISHED-TTL:PT1H
BEGIN:VTIMEZONE
TZID:America/Argentina/Buenos_Aires
BEGIN:STANDARD
TZOFFSETFROM:-0300
TZOFFSETTO:-0300
TZNAME:-03
DTSTART:20250101T000000
END:STANDARD
END:VTIMEZONE
BEGIN:VEVENT
DTSTART;TZID=America/Argentina/Buenos_Aires:20250909T000000
DTEND;TZID=America/Argentina/Buenos_Aires:20250929T235900
DTSTAMP:20260424T110150
CREATED:20250909T151441Z
LAST-MODIFIED:20250919T153813Z
UID:10004606-1757376000-1759190340@villaelisa.gov.ar
SUMMARY:PRIMAVERA 2025 EN VILLA ELISA-Promo estudiantil 2025
DESCRIPTION:El programa contempla semana de JUEGOS en el Polideportivo Municipal desde el lunes 8 al viernes 12. \nMientras que el DESFILE DE ANTORCHAS será el sábado 28 y la tradicional QUEMA DEL MUÑECO el domingo 29 de septiembre.
URL:https://villaelisa.gov.ar/evento/primavera-2025-en-villa-elisa-promo-estudiantil-2025/2025-09-09/3/
ATTACH;FMTTYPE=image/jpeg:https://villaelisa.gov.ar/wp-content/uploads/2025/09/WhatsApp-Image-2025-09-09-at-12.02.39-PM.jpeg
END:VEVENT
BEGIN:VEVENT
DTSTART;TZID=America/Argentina/Buenos_Aires:20250929T180000
DTEND;TZID=America/Argentina/Buenos_Aires:20250929T193000
DTSTAMP:20260424T110150
CREATED:20250628T215153Z
LAST-MODIFIED:20250919T161545Z
UID:10004338-1759168800-1759174200@villaelisa.gov.ar
SUMMARY:Caminatur
DESCRIPTION:En este “Día Internacional del Turismo” todos invitados a una experiencia inolvidable\n🚶🏻‍♀️👨🏼‍🦽🚶🏽‍♂️🚶🏼‍♀️🚶🏼 \nAl visitar nuestra ciudad\, el turista disfruta con esta propuesta en la cual se siente protagonista!!!\nDescubriendo a través de entretenidos circuitos guiados\, curiosidades y lugares poco conocidos de los espacios públicos que generalmente no se ven\, conectando con la historia\, cultura y naturaleza local. \nReservas e información 3447456151\nGraciela Antonin\nGuía Nacional de Turismo \nMat. 0054 COPROTUER
URL:https://villaelisa.gov.ar/evento/caminatur-2/
ATTACH;FMTTYPE=image/jpeg:https://villaelisa.gov.ar/wp-content/uploads/2025/06/WhatsApp-Image-2025-09-12-at-1.23.32-PM-1.jpeg
END:VEVENT
BEGIN:VEVENT
DTSTART;TZID=America/Argentina/Buenos_Aires:20250929T210000
DTEND;TZID=America/Argentina/Buenos_Aires:20250929T223000
DTSTAMP:20260424T110150
CREATED:20250926T123140Z
LAST-MODIFIED:20250926T123344Z
UID:10004670-1759179600-1759185000@villaelisa.gov.ar
SUMMARY:Quema del Muñeco
DESCRIPTION:Un evento muy esperado que reune a toda la comunidad celebrando y acompañando los festejos estudiantiles en prolongacion Av urquiza\, zona Polideportivo.
URL:https://villaelisa.gov.ar/evento/quema-del-muneco/
LOCATION:Polideportivo Municipal\, Bv. Churruarín y Héctor de Elía
ATTACH;FMTTYPE=image/jpeg:https://villaelisa.gov.ar/wp-content/uploads/2025/09/WhatsApp-Image-2025-09-25-at-10.01.33-PM.jpeg
END:VEVENT
BEGIN:VEVENT
DTSTART;TZID=America/Argentina/Buenos_Aires:20251001T103000
DTEND;TZID=America/Argentina/Buenos_Aires:20251001T130000
DTSTAMP:20260424T110150
CREATED:20250830T202121Z
LAST-MODIFIED:20250830T202121Z
UID:10004590-1759314600-1759323600@villaelisa.gov.ar
SUMMARY:Visitas Guiadas en Estancia Museo El Porvenir
DESCRIPTION:Las visitas guiadas pueden realizarse de lunes a viernes (excepto martes) a las 10:30 y 12:00 horas. Si se lo desea\, se puede visitar el lugar en forma independiente (sin visita guiada) de 10:00 a 13:00 y de 16:00 a 19:00 horas\, recordando que también está habilitado el sector del parque recreativo. \nEl valor del bono contribución de ingreso es de $1500 general y $1000 para menores entre 6 y 12 años inclusive\, jubilados y residentes de la micro región “Tierra de Palmares”. \nContacto: 3447436203 – www.museoelporvenir.com.ar
URL:https://villaelisa.gov.ar/evento/visitas-guiadas-en-estancia-museo-el-porvenir-6/2025-10-01/
LOCATION:Estancia Museo “El Porvenir”
ATTACH;FMTTYPE=image/jpeg:https://villaelisa.gov.ar/wp-content/uploads/2025/08/Horarios-septiembre-2025-feed.jpeg
END:VEVENT
BEGIN:VEVENT
DTSTART;TZID=America/Argentina/Buenos_Aires:20251001T143000
DTEND;TZID=America/Argentina/Buenos_Aires:20251001T170000
DTSTAMP:20260424T110150
CREATED:20250922T161836Z
LAST-MODIFIED:20250922T162138Z
UID:10004646-1759329000-1759338000@villaelisa.gov.ar
SUMMARY:Celebración Dia del Adulto Mayor
DESCRIPTION:  \nCon la actuación musical de “Cristian con Esperanza y Alegría” en Plaza San Martin 𝗖𝗲𝗹𝗲𝗯𝗿𝗮𝗺𝗼𝘀 𝗲𝗹 𝗗í𝗮 𝗱𝗲𝗹 𝗔𝗱𝘂𝗹𝘁𝗼 𝗠𝗮𝘆𝗼𝗿 \nTambién estarán presentes los alumnos de los talleres municipales de arte y folklore para adultos mayores. \nSerá una jornada intergeneracional: participarán estudiantes de 6to año de todas las orientaciones de la Escuela Normal Superior Dr. Luis César Ingold\, y alumnos y docentes del taller de Auxiliar en Cuidados Gerontológicos de la Escuela de Fátima. \nDurante la tarde\, se mostrarán las fotos enviadas en el marco del concurso “Los Rostros del Tiempo” y el público podrá votar por la que más le guste.
URL:https://villaelisa.gov.ar/evento/%f0%9d%97%96%f0%9d%97%b2%f0%9d%97%b9%f0%9d%97%b2%f0%9d%97%af%f0%9d%97%bf%f0%9d%97%ae%f0%9d%97%ba%f0%9d%97%bc%f0%9d%98%80-%f0%9d%97%b2%f0%9d%97%b9-%f0%9d%97%97i%f0%9d%97%ae-%f0%9d%97%b1%f0%9d%97%b2/
LOCATION:Plaza San Martín\, Villa Elisa\, 3265
ATTACH;FMTTYPE=image/jpeg:https://villaelisa.gov.ar/wp-content/uploads/2025/09/WhatsApp-Image-2025-09-22-at-1.13.54-PM.jpeg
END:VEVENT
BEGIN:VEVENT
DTSTART;TZID=America/Argentina/Buenos_Aires:20251002T103000
DTEND;TZID=America/Argentina/Buenos_Aires:20251002T130000
DTSTAMP:20260424T110150
CREATED:20250830T202121Z
LAST-MODIFIED:20250830T202121Z
UID:10004591-1759401000-1759410000@villaelisa.gov.ar
SUMMARY:Visitas Guiadas en Estancia Museo El Porvenir
DESCRIPTION:Las visitas guiadas pueden realizarse de lunes a viernes (excepto martes) a las 10:30 y 12:00 horas. Si se lo desea\, se puede visitar el lugar en forma independiente (sin visita guiada) de 10:00 a 13:00 y de 16:00 a 19:00 horas\, recordando que también está habilitado el sector del parque recreativo. \nEl valor del bono contribución de ingreso es de $1500 general y $1000 para menores entre 6 y 12 años inclusive\, jubilados y residentes de la micro región “Tierra de Palmares”. \nContacto: 3447436203 – www.museoelporvenir.com.ar
URL:https://villaelisa.gov.ar/evento/visitas-guiadas-en-estancia-museo-el-porvenir-6/2025-10-02/
LOCATION:Estancia Museo “El Porvenir”
ATTACH;FMTTYPE=image/jpeg:https://villaelisa.gov.ar/wp-content/uploads/2025/08/Horarios-septiembre-2025-feed.jpeg
END:VEVENT
BEGIN:VEVENT
DTSTART;TZID=America/Argentina/Buenos_Aires:20251003T103000
DTEND;TZID=America/Argentina/Buenos_Aires:20251003T130000
DTSTAMP:20260424T110150
CREATED:20250830T202121Z
LAST-MODIFIED:20250830T202121Z
UID:10004592-1759487400-1759496400@villaelisa.gov.ar
SUMMARY:Visitas Guiadas en Estancia Museo El Porvenir
DESCRIPTION:Las visitas guiadas pueden realizarse de lunes a viernes (excepto martes) a las 10:30 y 12:00 horas. Si se lo desea\, se puede visitar el lugar en forma independiente (sin visita guiada) de 10:00 a 13:00 y de 16:00 a 19:00 horas\, recordando que también está habilitado el sector del parque recreativo. \nEl valor del bono contribución de ingreso es de $1500 general y $1000 para menores entre 6 y 12 años inclusive\, jubilados y residentes de la micro región “Tierra de Palmares”. \nContacto: 3447436203 – www.museoelporvenir.com.ar
URL:https://villaelisa.gov.ar/evento/visitas-guiadas-en-estancia-museo-el-porvenir-6/2025-10-03/
LOCATION:Estancia Museo “El Porvenir”
ATTACH;FMTTYPE=image/jpeg:https://villaelisa.gov.ar/wp-content/uploads/2025/08/Horarios-septiembre-2025-feed.jpeg
END:VEVENT
BEGIN:VEVENT
DTSTART;TZID=America/Argentina/Buenos_Aires:20251003T230000
DTEND;TZID=America/Argentina/Buenos_Aires:20251004T050000
DTSTAMP:20260424T110150
CREATED:20251002T170155Z
LAST-MODIFIED:20251002T170508Z
UID:10004683-1759532400-1759554000@villaelisa.gov.ar
SUMMARY:Noche para Mayores en Aquilino
DESCRIPTION:Llega el momento tan esperado con Dj en vivo\, barra de tragos y muchas ganas de compartir una noche increible en Aquilino Eventos.
URL:https://villaelisa.gov.ar/evento/noche-para-mayores-en-aquilino/
LOCATION:Aquilino
ATTACH;FMTTYPE=image/jpeg:https://villaelisa.gov.ar/wp-content/uploads/2025/10/WhatsApp-Image-2025-10-02-at-1.52.04-PM.jpeg
END:VEVENT
BEGIN:VEVENT
DTSTART;TZID=America/Argentina/Buenos_Aires:20251004T103000
DTEND;TZID=America/Argentina/Buenos_Aires:20251004T170000
DTSTAMP:20260424T110150
CREATED:20250926T151911Z
LAST-MODIFIED:20250926T151911Z
UID:10004673-1759573800-1759597200@villaelisa.gov.ar
SUMMARY:Pura Movida Encuentro de Patín
DESCRIPTION:Una jornada de exhibición de esta disciplina\, juegos y sorteos en salón gimnasio del ICPA
URL:https://villaelisa.gov.ar/evento/pura-movida-encuentro-de-patin/
LOCATION:ICPA D70\, Bv. Churruarín y Bv. Francou
ATTACH;FMTTYPE=image/jpeg:https://villaelisa.gov.ar/wp-content/uploads/2025/09/WhatsApp-Image-2025-09-26-at-12.15.08-PM.jpeg
END:VEVENT
BEGIN:VEVENT
DTSTART;TZID=America/Argentina/Buenos_Aires:20251004T200000
DTEND;TZID=America/Argentina/Buenos_Aires:20251004T230000
DTSTAMP:20260424T110150
CREATED:20251003T154429Z
LAST-MODIFIED:20251003T154429Z
UID:10004685-1759608000-1759618800@villaelisa.gov.ar
SUMMARY:Festival Mahaila
DESCRIPTION:En un gran despliegue de coreografias\, música y color la Academia Mahaila  ofrece su festival anual
URL:https://villaelisa.gov.ar/evento/festival-mahaila/
LOCATION:Polideportivo Municipal\, Bv. Churruarín y Héctor de Elía
ATTACH;FMTTYPE=image/jpeg:https://villaelisa.gov.ar/wp-content/uploads/2025/10/WhatsApp-Image-2025-10-03-at-12.41.42-PM.jpeg
END:VEVENT
BEGIN:VEVENT
DTSTART;TZID=America/Argentina/Buenos_Aires:20251004T200000
DTEND;TZID=America/Argentina/Buenos_Aires:20251005T010000
DTSTAMP:20260424T110150
CREATED:20250912T132241Z
LAST-MODIFIED:20250912T132241Z
UID:10004624-1759608000-1759626000@villaelisa.gov.ar
SUMMARY:Manos de Mi Pueblo
DESCRIPTION:El XIII Festival Manos de mi Pueblo en 1° de Mayo \nExposición de artesanos\, música y comidass típicas.
URL:https://villaelisa.gov.ar/evento/manos-de-mi-pueblo/
LOCATION:Polideportivo Municipal de Primero de Mayo
ATTACH;FMTTYPE=image/jpeg:https://villaelisa.gov.ar/wp-content/uploads/2025/09/WhatsApp-Image-2025-09-11-at-8.26.31-PM.jpeg
END:VEVENT
BEGIN:VEVENT
DTSTART;TZID=America/Argentina/Buenos_Aires:20251004T210000
DTEND;TZID=America/Argentina/Buenos_Aires:20251004T223000
DTSTAMP:20260424T110150
CREATED:20251002T164158Z
LAST-MODIFIED:20251002T164158Z
UID:10004680-1759611600-1759617000@villaelisa.gov.ar
SUMMARY:"La Punta del Diablo" en Cine Paradiso
DESCRIPTION:Una película interesante expresando un drama\, explorando la soledad y el aferrarse a la vida enfrentando un nuevo destino y sentimientos existenciales con muy buenos paisajes. \nCine Paradiso en Alvear 942  a las 21 hs Entrada $1500
URL:https://villaelisa.gov.ar/evento/la-punta-del-diablo-en-cine-paradiso/
LOCATION:Cine Paradiso\, Gral. Alvear 942\, Villa Elisa\, 3265
ATTACH;FMTTYPE=image/jpeg:https://villaelisa.gov.ar/wp-content/uploads/2025/10/WhatsApp-Image-2025-10-02-at-1.38.07-PM.jpeg
END:VEVENT
BEGIN:VEVENT
DTSTART;TZID=America/Argentina/Buenos_Aires:20251004T210000
DTEND;TZID=America/Argentina/Buenos_Aires:20251005T013000
DTSTAMP:20260424T110150
CREATED:20251002T164656Z
LAST-MODIFIED:20251002T164656Z
UID:10004681-1759611600-1759627800@villaelisa.gov.ar
SUMMARY:Baile en Centro Unión
DESCRIPTION:Este sábado todos a bailar con la música de Leo Milezzi el Mago de los Teclados en Centro Unión.
URL:https://villaelisa.gov.ar/evento/baile-en-centro-union-6/
LOCATION:Centro Unión de Jubilados\, El Ñandubay 1475
ATTACH;FMTTYPE=image/jpeg:https://villaelisa.gov.ar/wp-content/uploads/2025/10/WhatsApp-Image-2025-10-02-at-1.44.01-PM.jpeg
END:VEVENT
BEGIN:VEVENT
DTSTART;TZID=America/Argentina/Buenos_Aires:20251005T100000
DTEND;TZID=America/Argentina/Buenos_Aires:20251005T130000
DTSTAMP:20260424T110150
CREATED:20241104T113404Z
LAST-MODIFIED:20241104T113404Z
UID:10002241-1759658400-1759669200@villaelisa.gov.ar
SUMMARY:Auto Tour
DESCRIPTION:TRAVELING VINA:  \nEs un servicio  extra\, que ofrece el complejo de Alojamientos “V I N A” \nExperiencia Rurales\, AUTO TOUR:  \nPlanificamos y coordinamos recorridos por bodegas\, fábricas de productos regionales\, y almacenes locales\, te llevamos a descubrir La Colonia\, cultura local y los paisajes mas hermosos de nuestra Tierra de Palmares.- \nOrganizado por Perla Lopez – \nReservas con anticipación: contacto 3447503491.- \nValor del recorrido: según destino elegido. \nTiempo demandado: aproximadamente 3 horas.- \nEl objetivo es formar una caravana\, con los vehículos de los interesados y hacer\, una mañana o una tarde de recorridos a los diferentes atractivos de nuestra zona  \nprevia coordinación.- \nPunto de salida: oficina de Turismo Villa Elisa.-
URL:https://villaelisa.gov.ar/evento/auto-tour/2025-10-05/
ATTACH;FMTTYPE=image/jpeg:https://villaelisa.gov.ar/wp-content/uploads/2024/11/Traveling-vina.jpg
END:VEVENT
BEGIN:VEVENT
DTSTART;TZID=America/Argentina/Buenos_Aires:20251005T190000
DTEND;TZID=America/Argentina/Buenos_Aires:20251005T220000
DTSTAMP:20260424T110150
CREATED:20250912T151101Z
LAST-MODIFIED:20250925T145651Z
UID:10004626-1759690800-1759701600@villaelisa.gov.ar
SUMMARY:Super Bingo
DESCRIPTION:Los esperamos para divertirse y colaborar con la Comisión del Futbol Mayor de Club Recreativo San Jorge. \n 
URL:https://villaelisa.gov.ar/evento/super-bingo/
LOCATION:Salón de eventos CRSJ (Irungaray 1600)
ATTACH;FMTTYPE=image/jpeg:https://villaelisa.gov.ar/wp-content/uploads/2025/09/WhatsApp-Image-2025-09-25-at-11.54.59-AM.jpeg
END:VEVENT
BEGIN:VEVENT
DTSTART;TZID=America/Argentina/Buenos_Aires:20251005T203000
DTEND;TZID=America/Argentina/Buenos_Aires:20251005T220000
DTSTAMP:20260424T110150
CREATED:20250930T135617Z
LAST-MODIFIED:20251005T122347Z
UID:10004674-1759696200-1759701600@villaelisa.gov.ar
SUMMARY:Alta en el cielo!!!
DESCRIPTION:Una obra que muestra el compromiso del docente en una escuela de frontera
URL:https://villaelisa.gov.ar/evento/alta-en-el-cielo/
ATTACH;FMTTYPE=image/jpeg:https://villaelisa.gov.ar/wp-content/uploads/2025/09/IMG-20250926-WA0121-scaled.jpg
END:VEVENT
END:VCALENDAR