BEGIN:VCALENDAR
VERSION:2.0
PRODID:-//Municipalidad de Villa Elisa, Entre Ríos - ECPv6.6.4.2//NONSGML v1.0//EN
CALSCALE:GREGORIAN
METHOD:PUBLISH
X-ORIGINAL-URL:https://villaelisa.gov.ar
X-WR-CALDESC:Eventos para Municipalidad de Villa Elisa, Entre Ríos
REFRESH-INTERVAL;VALUE=DURATION:PT1H
X-Robots-Tag:noindex
X-PUBLISHED-TTL:PT1H
BEGIN:VTIMEZONE
TZID:America/Argentina/Buenos_Aires
BEGIN:STANDARD
TZOFFSETFROM:-0300
TZOFFSETTO:-0300
TZNAME:-03
DTSTART:20250101T000000
END:STANDARD
END:VTIMEZONE
BEGIN:VEVENT
DTSTART;TZID=America/Argentina/Buenos_Aires:20251020T103000
DTEND;TZID=America/Argentina/Buenos_Aires:20251020T130000
DTSTAMP:20260424T025735
CREATED:20250922T192100Z
LAST-MODIFIED:20250922T192100Z
UID:10004654-1760956200-1760965200@villaelisa.gov.ar
SUMMARY:Visitas Guiadas en Estancia Museo El Porvenir
DESCRIPTION:Las visitas guiadas pueden realizarse de lunes a viernes (excepto martes) a las 10:30 y 12:00 horas. Si se lo desea\, se puede visitar el lugar en forma independiente (sin visita guiada) de 10:00 a 13:00 y de 16:00 a 19:00 horas\, recordando que también está habilitado el sector del parque recreativo. \nEl valor del bono contribución de ingreso es de $1500 general y $1000 para menores entre 6 y 12 años inclusive\, jubilados y residentes de la micro región “Tierra de Palmares”. \nContacto: 3447436203 – www.museoelporvenir.com.ar
URL:https://villaelisa.gov.ar/evento/visitas-guiadas-en-estancia-museo-el-porvenir-7/2025-10-20/
LOCATION:Estancia Museo “El Porvenir”
ATTACH;FMTTYPE=image/jpeg:https://villaelisa.gov.ar/wp-content/uploads/2025/08/Horarios-septiembre-2025-feed.jpeg
END:VEVENT
BEGIN:VEVENT
DTSTART;TZID=America/Argentina/Buenos_Aires:20251021T200000
DTEND;TZID=America/Argentina/Buenos_Aires:20251021T233000
DTSTAMP:20260424T025735
CREATED:20251021T123206Z
LAST-MODIFIED:20251021T123358Z
UID:10004716-1761076800-1761089400@villaelisa.gov.ar
SUMMARY:Fútbol Departamental
DESCRIPTION:Se juega la 8va fecha del clausura departamental de fútbol (la última antes del playoff) y Cave recibe a San Jorge en el “2 de Junio”. \n3ra: 20:00hs. | 1ra: 22:00hs.
URL:https://villaelisa.gov.ar/evento/futbol-departamental-12/
LOCATION:CAVE Estadio 2 de Junio
ATTACH;FMTTYPE=image/jpeg:https://villaelisa.gov.ar/wp-content/uploads/2025/10/WhatsApp-Image-2025-10-21-at-9.29.18-AM.jpeg
END:VEVENT
BEGIN:VEVENT
DTSTART;TZID=America/Argentina/Buenos_Aires:20251022T103000
DTEND;TZID=America/Argentina/Buenos_Aires:20251022T130000
DTSTAMP:20260424T025735
CREATED:20250922T192100Z
LAST-MODIFIED:20250922T192100Z
UID:10004655-1761129000-1761138000@villaelisa.gov.ar
SUMMARY:Visitas Guiadas en Estancia Museo El Porvenir
DESCRIPTION:Las visitas guiadas pueden realizarse de lunes a viernes (excepto martes) a las 10:30 y 12:00 horas. Si se lo desea\, se puede visitar el lugar en forma independiente (sin visita guiada) de 10:00 a 13:00 y de 16:00 a 19:00 horas\, recordando que también está habilitado el sector del parque recreativo. \nEl valor del bono contribución de ingreso es de $1500 general y $1000 para menores entre 6 y 12 años inclusive\, jubilados y residentes de la micro región “Tierra de Palmares”. \nContacto: 3447436203 – www.museoelporvenir.com.ar
URL:https://villaelisa.gov.ar/evento/visitas-guiadas-en-estancia-museo-el-porvenir-7/2025-10-22/
LOCATION:Estancia Museo “El Porvenir”
ATTACH;FMTTYPE=image/jpeg:https://villaelisa.gov.ar/wp-content/uploads/2025/08/Horarios-septiembre-2025-feed.jpeg
END:VEVENT
BEGIN:VEVENT
DTSTART;TZID=America/Argentina/Buenos_Aires:20251023T103000
DTEND;TZID=America/Argentina/Buenos_Aires:20251023T130000
DTSTAMP:20260424T025735
CREATED:20250922T192100Z
LAST-MODIFIED:20250922T192100Z
UID:10004656-1761215400-1761224400@villaelisa.gov.ar
SUMMARY:Visitas Guiadas en Estancia Museo El Porvenir
DESCRIPTION:Las visitas guiadas pueden realizarse de lunes a viernes (excepto martes) a las 10:30 y 12:00 horas. Si se lo desea\, se puede visitar el lugar en forma independiente (sin visita guiada) de 10:00 a 13:00 y de 16:00 a 19:00 horas\, recordando que también está habilitado el sector del parque recreativo. \nEl valor del bono contribución de ingreso es de $1500 general y $1000 para menores entre 6 y 12 años inclusive\, jubilados y residentes de la micro región “Tierra de Palmares”. \nContacto: 3447436203 – www.museoelporvenir.com.ar
URL:https://villaelisa.gov.ar/evento/visitas-guiadas-en-estancia-museo-el-porvenir-7/2025-10-23/
LOCATION:Estancia Museo “El Porvenir”
ATTACH;FMTTYPE=image/jpeg:https://villaelisa.gov.ar/wp-content/uploads/2025/08/Horarios-septiembre-2025-feed.jpeg
END:VEVENT
BEGIN:VEVENT
DTSTART;TZID=America/Argentina/Buenos_Aires:20251023T203000
DTEND;TZID=America/Argentina/Buenos_Aires:20251023T220000
DTSTAMP:20260424T025735
CREATED:20251006T200811Z
LAST-MODIFIED:20251006T200811Z
UID:10004689-1761251400-1761256800@villaelisa.gov.ar
SUMMARY:"Lo vivimos\, lo contamos"
DESCRIPTION:Llega la 6ta edición de “Lo vivimos\, lo contamos” \nLa Asociación Hogar Rural Villa Elisa realizará el jueves 23 de octubre a las 20.30 horas en el salón Heraldo Peragallo\, la 6ta edición de “Lo Vivimos\, lo Contamos”\, un evento creado para que personas y familias que viven la discapacidad brinden sus valiosos testimonios.\nEste año\, el IPRODI (Instituto Provincial de Discapacidad) ha declarado de interés esta actividad que también cuenta con el reconocimiento del Concejo Deliberante de Villa Elisa.\nEl cierre musical tendrá esta vez un especial significado\, dándonos la oportunidad de realizar un sentido homenaje.\n¡Los esperamos!
URL:https://villaelisa.gov.ar/evento/lo-vivimos-lo-contamos/
LOCATION:Auditorio Municipal Heraldo N. Peragallo\, Av. Mitre 1301\, Villa Elisa\, 3265
ATTACH;FMTTYPE=image/jpeg:https://villaelisa.gov.ar/wp-content/uploads/2025/10/WhatsApp-Image-2025-10-06-at-17.05.44.jpeg
END:VEVENT
BEGIN:VEVENT
DTSTART;TZID=America/Argentina/Buenos_Aires:20251024T103000
DTEND;TZID=America/Argentina/Buenos_Aires:20251024T130000
DTSTAMP:20260424T025735
CREATED:20250922T192100Z
LAST-MODIFIED:20250922T192100Z
UID:10004657-1761301800-1761310800@villaelisa.gov.ar
SUMMARY:Visitas Guiadas en Estancia Museo El Porvenir
DESCRIPTION:Las visitas guiadas pueden realizarse de lunes a viernes (excepto martes) a las 10:30 y 12:00 horas. Si se lo desea\, se puede visitar el lugar en forma independiente (sin visita guiada) de 10:00 a 13:00 y de 16:00 a 19:00 horas\, recordando que también está habilitado el sector del parque recreativo. \nEl valor del bono contribución de ingreso es de $1500 general y $1000 para menores entre 6 y 12 años inclusive\, jubilados y residentes de la micro región “Tierra de Palmares”. \nContacto: 3447436203 – www.museoelporvenir.com.ar
URL:https://villaelisa.gov.ar/evento/visitas-guiadas-en-estancia-museo-el-porvenir-7/2025-10-24/
LOCATION:Estancia Museo “El Porvenir”
ATTACH;FMTTYPE=image/jpeg:https://villaelisa.gov.ar/wp-content/uploads/2025/08/Horarios-septiembre-2025-feed.jpeg
END:VEVENT
BEGIN:VEVENT
DTSTART;TZID=America/Argentina/Buenos_Aires:20251024T203000
DTEND;TZID=America/Argentina/Buenos_Aires:20251024T233000
DTSTAMP:20260424T025735
CREATED:20251024T121809Z
LAST-MODIFIED:20251024T121809Z
UID:10004721-1761337800-1761348600@villaelisa.gov.ar
SUMMARY:Fiesta de la Familia
DESCRIPTION:En esta jornada especial los esperamos para compartir momentos inolvidables.
URL:https://villaelisa.gov.ar/evento/fiesta-de-la-familia/
LOCATION:Polideportivo Municipal\, Bv. Churruarín y Héctor de Elía
ATTACH;FMTTYPE=image/jpeg:https://villaelisa.gov.ar/wp-content/uploads/2025/10/WhatsApp-Image-2025-10-23-at-10.29.01-PM.jpeg
END:VEVENT
BEGIN:VEVENT
DTSTART;TZID=America/Argentina/Buenos_Aires:20251024T203000
DTEND;TZID=America/Argentina/Buenos_Aires:20251025T010000
DTSTAMP:20260424T025735
CREATED:20251009T131538Z
LAST-MODIFIED:20251009T131538Z
UID:10004695-1761337800-1761354000@villaelisa.gov.ar
SUMMARY:Peña Amiga para Todos
DESCRIPTION:Una nueva edición de estos muy concurridos encuentros de nuestras tradiciones con Canto raíz y a microfono abierto.
URL:https://villaelisa.gov.ar/evento/pena-amiga-para-todos/
LOCATION:pizzeria pizza kids\, Urquiza 1824\, Villa elisa\, 3265
ATTACH;FMTTYPE=image/jpeg:https://villaelisa.gov.ar/wp-content/uploads/2025/10/WhatsApp-Image-2025-10-08-at-8.01.54-PM.jpeg
END:VEVENT
BEGIN:VEVENT
DTSTART;TZID=America/Argentina/Buenos_Aires:20251024T210000
DTEND;TZID=America/Argentina/Buenos_Aires:20251025T023000
DTSTAMP:20260424T025735
CREATED:20251022T145123Z
LAST-MODIFIED:20251022T145123Z
UID:10004717-1761339600-1761359400@villaelisa.gov.ar
SUMMARY:GRAN BAILE
DESCRIPTION:VIERNES 24 DE OCTUBRE  \nGRAN BAILE CON \nMAXI LOKER Y SU BANDA 
URL:https://villaelisa.gov.ar/evento/gran-baile-4/
LOCATION:Centro María Auxiliadora\, H. Irigoyen 1269\, Villa Elisa
ATTACH;FMTTYPE=image/jpeg:https://villaelisa.gov.ar/wp-content/uploads/2025/10/InShot_20251013_100545678-1.jpg
END:VEVENT
BEGIN:VEVENT
DTSTART;TZID=America/Argentina/Buenos_Aires:20251024T213000
DTEND;TZID=America/Argentina/Buenos_Aires:20251024T233000
DTSTAMP:20260424T025735
CREATED:20251018T125442Z
LAST-MODIFIED:20251024T131943Z
UID:10004712-1761341400-1761348600@villaelisa.gov.ar
SUMMARY:Fútbol Departamental
DESCRIPTION:El Club Recreativo San Jorge en su estadio J.J.Lescano\, recibe al Club Atlético Campito en un importante partido.
URL:https://villaelisa.gov.ar/evento/futbol-regional-amateur/
LOCATION:Estadio Justo José Lezcano (Cancha San Jorge)\, Villa Elisa\, 3265
ATTACH;FMTTYPE=image/jpeg:https://villaelisa.gov.ar/wp-content/uploads/2025/10/WhatsApp-Image-2025-10-24-at-10.13.59-AM.jpeg
END:VEVENT
BEGIN:VEVENT
DTSTART;TZID=America/Argentina/Buenos_Aires:20251025T180000
DTEND;TZID=America/Argentina/Buenos_Aires:20251025T193000
DTSTAMP:20260424T025735
CREATED:20251016T153906Z
LAST-MODIFIED:20251016T153906Z
UID:10004707-1761415200-1761420600@villaelisa.gov.ar
SUMMARY:Caminata de Lalcec
DESCRIPTION:Lalcec Villa Elisa\, en el marco de la Campaña de Prevención y Detección Temprana del Cáncer de Mama\, realizará el sábado 25/10/25 una caminata.\nHabrá un stand\, donde tendremos a la venta\, remeras con el nuevo diseño.\nNos encantaría contar con su apoyo.\nLa idea es caminar juntos y apostando siempre a la prevención.\nPrevenir es amar la vida.
URL:https://villaelisa.gov.ar/evento/caminata-de-lalcec/
LOCATION:Plazoleta de la Madre
ATTACH;FMTTYPE=image/jpeg:https://villaelisa.gov.ar/wp-content/uploads/2025/10/WhatsApp-Image-2025-10-16-at-10.28.24-AM-1.jpeg
END:VEVENT
BEGIN:VEVENT
DTSTART;TZID=America/Argentina/Buenos_Aires:20251025T210000
DTEND;TZID=America/Argentina/Buenos_Aires:20251025T223000
DTSTAMP:20260424T025735
CREATED:20251023T150406Z
LAST-MODIFIED:20251023T150406Z
UID:10004719-1761426000-1761431400@villaelisa.gov.ar
SUMMARY:"El día que me amen" Pelicula en Cine Paradiso
DESCRIPTION:Hermosa comedia con grandioso elenco argentino\, donde dos amigos de la infancia que luego de diferentes viajes se reúnen como adultos\, la podes disfrutar  este sábado 25 a las 21\, en Cine Paradiso Alvear 942.
URL:https://villaelisa.gov.ar/evento/el-dia-que-me-amen-pelicula-en-cine-paradiso/
LOCATION:Cine Paradiso\, Gral. Alvear 942\, Villa Elisa\, 3265
ATTACH;FMTTYPE=image/jpeg:https://villaelisa.gov.ar/wp-content/uploads/2025/10/WhatsApp-Image-2025-10-23-at-11.56.38-AM.jpeg
END:VEVENT
BEGIN:VEVENT
DTSTART;TZID=America/Argentina/Buenos_Aires:20251026T100000
DTEND;TZID=America/Argentina/Buenos_Aires:20251026T130000
DTSTAMP:20260424T025735
CREATED:20241104T113404Z
LAST-MODIFIED:20241104T113404Z
UID:10002244-1761472800-1761483600@villaelisa.gov.ar
SUMMARY:Auto Tour
DESCRIPTION:TRAVELING VINA:  \nEs un servicio  extra\, que ofrece el complejo de Alojamientos “V I N A” \nExperiencia Rurales\, AUTO TOUR:  \nPlanificamos y coordinamos recorridos por bodegas\, fábricas de productos regionales\, y almacenes locales\, te llevamos a descubrir La Colonia\, cultura local y los paisajes mas hermosos de nuestra Tierra de Palmares.- \nOrganizado por Perla Lopez – \nReservas con anticipación: contacto 3447503491.- \nValor del recorrido: según destino elegido. \nTiempo demandado: aproximadamente 3 horas.- \nEl objetivo es formar una caravana\, con los vehículos de los interesados y hacer\, una mañana o una tarde de recorridos a los diferentes atractivos de nuestra zona  \nprevia coordinación.- \nPunto de salida: oficina de Turismo Villa Elisa.-
URL:https://villaelisa.gov.ar/evento/auto-tour/2025-10-26/
ATTACH;FMTTYPE=image/jpeg:https://villaelisa.gov.ar/wp-content/uploads/2024/11/Traveling-vina.jpg
END:VEVENT
BEGIN:VEVENT
DTSTART;TZID=America/Argentina/Buenos_Aires:20251026T193000
DTEND;TZID=America/Argentina/Buenos_Aires:20251026T203000
DTSTAMP:20260424T025735
CREATED:20251024T141314Z
LAST-MODIFIED:20251024T141314Z
UID:10004724-1761507000-1761510600@villaelisa.gov.ar
SUMMARY:Charla Motivacional
DESCRIPTION:La corredora del Seleccionado Argentino de Trail Running\, Fernanda Martínez\, llega a Villa Elisa para brindar una charla motivacional el próximo domingo 26 de octubre.⁣\n⁣\nLa charla\, abierta al público en general\, será a las 19:30 horas en la Biblioteca Popular Mitre de la ciudad de Villa Elisa\, Entre Ríos. Entrada libre y gratuita.⁣\n⁣\nFernanda corredora del Seleccionado Argentino de Trail Running y atleta de la marca Nike Trail\, compartirá su experiencia representando a la Argentina en competencias nacionales e internacionales\, en circuitos de montañas\, caminos y asumiendo desafíos físicos y de fortaleza mental.⁣\n⁣\nInvitan: áreas de Deportes y Turismo de la Municipalidad de Villa Elisa.⁣
URL:https://villaelisa.gov.ar/evento/charla-motivacional/
LOCATION:Biblioteca Popular General Mitre\, Av. Mitre 1160\, Villa Elisa\, 3265
ATTACH;FMTTYPE=image/jpeg:https://villaelisa.gov.ar/wp-content/uploads/2025/10/WhatsApp-Image-2025-10-24-at-11.08.15-AM.jpeg
END:VEVENT
END:VCALENDAR