BEGIN:VCALENDAR
VERSION:2.0
PRODID:-//Municipalidad de Villa Elisa, Entre Ríos - ECPv6.6.4.2//NONSGML v1.0//EN
CALSCALE:GREGORIAN
METHOD:PUBLISH
X-WR-CALNAME:Municipalidad de Villa Elisa, Entre Ríos
X-ORIGINAL-URL:https://villaelisa.gov.ar
X-WR-CALDESC:Eventos para Municipalidad de Villa Elisa, Entre Ríos
REFRESH-INTERVAL;VALUE=DURATION:PT1H
X-Robots-Tag:noindex
X-PUBLISHED-TTL:PT1H
BEGIN:VTIMEZONE
TZID:America/Argentina/Buenos_Aires
BEGIN:STANDARD
TZOFFSETFROM:-0300
TZOFFSETTO:-0300
TZNAME:-03
DTSTART:20250101T000000
END:STANDARD
END:VTIMEZONE
BEGIN:VEVENT
DTSTART;TZID=America/Argentina/Buenos_Aires:20251110T100000
DTEND;TZID=America/Argentina/Buenos_Aires:20251110T140000
DTSTAMP:20260423T202940
CREATED:20251107T200729Z
LAST-MODIFIED:20251107T200729Z
UID:10004771-1762768800-1762783200@villaelisa.gov.ar
SUMMARY:Arte y Tradición
DESCRIPTION:En Escuela 20 Bernardo Monteagudo la Muestra Educativa de Áreas.
URL:https://villaelisa.gov.ar/evento/arte-y-tradicion/
LOCATION:Escuela 20 Bernardo Monteagudo
ATTACH;FMTTYPE=image/jpeg:https://villaelisa.gov.ar/wp-content/uploads/2025/11/WhatsApp-Image-2025-11-07-at-4.01.57-PM.jpeg
END:VEVENT
BEGIN:VEVENT
DTSTART;TZID=America/Argentina/Buenos_Aires:20251110T103000
DTEND;TZID=America/Argentina/Buenos_Aires:20251110T130000
DTSTAMP:20260423T202940
CREATED:20251027T194110Z
LAST-MODIFIED:20251124T143830Z
UID:10004731-1762770600-1762779600@villaelisa.gov.ar
SUMMARY:Visitas Guiadas en Estancia Museo El Porvenir
DESCRIPTION:De lunes a viernes (excepto martes) las 10:30 y 12:00 horas\,  pueden realizarse las visitas guiadas gratuitas por la Estancia. \nSi se lo desea\, se puede visitar el lugar en forma independiente (sin visita guiada) de 10:00 a 13:00 y de 16:00 a 19:00 horas\, recordando que también está habilitado el sector del parque recreativo. \nEl valor del bono contribución de ingreso es de $1500 general y $1000 para menores entre 6 y 12 años inclusive\, jubilados y residentes de la micro región “Tierra de Palmares”. \nContacto: 3447436203 – www.museoelporvenir.com.ar
URL:https://villaelisa.gov.ar/evento/visitas-guiadas-en-estancia-museo-el-porvenir-9/2025-11-10/
LOCATION:Estancia Museo “El Porvenir”
ATTACH;FMTTYPE=image/jpeg:https://villaelisa.gov.ar/wp-content/uploads/2025/08/Horarios-septiembre-2025-feed.jpeg
END:VEVENT
BEGIN:VEVENT
DTSTART;TZID=America/Argentina/Buenos_Aires:20251111T203000
DTEND;TZID=America/Argentina/Buenos_Aires:20251111T213000
DTSTAMP:20260423T202940
CREATED:20251111T121939Z
LAST-MODIFIED:20251111T121939Z
UID:10004845-1762893000-1762896600@villaelisa.gov.ar
SUMMARY:Cuando las Filósofas Hablan
DESCRIPTION:Pensamiento\, acción y emociones con Angelina Uzin Olleros. \n  \n 
URL:https://villaelisa.gov.ar/evento/cuando-las-filosofas-hablan/
LOCATION:Asociación Civil La Fragua\, Héctor de Elía 1489\, Villa Elisa\, 3265
ATTACH;FMTTYPE=image/jpeg:https://villaelisa.gov.ar/wp-content/uploads/2025/11/WhatsApp-Image-2025-11-07-at-10.54.07-AM-1.jpeg
END:VEVENT
BEGIN:VEVENT
DTSTART;TZID=America/Argentina/Buenos_Aires:20251112T100000
DTEND;TZID=America/Argentina/Buenos_Aires:20251112T190000
DTSTAMP:20260423T202940
CREATED:20251110T203106Z
LAST-MODIFIED:20251124T143357Z
UID:10004774-1762941600-1762974000@villaelisa.gov.ar
SUMMARY:Muestra fotográfica "Villa Elisa en el tiempo: una mirada a los 135 años de historia"
DESCRIPTION:De 10:00 a 13:00 y de 16:00 a 19:00 horas\, te invitamos a recorrer\, a través de esta muestra fotográfica\, la transformación urbana y social de nuestra ciudad a lo largo del tiempo.\nLa exposición reúne fotos históricas de distintos espacios de Villa Elisa junto a sus réplicas actuales\, generando un diálogo visual entre pasado y presente. \nEl valor del bono contribución de ingreso es de $1500 general y $1000 para menores entre 6 y 12 años inclusive\, jubilados y residentes de la micro región “Tierra de Palmares”. \nContacto: 3447436203 – www.museoelporvenir.com.ar
URL:https://villaelisa.gov.ar/evento/muestra-fotografica-temporal/2025-11-12/
LOCATION:Estancia Museo “El Porvenir”
ATTACH;FMTTYPE=image/jpeg:https://villaelisa.gov.ar/wp-content/uploads/2025/11/Muestra-temporal-2025-Villa-Elisa-en-el-tiempo-2.jpeg
END:VEVENT
BEGIN:VEVENT
DTSTART;TZID=America/Argentina/Buenos_Aires:20251112T103000
DTEND;TZID=America/Argentina/Buenos_Aires:20251112T130000
DTSTAMP:20260423T202940
CREATED:20251027T194110Z
LAST-MODIFIED:20251124T143830Z
UID:10004732-1762943400-1762952400@villaelisa.gov.ar
SUMMARY:Visitas Guiadas en Estancia Museo El Porvenir
DESCRIPTION:De lunes a viernes (excepto martes) las 10:30 y 12:00 horas\,  pueden realizarse las visitas guiadas gratuitas por la Estancia. \nSi se lo desea\, se puede visitar el lugar en forma independiente (sin visita guiada) de 10:00 a 13:00 y de 16:00 a 19:00 horas\, recordando que también está habilitado el sector del parque recreativo. \nEl valor del bono contribución de ingreso es de $1500 general y $1000 para menores entre 6 y 12 años inclusive\, jubilados y residentes de la micro región “Tierra de Palmares”. \nContacto: 3447436203 – www.museoelporvenir.com.ar
URL:https://villaelisa.gov.ar/evento/visitas-guiadas-en-estancia-museo-el-porvenir-9/2025-11-12/
LOCATION:Estancia Museo “El Porvenir”
ATTACH;FMTTYPE=image/jpeg:https://villaelisa.gov.ar/wp-content/uploads/2025/08/Horarios-septiembre-2025-feed.jpeg
END:VEVENT
BEGIN:VEVENT
DTSTART;TZID=America/Argentina/Buenos_Aires:20251113T100000
DTEND;TZID=America/Argentina/Buenos_Aires:20251113T190000
DTSTAMP:20260423T202940
CREATED:20251110T203106Z
LAST-MODIFIED:20251124T143357Z
UID:10004775-1763028000-1763060400@villaelisa.gov.ar
SUMMARY:Muestra fotográfica "Villa Elisa en el tiempo: una mirada a los 135 años de historia"
DESCRIPTION:De 10:00 a 13:00 y de 16:00 a 19:00 horas\, te invitamos a recorrer\, a través de esta muestra fotográfica\, la transformación urbana y social de nuestra ciudad a lo largo del tiempo.\nLa exposición reúne fotos históricas de distintos espacios de Villa Elisa junto a sus réplicas actuales\, generando un diálogo visual entre pasado y presente. \nEl valor del bono contribución de ingreso es de $1500 general y $1000 para menores entre 6 y 12 años inclusive\, jubilados y residentes de la micro región “Tierra de Palmares”. \nContacto: 3447436203 – www.museoelporvenir.com.ar
URL:https://villaelisa.gov.ar/evento/muestra-fotografica-temporal/2025-11-13/
LOCATION:Estancia Museo “El Porvenir”
ATTACH;FMTTYPE=image/jpeg:https://villaelisa.gov.ar/wp-content/uploads/2025/11/Muestra-temporal-2025-Villa-Elisa-en-el-tiempo-2.jpeg
END:VEVENT
BEGIN:VEVENT
DTSTART;TZID=America/Argentina/Buenos_Aires:20251113T103000
DTEND;TZID=America/Argentina/Buenos_Aires:20251113T130000
DTSTAMP:20260423T202940
CREATED:20251027T194110Z
LAST-MODIFIED:20251124T143830Z
UID:10004733-1763029800-1763038800@villaelisa.gov.ar
SUMMARY:Visitas Guiadas en Estancia Museo El Porvenir
DESCRIPTION:De lunes a viernes (excepto martes) las 10:30 y 12:00 horas\,  pueden realizarse las visitas guiadas gratuitas por la Estancia. \nSi se lo desea\, se puede visitar el lugar en forma independiente (sin visita guiada) de 10:00 a 13:00 y de 16:00 a 19:00 horas\, recordando que también está habilitado el sector del parque recreativo. \nEl valor del bono contribución de ingreso es de $1500 general y $1000 para menores entre 6 y 12 años inclusive\, jubilados y residentes de la micro región “Tierra de Palmares”. \nContacto: 3447436203 – www.museoelporvenir.com.ar
URL:https://villaelisa.gov.ar/evento/visitas-guiadas-en-estancia-museo-el-porvenir-9/2025-11-13/
LOCATION:Estancia Museo “El Porvenir”
ATTACH;FMTTYPE=image/jpeg:https://villaelisa.gov.ar/wp-content/uploads/2025/08/Horarios-septiembre-2025-feed.jpeg
END:VEVENT
BEGIN:VEVENT
DTSTART;TZID=America/Argentina/Buenos_Aires:20251113T203000
DTEND;TZID=America/Argentina/Buenos_Aires:20251113T233000
DTSTAMP:20260423T202940
CREATED:20251111T140241Z
LAST-MODIFIED:20251111T140252Z
UID:10004848-1763065800-1763076600@villaelisa.gov.ar
SUMMARY:Fiesta de la Familia
DESCRIPTION:Gran velada de números artísticos para compartir en familia \nLos esperamos!!!
URL:https://villaelisa.gov.ar/evento/fiesta-de-la-familia-2/
LOCATION:Escuela Nina N° 40
ATTACH;FMTTYPE=image/jpeg:https://villaelisa.gov.ar/wp-content/uploads/2025/11/WhatsApp-Image-2025-11-11-at-10.58.25-AM.jpeg
END:VEVENT
BEGIN:VEVENT
DTSTART;TZID=America/Argentina/Buenos_Aires:20251114T100000
DTEND;TZID=America/Argentina/Buenos_Aires:20251114T190000
DTSTAMP:20260423T202940
CREATED:20251110T203106Z
LAST-MODIFIED:20251124T143357Z
UID:10004776-1763114400-1763146800@villaelisa.gov.ar
SUMMARY:Muestra fotográfica "Villa Elisa en el tiempo: una mirada a los 135 años de historia"
DESCRIPTION:De 10:00 a 13:00 y de 16:00 a 19:00 horas\, te invitamos a recorrer\, a través de esta muestra fotográfica\, la transformación urbana y social de nuestra ciudad a lo largo del tiempo.\nLa exposición reúne fotos históricas de distintos espacios de Villa Elisa junto a sus réplicas actuales\, generando un diálogo visual entre pasado y presente. \nEl valor del bono contribución de ingreso es de $1500 general y $1000 para menores entre 6 y 12 años inclusive\, jubilados y residentes de la micro región “Tierra de Palmares”. \nContacto: 3447436203 – www.museoelporvenir.com.ar
URL:https://villaelisa.gov.ar/evento/muestra-fotografica-temporal/2025-11-14/
LOCATION:Estancia Museo “El Porvenir”
ATTACH;FMTTYPE=image/jpeg:https://villaelisa.gov.ar/wp-content/uploads/2025/11/Muestra-temporal-2025-Villa-Elisa-en-el-tiempo-2.jpeg
END:VEVENT
BEGIN:VEVENT
DTSTART;TZID=America/Argentina/Buenos_Aires:20251114T103000
DTEND;TZID=America/Argentina/Buenos_Aires:20251114T130000
DTSTAMP:20260423T202940
CREATED:20251027T194110Z
LAST-MODIFIED:20251124T143830Z
UID:10004734-1763116200-1763125200@villaelisa.gov.ar
SUMMARY:Visitas Guiadas en Estancia Museo El Porvenir
DESCRIPTION:De lunes a viernes (excepto martes) las 10:30 y 12:00 horas\,  pueden realizarse las visitas guiadas gratuitas por la Estancia. \nSi se lo desea\, se puede visitar el lugar en forma independiente (sin visita guiada) de 10:00 a 13:00 y de 16:00 a 19:00 horas\, recordando que también está habilitado el sector del parque recreativo. \nEl valor del bono contribución de ingreso es de $1500 general y $1000 para menores entre 6 y 12 años inclusive\, jubilados y residentes de la micro región “Tierra de Palmares”. \nContacto: 3447436203 – www.museoelporvenir.com.ar
URL:https://villaelisa.gov.ar/evento/visitas-guiadas-en-estancia-museo-el-porvenir-9/2025-11-14/
LOCATION:Estancia Museo “El Porvenir”
ATTACH;FMTTYPE=image/jpeg:https://villaelisa.gov.ar/wp-content/uploads/2025/08/Horarios-septiembre-2025-feed.jpeg
END:VEVENT
BEGIN:VEVENT
DTSTART;TZID=America/Argentina/Buenos_Aires:20251114T190000
DTEND;TZID=America/Argentina/Buenos_Aires:20251114T203000
DTSTAMP:20260423T202940
CREATED:20251029T201919Z
LAST-MODIFIED:20251029T201919Z
UID:10004747-1763146800-1763152200@villaelisa.gov.ar
SUMMARY:La Noche de los Museos
DESCRIPTION:💯 Te invitamos a participar de una experiencia innovadora\, sensorial y cultural\, que une la historia de nuestra ciudad con los sabores que nos identifican.⁣\n⁣\n📌 Desde las 19:00 hasta 20:30 horas\, personajes de época nos guiarán en un “viaje en el tiempo” por el Museo. ⁣\n⁣\n👉 Te esperan estaciones temáticas\, donde habrá representaciones y emprendedores locales que compartirán sus productos junto a un relato que conecta la historia\, la tradición y el presente.⁣\n⁣\n😋 Habrá degustaciones de productos locales.⁣\n➕ También se suman a la propuesta integrantes de los centros de inmigrantes.⁣
URL:https://villaelisa.gov.ar/evento/la-noche-de-los-museos/
LOCATION:Estancia Museo “El Porvenir”
ATTACH;FMTTYPE=image/jpeg:https://villaelisa.gov.ar/wp-content/uploads/2025/10/La-noche-de-los-museos-2025-feed.jpeg
END:VEVENT
BEGIN:VEVENT
DTSTART;TZID=America/Argentina/Buenos_Aires:20251114T200000
DTEND;TZID=America/Argentina/Buenos_Aires:20251114T233000
DTSTAMP:20260423T202940
CREATED:20251103T175649Z
LAST-MODIFIED:20251103T180130Z
UID:10004757-1763150400-1763163000@villaelisa.gov.ar
SUMMARY:Fiesta de la Familia en Colonia San Miguel
DESCRIPTION:Para compartir todos juntos números artísticos y muy buena música.
URL:https://villaelisa.gov.ar/evento/fiesta-de-la-familia-en-colonia-san-miguel/
LOCATION:Colonia San Miguel
ATTACH;FMTTYPE=image/jpeg:https://villaelisa.gov.ar/wp-content/uploads/2025/11/WhatsApp-Image-2025-11-03-at-14.53.26-1.jpeg
END:VEVENT
BEGIN:VEVENT
DTSTART;TZID=America/Argentina/Buenos_Aires:20251114T210000
DTEND;TZID=America/Argentina/Buenos_Aires:20251114T220000
DTSTAMP:20260423T202940
CREATED:20251110T181206Z
LAST-MODIFIED:20251110T181206Z
UID:10004772-1763154000-1763157600@villaelisa.gov.ar
SUMMARY:El Tinder de los Ancestros
DESCRIPTION:Victoria Grigera presenta en nuestro espacio un unipersonal de mucho humor… algunas lágrimas\, porque siempre nuestros orígenes emocionan. \nNo esperes que te lo cuenten!\nLa entrada es gratuita y la salida a la gorra \nLas culturas siguen en movimiento!!!
URL:https://villaelisa.gov.ar/evento/el-tinder-de-los-ancestros/
LOCATION:Centro cultural “La fragua”
ATTACH;FMTTYPE=image/jpeg:https://villaelisa.gov.ar/wp-content/uploads/2025/11/WhatsApp-Image-2025-11-10-at-3.07.16-PM.jpeg
END:VEVENT
BEGIN:VEVENT
DTSTART;TZID=America/Argentina/Buenos_Aires:20251114T210000
DTEND;TZID=America/Argentina/Buenos_Aires:20251115T013000
DTSTAMP:20260423T202940
CREATED:20251111T123215Z
LAST-MODIFIED:20251111T123417Z
UID:10004846-1763154000-1763170200@villaelisa.gov.ar
SUMMARY:Los Cantores del Alba
DESCRIPTION:Festival benéfico en Club Atlético Vazquez con “Los Cantores del Alba”.
URL:https://villaelisa.gov.ar/evento/los-cantores-del-alba/
LOCATION:Club Vazquez\, Ruta provincial 23\, km8\, Villa Elisa\, Entre Rios\, 3265\, Argentina
ATTACH;FMTTYPE=image/jpeg:https://villaelisa.gov.ar/wp-content/uploads/2025/11/WhatsApp-Image-2025-11-11-at-8.23.36-AM.jpeg
END:VEVENT
BEGIN:VEVENT
DTSTART;TZID=America/Argentina/Buenos_Aires:20251115T090000
DTEND;TZID=America/Argentina/Buenos_Aires:20251115T103000
DTSTAMP:20260423T202940
CREATED:20251113T134444Z
LAST-MODIFIED:20251113T134444Z
UID:10004853-1763197200-1763202600@villaelisa.gov.ar
SUMMARY:Visita Guiada de Necroturismo
DESCRIPTION:“El cementerio es un lugar donde el tiempo parece detenerse\, permaneciendo allí anécdotas y recuerdos. Refleja historias únicas que se entrelazan en nuestra identidad colectiva\, permitiéndonos descubrir lo que nos han dejado quienes nos precedieron. Honrarlas en cada visita no es solo un acto de evocación\, sino también una forma de cuidar y preservar su legado.” \nTe invito a la visita guiada este sábado 15 de noviembre a las 09 hs en Cementerio Municipal Villa Elisa E Rios. \nReservas 3447456151\nActividad Gratuita\nGraciela Antonin\nGuía Nacional de Turismo Uader\nMat 0054\nCoProTuer
URL:https://villaelisa.gov.ar/evento/visita-guiada-de-necroturismo/
LOCATION:Cementerio Municipal\, Av. Mitre\, Villa Elisa\, Entre Rios\, 3265\, Argentina
ATTACH;FMTTYPE=image/jpeg:https://villaelisa.gov.ar/wp-content/uploads/2025/11/WhatsApp-Image-2025-11-13-at-10.40.36-AM.jpeg
END:VEVENT
BEGIN:VEVENT
DTSTART;TZID=America/Argentina/Buenos_Aires:20251115T100000
DTEND;TZID=America/Argentina/Buenos_Aires:20251115T180000
DTSTAMP:20260423T202940
CREATED:20251113T100305Z
LAST-MODIFIED:20251113T100305Z
UID:10004852-1763200800-1763229600@villaelisa.gov.ar
SUMMARY:FERIA DE OPORTUNIDADES
DESCRIPTION:Venta de cosas nuevas y usadas en excelente estado. \nBlanquería\, Deco\, ropa para toda la familia\, utensilios de cocina\, libros\, y mucho más… \nCon tu compra\, podés elegir algo de nuestra Caja de Oportunidades!
URL:https://villaelisa.gov.ar/evento/feria-de-oportunidades/
ATTACH;FMTTYPE=image/jpeg:https://villaelisa.gov.ar/wp-content/uploads/2025/11/IMG-20250215-WA0068-scaled.jpg
END:VEVENT
BEGIN:VEVENT
DTSTART;TZID=America/Argentina/Buenos_Aires:20251115T100000
DTEND;TZID=America/Argentina/Buenos_Aires:20251115T190000
DTSTAMP:20260423T202940
CREATED:20251110T203106Z
LAST-MODIFIED:20251124T143357Z
UID:10004777-1763200800-1763233200@villaelisa.gov.ar
SUMMARY:Muestra fotográfica "Villa Elisa en el tiempo: una mirada a los 135 años de historia"
DESCRIPTION:De 10:00 a 13:00 y de 16:00 a 19:00 horas\, te invitamos a recorrer\, a través de esta muestra fotográfica\, la transformación urbana y social de nuestra ciudad a lo largo del tiempo.\nLa exposición reúne fotos históricas de distintos espacios de Villa Elisa junto a sus réplicas actuales\, generando un diálogo visual entre pasado y presente. \nEl valor del bono contribución de ingreso es de $1500 general y $1000 para menores entre 6 y 12 años inclusive\, jubilados y residentes de la micro región “Tierra de Palmares”. \nContacto: 3447436203 – www.museoelporvenir.com.ar
URL:https://villaelisa.gov.ar/evento/muestra-fotografica-temporal/2025-11-15/
LOCATION:Estancia Museo “El Porvenir”
ATTACH;FMTTYPE=image/jpeg:https://villaelisa.gov.ar/wp-content/uploads/2025/11/Muestra-temporal-2025-Villa-Elisa-en-el-tiempo-2.jpeg
END:VEVENT
BEGIN:VEVENT
DTSTART;TZID=America/Argentina/Buenos_Aires:20251116T100000
DTEND;TZID=America/Argentina/Buenos_Aires:20251116T130000
DTSTAMP:20260423T202940
CREATED:20241104T113404Z
LAST-MODIFIED:20241104T113404Z
UID:10002247-1763287200-1763298000@villaelisa.gov.ar
SUMMARY:Auto Tour
DESCRIPTION:TRAVELING VINA:  \nEs un servicio  extra\, que ofrece el complejo de Alojamientos “V I N A” \nExperiencia Rurales\, AUTO TOUR:  \nPlanificamos y coordinamos recorridos por bodegas\, fábricas de productos regionales\, y almacenes locales\, te llevamos a descubrir La Colonia\, cultura local y los paisajes mas hermosos de nuestra Tierra de Palmares.- \nOrganizado por Perla Lopez – \nReservas con anticipación: contacto 3447503491.- \nValor del recorrido: según destino elegido. \nTiempo demandado: aproximadamente 3 horas.- \nEl objetivo es formar una caravana\, con los vehículos de los interesados y hacer\, una mañana o una tarde de recorridos a los diferentes atractivos de nuestra zona  \nprevia coordinación.- \nPunto de salida: oficina de Turismo Villa Elisa.-
URL:https://villaelisa.gov.ar/evento/auto-tour/2025-11-16/
ATTACH;FMTTYPE=image/jpeg:https://villaelisa.gov.ar/wp-content/uploads/2024/11/Traveling-vina.jpg
END:VEVENT
BEGIN:VEVENT
DTSTART;TZID=America/Argentina/Buenos_Aires:20251116T100000
DTEND;TZID=America/Argentina/Buenos_Aires:20251116T190000
DTSTAMP:20260423T202940
CREATED:20251110T203106Z
LAST-MODIFIED:20251124T143357Z
UID:10004778-1763287200-1763319600@villaelisa.gov.ar
SUMMARY:Muestra fotográfica "Villa Elisa en el tiempo: una mirada a los 135 años de historia"
DESCRIPTION:De 10:00 a 13:00 y de 16:00 a 19:00 horas\, te invitamos a recorrer\, a través de esta muestra fotográfica\, la transformación urbana y social de nuestra ciudad a lo largo del tiempo.\nLa exposición reúne fotos históricas de distintos espacios de Villa Elisa junto a sus réplicas actuales\, generando un diálogo visual entre pasado y presente. \nEl valor del bono contribución de ingreso es de $1500 general y $1000 para menores entre 6 y 12 años inclusive\, jubilados y residentes de la micro región “Tierra de Palmares”. \nContacto: 3447436203 – www.museoelporvenir.com.ar
URL:https://villaelisa.gov.ar/evento/muestra-fotografica-temporal/2025-11-16/
LOCATION:Estancia Museo “El Porvenir”
ATTACH;FMTTYPE=image/jpeg:https://villaelisa.gov.ar/wp-content/uploads/2025/11/Muestra-temporal-2025-Villa-Elisa-en-el-tiempo-2.jpeg
END:VEVENT
BEGIN:VEVENT
DTSTART;TZID=America/Argentina/Buenos_Aires:20251116T103000
DTEND;TZID=America/Argentina/Buenos_Aires:20251116T193000
DTSTAMP:20260423T202940
CREATED:20251113T182846Z
LAST-MODIFIED:20251113T182846Z
UID:10004857-1763289000-1763321400@villaelisa.gov.ar
SUMMARY:Gran Evento Hípico
DESCRIPTION:Una de las carreras más importantes del año y de nuestra región. Los esperamos!!!
URL:https://villaelisa.gov.ar/evento/gran-evento-hipico-2/
LOCATION:Hipódromo Jockey Club Villa Elisa
ATTACH;FMTTYPE=image/jpeg:https://villaelisa.gov.ar/wp-content/uploads/2025/10/WhatsApp-Image-2025-11-13-at-3.22.02-PM.jpeg
END:VEVENT
END:VCALENDAR