BEGIN:VCALENDAR
VERSION:2.0
PRODID:-//Municipalidad de Villa Elisa, Entre Ríos - ECPv6.6.4.2//NONSGML v1.0//EN
CALSCALE:GREGORIAN
METHOD:PUBLISH
X-ORIGINAL-URL:https://villaelisa.gov.ar
X-WR-CALDESC:Eventos para Municipalidad de Villa Elisa, Entre Ríos
REFRESH-INTERVAL;VALUE=DURATION:PT1H
X-Robots-Tag:noindex
X-PUBLISHED-TTL:PT1H
BEGIN:VTIMEZONE
TZID:America/Argentina/Buenos_Aires
BEGIN:STANDARD
TZOFFSETFROM:-0300
TZOFFSETTO:-0300
TZNAME:-03
DTSTART:20250101T000000
END:STANDARD
END:VTIMEZONE
BEGIN:VEVENT
DTSTART;TZID=America/Argentina/Buenos_Aires:20251123T180000
DTEND;TZID=America/Argentina/Buenos_Aires:20251124T030000
DTSTAMP:20260423T203026
CREATED:20250630T100745Z
LAST-MODIFIED:20250630T100745Z
UID:10004334-1763920800-1763953200@villaelisa.gov.ar
SUMMARY:2° Marcha del Orgullo Provincial de Entre Ríos - 4° Marcha del Orgullo Local
DESCRIPTION:El próximo Domingo 23 de Noviembre del corriente año\, Villa Elisa será sede de la 2° Marcha del Orgullo Provincial de Entre Ríos!! 🏳️‍🌈 Conformando\, a su vez\, la 4° Marcha del Orgullo Local de nuestra ciudad. La misma se llevará a cabo en marco del “Cuarto Finde Diverso: Deporte\, arte y orgullo”: comenzando el día Viernes 21 por la tarde con actividades culturales y recreativas\, continuando el día Sábado 22 con el “4° Encuentro Deportivo Recreativo”\, donde deportistas de varias provincias participarán en las disciplinas de futbol\, básquet\, vóley y natación. Luego\, el Domingo 23 por la tarde\, llevaremos adelante la mencionada Marcha del Orgullo\, motivo y eje principal del fin de semana XXL. Al finalizar la misma\, tendremos como cierre de las actividades el “Festival Diversé” con la participación de diversos artistas del colectivo: batucada\, drag\, cumbia y mucha fiesta! Les esperamos bien arriba!! 🥳🙌🏻😁
URL:https://villaelisa.gov.ar/evento/2-marcha-del-orgullo-provincial-de-entre-rios-4-marcha-del-orgullo-local/
LOCATION:Banco del Orgullo\, Av. Mitre y Tratado del Pilar\, Villa Elisa\, Entre Rios\, 3265\, Argentina
ATTACH;FMTTYPE=image/jpeg:https://villaelisa.gov.ar/wp-content/uploads/2025/06/IMG-20250625-WA0036.jpg
END:VEVENT
BEGIN:VEVENT
DTSTART;TZID=America/Argentina/Buenos_Aires:20251124T100000
DTEND;TZID=America/Argentina/Buenos_Aires:20251124T190000
DTSTAMP:20260423T203026
CREATED:20251110T203106Z
LAST-MODIFIED:20251124T143357Z
UID:10004785-1763978400-1764010800@villaelisa.gov.ar
SUMMARY:Muestra fotográfica "Villa Elisa en el tiempo: una mirada a los 135 años de historia"
DESCRIPTION:De 10:00 a 13:00 y de 16:00 a 19:00 horas\, te invitamos a recorrer\, a través de esta muestra fotográfica\, la transformación urbana y social de nuestra ciudad a lo largo del tiempo.\nLa exposición reúne fotos históricas de distintos espacios de Villa Elisa junto a sus réplicas actuales\, generando un diálogo visual entre pasado y presente. \nEl valor del bono contribución de ingreso es de $1500 general y $1000 para menores entre 6 y 12 años inclusive\, jubilados y residentes de la micro región “Tierra de Palmares”. \nContacto: 3447436203 – www.museoelporvenir.com.ar
URL:https://villaelisa.gov.ar/evento/muestra-fotografica-temporal/2025-11-24/
LOCATION:Estancia Museo “El Porvenir”
ATTACH;FMTTYPE=image/jpeg:https://villaelisa.gov.ar/wp-content/uploads/2025/11/Muestra-temporal-2025-Villa-Elisa-en-el-tiempo-2.jpeg
END:VEVENT
BEGIN:VEVENT
DTSTART;TZID=America/Argentina/Buenos_Aires:20251126T100000
DTEND;TZID=America/Argentina/Buenos_Aires:20251126T190000
DTSTAMP:20260423T203026
CREATED:20251110T203106Z
LAST-MODIFIED:20251124T143357Z
UID:10004786-1764151200-1764183600@villaelisa.gov.ar
SUMMARY:Muestra fotográfica "Villa Elisa en el tiempo: una mirada a los 135 años de historia"
DESCRIPTION:De 10:00 a 13:00 y de 16:00 a 19:00 horas\, te invitamos a recorrer\, a través de esta muestra fotográfica\, la transformación urbana y social de nuestra ciudad a lo largo del tiempo.\nLa exposición reúne fotos históricas de distintos espacios de Villa Elisa junto a sus réplicas actuales\, generando un diálogo visual entre pasado y presente. \nEl valor del bono contribución de ingreso es de $1500 general y $1000 para menores entre 6 y 12 años inclusive\, jubilados y residentes de la micro región “Tierra de Palmares”. \nContacto: 3447436203 – www.museoelporvenir.com.ar
URL:https://villaelisa.gov.ar/evento/muestra-fotografica-temporal/2025-11-26/
LOCATION:Estancia Museo “El Porvenir”
ATTACH;FMTTYPE=image/jpeg:https://villaelisa.gov.ar/wp-content/uploads/2025/11/Muestra-temporal-2025-Villa-Elisa-en-el-tiempo-2.jpeg
END:VEVENT
BEGIN:VEVENT
DTSTART;TZID=America/Argentina/Buenos_Aires:20251126T103000
DTEND;TZID=America/Argentina/Buenos_Aires:20251126T130000
DTSTAMP:20260423T203026
CREATED:20251027T194110Z
LAST-MODIFIED:20251124T143830Z
UID:10004738-1764153000-1764162000@villaelisa.gov.ar
SUMMARY:Visitas Guiadas en Estancia Museo El Porvenir
DESCRIPTION:De lunes a viernes (excepto martes) las 10:30 y 12:00 horas\,  pueden realizarse las visitas guiadas gratuitas por la Estancia. \nSi se lo desea\, se puede visitar el lugar en forma independiente (sin visita guiada) de 10:00 a 13:00 y de 16:00 a 19:00 horas\, recordando que también está habilitado el sector del parque recreativo. \nEl valor del bono contribución de ingreso es de $1500 general y $1000 para menores entre 6 y 12 años inclusive\, jubilados y residentes de la micro región “Tierra de Palmares”. \nContacto: 3447436203 – www.museoelporvenir.com.ar
URL:https://villaelisa.gov.ar/evento/visitas-guiadas-en-estancia-museo-el-porvenir-9/2025-11-26/
LOCATION:Estancia Museo “El Porvenir”
ATTACH;FMTTYPE=image/jpeg:https://villaelisa.gov.ar/wp-content/uploads/2025/08/Horarios-septiembre-2025-feed.jpeg
END:VEVENT
BEGIN:VEVENT
DTSTART;TZID=America/Argentina/Buenos_Aires:20251126T200000
DTEND;TZID=America/Argentina/Buenos_Aires:20251126T210000
DTSTAMP:20260423T203026
CREATED:20251113T153950Z
LAST-MODIFIED:20251113T153950Z
UID:10004856-1764187200-1764190800@villaelisa.gov.ar
SUMMARY:Velada Literaria
DESCRIPTION:La escritura es un camino creativo\, sigamos recorriendolo en este cierre del taller en Centro Saboya
URL:https://villaelisa.gov.ar/evento/velada-literaria/
LOCATION:Centro Saboya Argentina de Villa Elisa\, Churruarín 1506\, Villa Elisa\, 3265
ATTACH;FMTTYPE=image/jpeg:https://villaelisa.gov.ar/wp-content/uploads/2025/11/WhatsApp-Image-2025-11-13-at-12.32.38-PM.jpeg
END:VEVENT
BEGIN:VEVENT
DTSTART;TZID=America/Argentina/Buenos_Aires:20251127T100000
DTEND;TZID=America/Argentina/Buenos_Aires:20251127T190000
DTSTAMP:20260423T203026
CREATED:20251110T203106Z
LAST-MODIFIED:20251124T143357Z
UID:10004787-1764237600-1764270000@villaelisa.gov.ar
SUMMARY:Muestra fotográfica "Villa Elisa en el tiempo: una mirada a los 135 años de historia"
DESCRIPTION:De 10:00 a 13:00 y de 16:00 a 19:00 horas\, te invitamos a recorrer\, a través de esta muestra fotográfica\, la transformación urbana y social de nuestra ciudad a lo largo del tiempo.\nLa exposición reúne fotos históricas de distintos espacios de Villa Elisa junto a sus réplicas actuales\, generando un diálogo visual entre pasado y presente. \nEl valor del bono contribución de ingreso es de $1500 general y $1000 para menores entre 6 y 12 años inclusive\, jubilados y residentes de la micro región “Tierra de Palmares”. \nContacto: 3447436203 – www.museoelporvenir.com.ar
URL:https://villaelisa.gov.ar/evento/muestra-fotografica-temporal/2025-11-27/
LOCATION:Estancia Museo “El Porvenir”
ATTACH;FMTTYPE=image/jpeg:https://villaelisa.gov.ar/wp-content/uploads/2025/11/Muestra-temporal-2025-Villa-Elisa-en-el-tiempo-2.jpeg
END:VEVENT
BEGIN:VEVENT
DTSTART;TZID=America/Argentina/Buenos_Aires:20251127T103000
DTEND;TZID=America/Argentina/Buenos_Aires:20251127T130000
DTSTAMP:20260423T203026
CREATED:20251027T194110Z
LAST-MODIFIED:20251124T143830Z
UID:10004739-1764239400-1764248400@villaelisa.gov.ar
SUMMARY:Visitas Guiadas en Estancia Museo El Porvenir
DESCRIPTION:De lunes a viernes (excepto martes) las 10:30 y 12:00 horas\,  pueden realizarse las visitas guiadas gratuitas por la Estancia. \nSi se lo desea\, se puede visitar el lugar en forma independiente (sin visita guiada) de 10:00 a 13:00 y de 16:00 a 19:00 horas\, recordando que también está habilitado el sector del parque recreativo. \nEl valor del bono contribución de ingreso es de $1500 general y $1000 para menores entre 6 y 12 años inclusive\, jubilados y residentes de la micro región “Tierra de Palmares”. \nContacto: 3447436203 – www.museoelporvenir.com.ar
URL:https://villaelisa.gov.ar/evento/visitas-guiadas-en-estancia-museo-el-porvenir-9/2025-11-27/
LOCATION:Estancia Museo “El Porvenir”
ATTACH;FMTTYPE=image/jpeg:https://villaelisa.gov.ar/wp-content/uploads/2025/08/Horarios-septiembre-2025-feed.jpeg
END:VEVENT
BEGIN:VEVENT
DTSTART;TZID=America/Argentina/Buenos_Aires:20251127T200000
DTEND;TZID=America/Argentina/Buenos_Aires:20251127T220000
DTSTAMP:20260423T203026
CREATED:20251104T130437Z
LAST-MODIFIED:20251104T130437Z
UID:10004764-1764273600-1764280800@villaelisa.gov.ar
SUMMARY:"Pierrot" Muestra Fotográfica
DESCRIPTION:“Pierrot” Una historia de desamor te esperamos en Biblioteca Mitre
URL:https://villaelisa.gov.ar/evento/pierrot-muestra-fotografica/
LOCATION:Biblioteca Popular General Mitre\, Av. Mitre 1160\, Villa Elisa\, 3265
ATTACH;FMTTYPE=image/jpeg:https://villaelisa.gov.ar/wp-content/uploads/2025/11/WhatsApp-Image-2025-11-04-at-10.00.56-AM-1.jpeg
END:VEVENT
BEGIN:VEVENT
DTSTART;TZID=America/Argentina/Buenos_Aires:20251127T200000
DTEND;TZID=America/Argentina/Buenos_Aires:20251127T220000
DTSTAMP:20260423T203026
CREATED:20251113T193747Z
LAST-MODIFIED:20251127T195823Z
UID:10004858-1764273600-1764280800@villaelisa.gov.ar
SUMMARY:26 ° Aniversario Termas Villa Elisa SUSPENDIDA
DESCRIPTION:Hoy misa en Parroquia Natividad de Nuestra Señora 20 hs. \nProcesión Suspendida por cuestiones climáticas
URL:https://villaelisa.gov.ar/evento/26-aniversario-termas-villa-elisa/
LOCATION:Termas Villa Elisa
ATTACH;FMTTYPE=image/jpeg:https://villaelisa.gov.ar/wp-content/uploads/2025/11/WhatsApp-Image-2025-11-27-at-16.36.16.jpeg
END:VEVENT
BEGIN:VEVENT
DTSTART;TZID=America/Argentina/Buenos_Aires:20251127T200000
DTEND;TZID=America/Argentina/Buenos_Aires:20251127T220000
DTSTAMP:20260423T203026
CREATED:20251119T133627Z
LAST-MODIFIED:20251119T133627Z
UID:10004889-1764273600-1764280800@villaelisa.gov.ar
SUMMARY:Taller Gratuito :" La voz en el cuerpo"
DESCRIPTION:Taller Gratuito : ” La voz en el cuerpo” – Coordinado por la música Anabella Porta. Nos enfocaremos en la escucha y la curiosidad como vehículos para iluminar la anatomía de la voz y buscar\, probar e investigar recursos para una voz en escena. Para adquirir mayor conocimiento y dominio del propio esquema vocal-corporal. \n☎️Consultas e inscripción 3447 416733
URL:https://villaelisa.gov.ar/evento/taller-gratuito-la-voz-en-el-cuerpo/
LOCATION:La ENREDADA\, FRANCOU 1548\, Villa Elisa\, 3265
ATTACH;FMTTYPE=image/jpeg:https://villaelisa.gov.ar/wp-content/uploads/2025/11/WhatsApp-Image-2025-11-13-at-21.23.48.jpeg
END:VEVENT
BEGIN:VEVENT
DTSTART;TZID=America/Argentina/Buenos_Aires:20251128T100000
DTEND;TZID=America/Argentina/Buenos_Aires:20251128T190000
DTSTAMP:20260423T203026
CREATED:20251110T203106Z
LAST-MODIFIED:20251124T143357Z
UID:10004788-1764324000-1764356400@villaelisa.gov.ar
SUMMARY:Muestra fotográfica "Villa Elisa en el tiempo: una mirada a los 135 años de historia"
DESCRIPTION:De 10:00 a 13:00 y de 16:00 a 19:00 horas\, te invitamos a recorrer\, a través de esta muestra fotográfica\, la transformación urbana y social de nuestra ciudad a lo largo del tiempo.\nLa exposición reúne fotos históricas de distintos espacios de Villa Elisa junto a sus réplicas actuales\, generando un diálogo visual entre pasado y presente. \nEl valor del bono contribución de ingreso es de $1500 general y $1000 para menores entre 6 y 12 años inclusive\, jubilados y residentes de la micro región “Tierra de Palmares”. \nContacto: 3447436203 – www.museoelporvenir.com.ar
URL:https://villaelisa.gov.ar/evento/muestra-fotografica-temporal/2025-11-28/
LOCATION:Estancia Museo “El Porvenir”
ATTACH;FMTTYPE=image/jpeg:https://villaelisa.gov.ar/wp-content/uploads/2025/11/Muestra-temporal-2025-Villa-Elisa-en-el-tiempo-2.jpeg
END:VEVENT
BEGIN:VEVENT
DTSTART;TZID=America/Argentina/Buenos_Aires:20251128T103000
DTEND;TZID=America/Argentina/Buenos_Aires:20251128T130000
DTSTAMP:20260423T203026
CREATED:20251027T194110Z
LAST-MODIFIED:20251124T143830Z
UID:10004740-1764325800-1764334800@villaelisa.gov.ar
SUMMARY:Visitas Guiadas en Estancia Museo El Porvenir
DESCRIPTION:De lunes a viernes (excepto martes) las 10:30 y 12:00 horas\,  pueden realizarse las visitas guiadas gratuitas por la Estancia. \nSi se lo desea\, se puede visitar el lugar en forma independiente (sin visita guiada) de 10:00 a 13:00 y de 16:00 a 19:00 horas\, recordando que también está habilitado el sector del parque recreativo. \nEl valor del bono contribución de ingreso es de $1500 general y $1000 para menores entre 6 y 12 años inclusive\, jubilados y residentes de la micro región “Tierra de Palmares”. \nContacto: 3447436203 – www.museoelporvenir.com.ar
URL:https://villaelisa.gov.ar/evento/visitas-guiadas-en-estancia-museo-el-porvenir-9/2025-11-28/
LOCATION:Estancia Museo “El Porvenir”
ATTACH;FMTTYPE=image/jpeg:https://villaelisa.gov.ar/wp-content/uploads/2025/08/Horarios-septiembre-2025-feed.jpeg
END:VEVENT
BEGIN:VEVENT
DTSTART;TZID=America/Argentina/Buenos_Aires:20251128T203000
DTEND;TZID=America/Argentina/Buenos_Aires:20251128T230000
DTSTAMP:20260423T203026
CREATED:20251127T135837Z
LAST-MODIFIED:20251127T140118Z
UID:10004946-1764361800-1764370800@villaelisa.gov.ar
SUMMARY:Despedida de Año de No Estás Solo"
DESCRIPTION:Los esperamos para compartir el cierre de talleres y cena de despedida del año con brindis y baile.
URL:https://villaelisa.gov.ar/evento/despedida-de-ano-de-no-estas-solo/
LOCATION:Centro Cultural La Fragua
ATTACH;FMTTYPE=image/jpeg:https://villaelisa.gov.ar/wp-content/uploads/2025/11/WhatsApp-Image-2025-11-26-at-9.58.24-PM.jpeg
END:VEVENT
BEGIN:VEVENT
DTSTART;TZID=America/Argentina/Buenos_Aires:20251129T100000
DTEND;TZID=America/Argentina/Buenos_Aires:20251129T190000
DTSTAMP:20260423T203026
CREATED:20251110T203106Z
LAST-MODIFIED:20251124T143357Z
UID:10004789-1764410400-1764442800@villaelisa.gov.ar
SUMMARY:Muestra fotográfica "Villa Elisa en el tiempo: una mirada a los 135 años de historia"
DESCRIPTION:De 10:00 a 13:00 y de 16:00 a 19:00 horas\, te invitamos a recorrer\, a través de esta muestra fotográfica\, la transformación urbana y social de nuestra ciudad a lo largo del tiempo.\nLa exposición reúne fotos históricas de distintos espacios de Villa Elisa junto a sus réplicas actuales\, generando un diálogo visual entre pasado y presente. \nEl valor del bono contribución de ingreso es de $1500 general y $1000 para menores entre 6 y 12 años inclusive\, jubilados y residentes de la micro región “Tierra de Palmares”. \nContacto: 3447436203 – www.museoelporvenir.com.ar
URL:https://villaelisa.gov.ar/evento/muestra-fotografica-temporal/2025-11-29/
LOCATION:Estancia Museo “El Porvenir”
ATTACH;FMTTYPE=image/jpeg:https://villaelisa.gov.ar/wp-content/uploads/2025/11/Muestra-temporal-2025-Villa-Elisa-en-el-tiempo-2.jpeg
END:VEVENT
BEGIN:VEVENT
DTSTART;TZID=America/Argentina/Buenos_Aires:20251129T100000
DTEND;TZID=America/Argentina/Buenos_Aires:20251129T193000
DTSTAMP:20260423T203026
CREATED:20251024T144835Z
LAST-MODIFIED:20251128T182320Z
UID:10004726-1764410400-1764444600@villaelisa.gov.ar
SUMMARY:Gran Evento Hípico
DESCRIPTION:Una de las carreras más importantes del año y de nuestra región. Los esperamos!!!
URL:https://villaelisa.gov.ar/evento/gran-evento-hipico/
LOCATION:Hipódromo Jockey Club Villa Elisa
ATTACH;FMTTYPE=image/jpeg:https://villaelisa.gov.ar/wp-content/uploads/2025/10/WhatsApp-Image-2025-11-28-at-15.06.33.jpeg
END:VEVENT
BEGIN:VEVENT
DTSTART;TZID=America/Argentina/Buenos_Aires:20251129T190000
DTEND;TZID=America/Argentina/Buenos_Aires:20251129T210000
DTSTAMP:20260423T203026
CREATED:20251128T130440Z
LAST-MODIFIED:20251128T131506Z
UID:10004948-1764442800-1764450000@villaelisa.gov.ar
SUMMARY:Fútbol Regional Federal
DESCRIPTION:Se juega la última fecha y el último partido del año. \nSábado 19:00 hs\, Cave recibe a Juventud Unida (Gualeguaychú) en el Estadio “2 de junio”
URL:https://villaelisa.gov.ar/evento/futbol-regional-federal/
LOCATION:CAVE Estadio 2 de Junio
ATTACH;FMTTYPE=image/jpeg:https://villaelisa.gov.ar/wp-content/uploads/2025/11/WhatsApp-Image-2025-11-28-at-12.39.40-AM.jpeg
END:VEVENT
BEGIN:VEVENT
DTSTART;TZID=America/Argentina/Buenos_Aires:20251129T203000
DTEND;TZID=America/Argentina/Buenos_Aires:20251129T223000
DTSTAMP:20260423T203026
CREATED:20251126T193617Z
LAST-MODIFIED:20251126T193617Z
UID:10004940-1764448200-1764455400@villaelisa.gov.ar
SUMMARY:Muestra de Teatro
DESCRIPTION:Te invitamos este Sábado 29 a nuestra muestra anual del Taller de Teatro \nA partir de las 20.30 hs en La Fragua (Héctor de Elía 1489) \n20.45 hs – Aventura en el bosque\n21.15 hs – Pequeñas y pequeños Eternautas\n22 hs – Chicas Teatreras \nBono contribución: $3.000 \n¡Vení al teatro! ¡Te esperamos! \nEva\, Antonio\, Maite\, Maca\, Juli\, Seba\, Matu\, Mari\, Ampi\, Gala\, Magda\, Juana y Sol.
URL:https://villaelisa.gov.ar/evento/muestra-de-teatro/
LOCATION:Centro Cultural La Fragua
ATTACH;FMTTYPE=image/jpeg:https://villaelisa.gov.ar/wp-content/uploads/2025/11/WhatsApp-Image-2025-11-26-at-16.30.35.jpeg
END:VEVENT
BEGIN:VEVENT
DTSTART;TZID=America/Argentina/Buenos_Aires:20251129T203000
DTEND;TZID=America/Argentina/Buenos_Aires:20251129T233000
DTSTAMP:20260423T203026
CREATED:20251112T151001Z
LAST-MODIFIED:20251112T173636Z
UID:10004851-1764448200-1764459000@villaelisa.gov.ar
SUMMARY:Cena Aniversario Centro Saboya Villa Elisa Entre Ríos
DESCRIPTION:35 años no se cumplen todos los días y se merecen una celebración!! \nTe invitamos a una cena informal y distendida en nuestra sede\, para reencontrarnos\, recordar anécdotas\, y celebrar juntos tantos años compartidos. \nLas tarjetas ya se encuentran a la venta en Secretaría!!\nPodés contactarte al 3447 435450 o acercarte a Churruarín 1506 de lunes a viernes 15 a 20 hs. \n¿De qué consta el menú?\nTendremos variedad de bocaditos (¡ríquisimos!)\nPernil de cerdo!!\nTorta de cumpleaños (infaltable) \n¿qué valor tiene la tarjeta?\nPúblico general: $25.000\nSocios: $22.500 \nImportante: La tarjeta no incluye bebida! y la venta de las mismas estará a cargo de la Cooperadora de la Esc. nº 123 Nuestra Señora de Fátima. \nTe esperamos para ser parte de este encuentro!
URL:https://villaelisa.gov.ar/evento/cena-aniversario-centro-saboya-villa-elisa-entre-rios/
LOCATION:Centro Saboya Argentina de Villa Elisa\, Churruarín 1506\, Villa Elisa\, 3265
ATTACH;FMTTYPE=image/jpeg:https://villaelisa.gov.ar/wp-content/uploads/2025/11/WhatsApp-Image-2025-11-12-at-12.05.19-PM.jpeg
END:VEVENT
BEGIN:VEVENT
DTSTART;TZID=America/Argentina/Buenos_Aires:20251129T210000
DTEND;TZID=America/Argentina/Buenos_Aires:20251129T223000
DTSTAMP:20260423T203026
CREATED:20251117T140905Z
LAST-MODIFIED:20251127T130938Z
UID:10004860-1764450000-1764455400@villaelisa.gov.ar
SUMMARY:"El Misterio de la Felicidad" Película en Cine Paradiso
DESCRIPTION:Una película conmovedora romántica y filosófica con un simpático relato íntimo y profundamente personal dónde se van resolviendo misterios qué invitan a reflexionar \nResumiendo es IMPERDIBLE!!! \nCine Paradiso Alvear 942 Entrada solo $1500
URL:https://villaelisa.gov.ar/evento/mi-casa-en-umbria-pelicula-en-cine-paradiso/
ATTACH;FMTTYPE=image/jpeg:https://villaelisa.gov.ar/wp-content/uploads/2025/11/WhatsApp-Image-2025-11-27-at-9.41.06-AM.jpeg
END:VEVENT
BEGIN:VEVENT
DTSTART;TZID=America/Argentina/Buenos_Aires:20251129T210000
DTEND;TZID=America/Argentina/Buenos_Aires:20251130T013000
DTSTAMP:20260423T203026
CREATED:20251113T150652Z
LAST-MODIFIED:20251113T150652Z
UID:10004855-1764450000-1764466200@villaelisa.gov.ar
SUMMARY:15° Aniversario Liga de Fútbol de las Colonias
DESCRIPTION:LA LIGA DE LAS COLONIAS CUMPLE 15 AÑOS Y LO FESTEJA A LO GRANDE \nLa Liga de las Colonias está de fiesta. Sí\, se vienen los primeros 15 años de vida de esta gran familia futbolera y\, como no podía ser de otra manera\, habrá una velada llena de reconocimientos\, emociones y música para todos los que han sido parte de esta historia. \nEl sábado 29 de noviembre\, desde las 21 hs\, el salón del Club Atlético Vázquez se vestirá de gala para rendir homenaje a los fundadores de la Liga y a los clubes que han sido protagonistas desde el inicio hasta hoy. Será una noche nostálgica\, pero también cargada de alegría y recuerdos. \nLa invitación está abierta a todos los seguidores de la Liga\, pero ojo: si querés vivir una noche distinta\, no podés faltar. Habrá show de “El Pato” Viganoni\, que promete un espectáculo inigualable\, y Juampi Gabino pondrá a todos a bailar. Y para cerrar\, un DJ que hará vibrar el salón hasta el final. \nLa entrada general tiene un costo de $6.000 y en el lugar habrá servicio de cantina y venta de comidas rápidas\, ideal para disfrutar de una noche inolvidable junto a los verdaderos protagonistas de esta historia: la Liga de las Colonias y su gente. \nQuince años de pasión\, fútbol y amistad. Y ahora\, una fiesta que promete quedar en la historia.
URL:https://villaelisa.gov.ar/evento/15-aniversario-liga-de-futbol-de-las-colonias/
LOCATION:Club Vazquez\, Ruta provincial 23\, km8\, Villa Elisa\, Entre Rios\, 3265\, Argentina
ATTACH;FMTTYPE=image/jpeg:https://villaelisa.gov.ar/wp-content/uploads/2025/11/WhatsApp-Image-2025-11-13-at-12.03.08-PM.jpeg
END:VEVENT
BEGIN:VEVENT
DTSTART;TZID=America/Argentina/Buenos_Aires:20251130T100000
DTEND;TZID=America/Argentina/Buenos_Aires:20251130T130000
DTSTAMP:20260423T203026
CREATED:20241104T113404Z
LAST-MODIFIED:20241104T113404Z
UID:10002249-1764496800-1764507600@villaelisa.gov.ar
SUMMARY:Auto Tour
DESCRIPTION:TRAVELING VINA:  \nEs un servicio  extra\, que ofrece el complejo de Alojamientos “V I N A” \nExperiencia Rurales\, AUTO TOUR:  \nPlanificamos y coordinamos recorridos por bodegas\, fábricas de productos regionales\, y almacenes locales\, te llevamos a descubrir La Colonia\, cultura local y los paisajes mas hermosos de nuestra Tierra de Palmares.- \nOrganizado por Perla Lopez – \nReservas con anticipación: contacto 3447503491.- \nValor del recorrido: según destino elegido. \nTiempo demandado: aproximadamente 3 horas.- \nEl objetivo es formar una caravana\, con los vehículos de los interesados y hacer\, una mañana o una tarde de recorridos a los diferentes atractivos de nuestra zona  \nprevia coordinación.- \nPunto de salida: oficina de Turismo Villa Elisa.-
URL:https://villaelisa.gov.ar/evento/auto-tour/2025-11-30/
ATTACH;FMTTYPE=image/jpeg:https://villaelisa.gov.ar/wp-content/uploads/2024/11/Traveling-vina.jpg
END:VEVENT
BEGIN:VEVENT
DTSTART;TZID=America/Argentina/Buenos_Aires:20251130T100000
DTEND;TZID=America/Argentina/Buenos_Aires:20251130T190000
DTSTAMP:20260423T203026
CREATED:20251110T203106Z
LAST-MODIFIED:20251124T143357Z
UID:10004790-1764496800-1764529200@villaelisa.gov.ar
SUMMARY:Muestra fotográfica "Villa Elisa en el tiempo: una mirada a los 135 años de historia"
DESCRIPTION:De 10:00 a 13:00 y de 16:00 a 19:00 horas\, te invitamos a recorrer\, a través de esta muestra fotográfica\, la transformación urbana y social de nuestra ciudad a lo largo del tiempo.\nLa exposición reúne fotos históricas de distintos espacios de Villa Elisa junto a sus réplicas actuales\, generando un diálogo visual entre pasado y presente. \nEl valor del bono contribución de ingreso es de $1500 general y $1000 para menores entre 6 y 12 años inclusive\, jubilados y residentes de la micro región “Tierra de Palmares”. \nContacto: 3447436203 – www.museoelporvenir.com.ar
URL:https://villaelisa.gov.ar/evento/muestra-fotografica-temporal/2025-11-30/
LOCATION:Estancia Museo “El Porvenir”
ATTACH;FMTTYPE=image/jpeg:https://villaelisa.gov.ar/wp-content/uploads/2025/11/Muestra-temporal-2025-Villa-Elisa-en-el-tiempo-2.jpeg
END:VEVENT
BEGIN:VEVENT
DTSTART;TZID=America/Argentina/Buenos_Aires:20251130T153000
DTEND;TZID=America/Argentina/Buenos_Aires:20251130T190000
DTSTAMP:20260423T203026
CREATED:20251128T172447Z
LAST-MODIFIED:20251128T172447Z
UID:10004949-1764516600-1764529200@villaelisa.gov.ar
SUMMARY:Estación Elisa - Ferroclub Central Entrerriano
DESCRIPTION:Te esperamos para un viaje inolvidable. Viví la magia del pasado en la Estación Elisa. Desde las 15:30 hs podrás recorrer la estación y descubrir increíbles maquinarias y objetos de época que te transportarán en el tiempo. \nA las 17:00 hs no te pierdas los emocionantes paseos en el Tren Histórico. \nUna experiencia única para disfrutar en familia o con amigos!!!\nCalle Centenario 2200 – Consultas: 3442 551086
URL:https://villaelisa.gov.ar/evento/estacion-elisa-ferroclub-central-entrerriano-11/
LOCATION:Ferroclub Central Entrerriano\, Centenario y Arenales\, Villa Elisa\, 3265
ATTACH;FMTTYPE=image/jpeg:https://villaelisa.gov.ar/wp-content/uploads/2025/03/WhatsApp-Image-2025-06-25-at-3.17.24-PM.jpeg
END:VEVENT
BEGIN:VEVENT
DTSTART;TZID=America/Argentina/Buenos_Aires:20251130T200000
DTEND;TZID=America/Argentina/Buenos_Aires:20251130T233000
DTSTAMP:20260423T203026
CREATED:20251126T123434Z
LAST-MODIFIED:20251126T123909Z
UID:10004923-1764532800-1764545400@villaelisa.gov.ar
SUMMARY:Baile en Centro Unión
DESCRIPTION:Los esperamos para pasar una noche muy entretenida junto a “Grupo Cinco”
URL:https://villaelisa.gov.ar/evento/baile-en-centro-union-9/
LOCATION:Centro Union\, El Ñandubay 1075\, Villa Elisa\, Entre Rios\, 3265\, Argentina
ATTACH;FMTTYPE=image/jpeg:https://villaelisa.gov.ar/wp-content/uploads/2025/11/WhatsApp-Image-2025-11-26-at-9.30.45-AM.jpeg
END:VEVENT
END:VCALENDAR