BEGIN:VCALENDAR
VERSION:2.0
PRODID:-//Municipalidad de Villa Elisa, Entre Ríos - ECPv6.6.4.2//NONSGML v1.0//EN
CALSCALE:GREGORIAN
METHOD:PUBLISH
X-ORIGINAL-URL:https://villaelisa.gov.ar
X-WR-CALDESC:Eventos para Municipalidad de Villa Elisa, Entre Ríos
REFRESH-INTERVAL;VALUE=DURATION:PT1H
X-Robots-Tag:noindex
X-PUBLISHED-TTL:PT1H
BEGIN:VTIMEZONE
TZID:America/Argentina/Buenos_Aires
BEGIN:STANDARD
TZOFFSETFROM:-0300
TZOFFSETTO:-0300
TZNAME:-03
DTSTART:20250101T000000
END:STANDARD
END:VTIMEZONE
BEGIN:VEVENT
DTSTART;TZID=America/Argentina/Buenos_Aires:20251229T100000
DTEND;TZID=America/Argentina/Buenos_Aires:20251229T200000
DTSTAMP:20260423T140508
CREATED:20251119T192833Z
LAST-MODIFIED:20251126T193618Z
UID:10004916-1767002400-1767038400@villaelisa.gov.ar
SUMMARY:Muestra fotográfica “Villa Elisa en el tiempo: una mirada a los 135 años de historia”
DESCRIPTION:De 10:00 a 13:00 y de 17:00 a 20:00 horas\, te invitamos a recorrer\, a través de esta muestra fotográfica\, la transformación urbana y social de nuestra ciudad a lo largo del tiempo.\nLa exposición reúne fotos históricas de distintos espacios de Villa Elisa junto a sus réplicas actuales\, generando un diálogo visual entre pasado y presente. \nEl valor del bono contribución de ingreso es de $2000 general y $1500 para menores entre 6 y 12 años inclusive\, jubilados y residentes de la micro región “Tierra de Palmares”. \nContacto: 3447436203 – www.museoelporvenir.com.ar
URL:https://villaelisa.gov.ar/evento/muestra-fotografica-temporal-2/2025-12-29/
LOCATION:Estancia Museo “El Porvenir”
ATTACH;FMTTYPE=image/jpeg:https://villaelisa.gov.ar/wp-content/uploads/2025/11/Muestra-temporal-2025-Villa-Elisa-en-el-tiempo-2-1.jpeg
END:VEVENT
BEGIN:VEVENT
DTSTART;TZID=America/Argentina/Buenos_Aires:20251229T103000
DTEND;TZID=America/Argentina/Buenos_Aires:20251229T130000
DTSTAMP:20260423T140508
CREATED:20251126T192731Z
LAST-MODIFIED:20251126T193205Z
UID:10004939-1767004200-1767013200@villaelisa.gov.ar
SUMMARY:Visitas Guiadas en Estancia Museo El Porvenir
DESCRIPTION:De lunes a viernes (excepto martes) las 10:30 y 12:00 horas\,  pueden realizarse las visitas guiadas gratuitas por la Estancia. \nSi se lo desea\, se puede visitar el lugar en forma independiente (sin visita guiada) de 10:00 a 13:00 y de 17:00 a 20:00 horas\, recordando que también está habilitado el sector del parque recreativo. \nEl valor del bono contribución de ingreso es de $2000 general y $1500 para menores entre 6 y 12 años inclusive\, jubilados y residentes de la micro región “Tierra de Palmares”. \nContacto: 3447436203 – www.museoelporvenir.com.ar
URL:https://villaelisa.gov.ar/evento/visitas-guiadas-en-estancia-museo-el-porvenir-11/2025-12-29/
LOCATION:Estancia Museo “El Porvenir”
ATTACH;FMTTYPE=image/jpeg:https://villaelisa.gov.ar/wp-content/uploads/2025/11/Horario-diciembre-2025-feed.jpeg
END:VEVENT
BEGIN:VEVENT
DTSTART;TZID=America/Argentina/Buenos_Aires:20251230T200000
DTEND;TZID=America/Argentina/Buenos_Aires:20251230T233000
DTSTAMP:20260423T140508
CREATED:20251212T195327Z
LAST-MODIFIED:20251229T154249Z
UID:10004976-1767124800-1767137400@villaelisa.gov.ar
SUMMARY:Finales del Torneo de Básquetbol Nocturno
DESCRIPTION:Este martes 30\, a partir de las 20:15\, veni a disfrutar de la final del torneo básquet casas comerciales en el Estadio cerrado de CAVE \nHabrá comidas rápidas y bebida. No te lo podes perder.!!! \n 
URL:https://villaelisa.gov.ar/evento/torneo-de-basquetbol-nocturno/
LOCATION:Estadio cerrado CAVE\, Emilio Francou e Irigoyen\, Villa Elisa\, 3264
ATTACH;FMTTYPE=image/jpeg:https://villaelisa.gov.ar/wp-content/uploads/2025/12/WhatsApp-Image-2025-12-29-at-12.40.04-PM.jpeg
GEO:-32.164117;-58.397421
X-APPLE-STRUCTURED-LOCATION;VALUE=URI;X-ADDRESS=Estadio cerrado CAVE Emilio Francou e Irigoyen Villa Elisa 3264;X-APPLE-RADIUS=500;X-TITLE=Emilio Francou e Irigoyen:geo:-58.397421,-32.164117
END:VEVENT
BEGIN:VEVENT
DTSTART;TZID=America/Argentina/Buenos_Aires:20251231T100000
DTEND;TZID=America/Argentina/Buenos_Aires:20251231T130000
DTSTAMP:20260423T140508
CREATED:20251126T193930Z
LAST-MODIFIED:20251126T193930Z
UID:10004942-1767175200-1767186000@villaelisa.gov.ar
SUMMARY:Muestra fotográfica “Villa Elisa en el tiempo: una mirada a los 135 años de historia”
DESCRIPTION:De 10:00 a 13:00 horas\, te invitamos a recorrer\, a través de esta muestra fotográfica\, la transformación urbana y social de nuestra ciudad a lo largo del tiempo.\nLa exposición reúne fotos históricas de distintos espacios de Villa Elisa junto a sus réplicas actuales\, generando un diálogo visual entre pasado y presente. \nEl valor del bono contribución de ingreso es de $2000 general y $1500 para menores entre 6 y 12 años inclusive\, jubilados y residentes de la micro región “Tierra de Palmares”. \nContacto: 3447436203 – www.museoelporvenir.com.ar
URL:https://villaelisa.gov.ar/evento/muestra-fotografica-temporal-2-3/
LOCATION:Estancia Museo “El Porvenir”
ATTACH;FMTTYPE=image/jpeg:https://villaelisa.gov.ar/wp-content/uploads/2025/11/Muestra-temporal-2025-Villa-Elisa-en-el-tiempo-2-1.jpeg
END:VEVENT
BEGIN:VEVENT
DTSTART;TZID=America/Argentina/Buenos_Aires:20251231T213000
DTEND;TZID=America/Argentina/Buenos_Aires:20260101T013000
DTSTAMP:20260423T140508
CREATED:20251217T183141Z
LAST-MODIFIED:20251217T183141Z
UID:10004988-1767216600-1767231000@villaelisa.gov.ar
SUMMARY:Cena Show del 31 en "El Paso"
DESCRIPTION:Una noche especial con exquisitos platos y la excelente música de ” Ariel Fusa ” en Parrilla-Restaurante El Paso. \n 
URL:https://villaelisa.gov.ar/evento/cena-show-del-31-en-el-paso/
LOCATION:Parrilla El Paso\, Av. Urquiza 3145\, Villa Elisa\, 3265
ATTACH;FMTTYPE=image/jpeg:https://villaelisa.gov.ar/wp-content/uploads/2025/12/WhatsApp-Image-2025-12-17-at-14.43.55.jpeg
END:VEVENT
BEGIN:VEVENT
DTSTART;TZID=America/Argentina/Buenos_Aires:20251231T233000
DTEND;TZID=America/Argentina/Buenos_Aires:20260101T050000
DTSTAMP:20260423T140508
CREATED:20251222T122825Z
LAST-MODIFIED:20251222T122825Z
UID:10005035-1767223800-1767243600@villaelisa.gov.ar
SUMMARY:Retro Villa Elisa
DESCRIPTION:Una noche única e inolvidable para arrancar un 2026 de la mejor manera\, celebrando 10 años de nuestros encuentros Retro!!!!
URL:https://villaelisa.gov.ar/evento/retro-villa-elisa/
LOCATION:Hipódromo Jockey Club Villa Elisa
ATTACH;FMTTYPE=image/jpeg:https://villaelisa.gov.ar/wp-content/uploads/2025/12/WhatsApp-Image-2025-12-21-at-10.23.14-PM.jpeg
END:VEVENT
BEGIN:VEVENT
DTSTART;TZID=America/Argentina/Buenos_Aires:20260101T003000
DTEND;TZID=America/Argentina/Buenos_Aires:20260101T023000
DTSTAMP:20260423T140508
CREATED:20251213T193741Z
LAST-MODIFIED:20251213T193741Z
UID:10004979-1767227400-1767234600@villaelisa.gov.ar
SUMMARY:Fiesta Familiar
DESCRIPTION:Recibimos este nuevo año con mucha música y diversión en el Complejo Termal
URL:https://villaelisa.gov.ar/evento/fiesta-familiar/
ATTACH;FMTTYPE=image/jpeg:https://villaelisa.gov.ar/wp-content/uploads/2025/12/WhatsApp-Image-2025-12-13-at-16.31.32.jpeg
END:VEVENT
BEGIN:VEVENT
DTSTART;TZID=America/Argentina/Buenos_Aires:20260101T190000
DTEND;TZID=America/Argentina/Buenos_Aires:20260101T220000
DTSTAMP:20260423T140508
CREATED:20251229T160348Z
LAST-MODIFIED:20251229T160348Z
UID:10005044-1767294000-1767304800@villaelisa.gov.ar
SUMMARY:Recibimos el 2026 Bailando!!!
DESCRIPTION:RECIBIMOS UN NUEVO AÑO AL RITMO DE “COSTA AZUL” 🕺🏽🥳🍻 \n‼️ JUEVES 01/01 19hs ‼️ \n✅🍔🍟🍕Habrá servicio de cantina\, comidas rápidas\, barra de tragos\, licuados y mucha buena energía!!!! \nVENI A DISFRUTAR Y BAILAR CON NOSOTROS💃🏽🕺🏽\nLOS ESPERAMOS!!!!!!!! 👏🏽🙌🏽
URL:https://villaelisa.gov.ar/evento/recibimos-el-2026-bailando/
LOCATION:Balneario Municipal Rocha
ATTACH;FMTTYPE=image/jpeg:https://villaelisa.gov.ar/wp-content/uploads/2025/12/WhatsApp-Image-2025-12-29-at-1.01.35-PM.jpeg
END:VEVENT
BEGIN:VEVENT
DTSTART;TZID=America/Argentina/Buenos_Aires:20260102T100000
DTEND;TZID=America/Argentina/Buenos_Aires:20260102T203000
DTSTAMP:20260423T140508
CREATED:20251218T214149Z
LAST-MODIFIED:20251218T214149Z
UID:10005005-1767348000-1767385800@villaelisa.gov.ar
SUMMARY:Muestra fotográfica “Villa Elisa en el tiempo: una mirada a los 135 años de historia”
DESCRIPTION:De 10:00 a 13:00 y de 17:00 a 20:30 horas\, te invitamos a recorrer\, a través de esta muestra fotográfica\, la transformación urbana y social de nuestra ciudad a lo largo del tiempo.\nLa exposición reúne fotos históricas de distintos espacios de Villa Elisa junto a sus réplicas actuales\, generando un diálogo visual entre pasado y presente. \nEl valor del bono contribución de ingreso es de $2000 general y $1500 para menores entre 6 y 12 años inclusive\, jubilados y residentes de la micro región “Tierra de Palmares”. \nContacto: 3447436203 – www.museoelporvenir.com.ar
URL:https://villaelisa.gov.ar/evento/muestra-fotografica-villa-elisa-en-el-tiempo-una-mirada-a-los-135-anos-de-historia/2026-01-02/
LOCATION:Estancia Museo “El Porvenir”
ATTACH;FMTTYPE=image/jpeg:https://villaelisa.gov.ar/wp-content/uploads/2025/12/Muestra-temporal-2026-Villa-Elisa-en-el-tiempo-2.jpeg
END:VEVENT
BEGIN:VEVENT
DTSTART;TZID=America/Argentina/Buenos_Aires:20260103T100000
DTEND;TZID=America/Argentina/Buenos_Aires:20260103T203000
DTSTAMP:20260423T140508
CREATED:20251218T214149Z
LAST-MODIFIED:20251218T214149Z
UID:10005006-1767434400-1767472200@villaelisa.gov.ar
SUMMARY:Muestra fotográfica “Villa Elisa en el tiempo: una mirada a los 135 años de historia”
DESCRIPTION:De 10:00 a 13:00 y de 17:00 a 20:30 horas\, te invitamos a recorrer\, a través de esta muestra fotográfica\, la transformación urbana y social de nuestra ciudad a lo largo del tiempo.\nLa exposición reúne fotos históricas de distintos espacios de Villa Elisa junto a sus réplicas actuales\, generando un diálogo visual entre pasado y presente. \nEl valor del bono contribución de ingreso es de $2000 general y $1500 para menores entre 6 y 12 años inclusive\, jubilados y residentes de la micro región “Tierra de Palmares”. \nContacto: 3447436203 – www.museoelporvenir.com.ar
URL:https://villaelisa.gov.ar/evento/muestra-fotografica-villa-elisa-en-el-tiempo-una-mirada-a-los-135-anos-de-historia/2026-01-03/
LOCATION:Estancia Museo “El Porvenir”
ATTACH;FMTTYPE=image/jpeg:https://villaelisa.gov.ar/wp-content/uploads/2025/12/Muestra-temporal-2026-Villa-Elisa-en-el-tiempo-2.jpeg
END:VEVENT
BEGIN:VEVENT
DTSTART;TZID=America/Argentina/Buenos_Aires:20260103T160000
DTEND;TZID=America/Argentina/Buenos_Aires:20260103T203000
DTSTAMP:20260423T140508
CREATED:20251229T175742Z
LAST-MODIFIED:20251229T180059Z
UID:10004249-1767456000-1767472200@villaelisa.gov.ar
SUMMARY:Estación Elisa - Ferroclub Central Entrerriano
DESCRIPTION:  \nTodos los días desde las 16:00 hs. estará abierta la estación Elisa donde encontrarás maquinarias y elementos de época a las 17 y 19 horas habrá paseos en el tren histórico turístico para vivir una gran experiencia. \nCalle Centenario 2200 \nConsultas al 3442 551086
URL:https://villaelisa.gov.ar/evento/ferroclub-central-entrerriano-6-2-2-2-5-8/2026-01-03/
LOCATION:Ferroclub Central Entrerriano\, Centenario y Arenales\, Villa Elisa\, 3265
ATTACH;FMTTYPE=image/jpeg:https://villaelisa.gov.ar/wp-content/uploads/2025/01/IMG_20231210_175944197-scaled.jpg
END:VEVENT
BEGIN:VEVENT
DTSTART;TZID=America/Argentina/Buenos_Aires:20260103T210000
DTEND;TZID=America/Argentina/Buenos_Aires:20260104T030000
DTSTAMP:20260423T140508
CREATED:20250721T100124Z
LAST-MODIFIED:20251230T210159Z
UID:10004442-1767474000-1767495600@villaelisa.gov.ar
SUMMARY:Gran Baile de Escuela 19 de La Clarita
DESCRIPTION:Un baile inolvidable con la estelar presentación de “Betola” El Vagabundo  y  “Los Charros” con la voz auténtica de Darío Chiarini en Escuela 19 de La Clarita.
URL:https://villaelisa.gov.ar/evento/gran-baile/
LOCATION:La Clarita
ATTACH;FMTTYPE=image/jpeg:https://villaelisa.gov.ar/wp-content/uploads/2025/07/WhatsApp-Image-2025-12-30-at-17.51.35.jpeg
END:VEVENT
BEGIN:VEVENT
DTSTART;TZID=America/Argentina/Buenos_Aires:20260104T100000
DTEND;TZID=America/Argentina/Buenos_Aires:20260104T130000
DTSTAMP:20260423T140508
CREATED:20241104T113404Z
LAST-MODIFIED:20241104T113404Z
UID:10002254-1767520800-1767531600@villaelisa.gov.ar
SUMMARY:Auto Tour
DESCRIPTION:TRAVELING VINA:  \nEs un servicio  extra\, que ofrece el complejo de Alojamientos “V I N A” \nExperiencia Rurales\, AUTO TOUR:  \nPlanificamos y coordinamos recorridos por bodegas\, fábricas de productos regionales\, y almacenes locales\, te llevamos a descubrir La Colonia\, cultura local y los paisajes mas hermosos de nuestra Tierra de Palmares.- \nOrganizado por Perla Lopez – \nReservas con anticipación: contacto 3447503491.- \nValor del recorrido: según destino elegido. \nTiempo demandado: aproximadamente 3 horas.- \nEl objetivo es formar una caravana\, con los vehículos de los interesados y hacer\, una mañana o una tarde de recorridos a los diferentes atractivos de nuestra zona  \nprevia coordinación.- \nPunto de salida: oficina de Turismo Villa Elisa.-
URL:https://villaelisa.gov.ar/evento/auto-tour/2026-01-04/
ATTACH;FMTTYPE=image/jpeg:https://villaelisa.gov.ar/wp-content/uploads/2024/11/Traveling-vina.jpg
END:VEVENT
BEGIN:VEVENT
DTSTART;TZID=America/Argentina/Buenos_Aires:20260104T100000
DTEND;TZID=America/Argentina/Buenos_Aires:20260104T203000
DTSTAMP:20260423T140508
CREATED:20251218T214149Z
LAST-MODIFIED:20251218T214149Z
UID:10005007-1767520800-1767558600@villaelisa.gov.ar
SUMMARY:Muestra fotográfica “Villa Elisa en el tiempo: una mirada a los 135 años de historia”
DESCRIPTION:De 10:00 a 13:00 y de 17:00 a 20:30 horas\, te invitamos a recorrer\, a través de esta muestra fotográfica\, la transformación urbana y social de nuestra ciudad a lo largo del tiempo.\nLa exposición reúne fotos históricas de distintos espacios de Villa Elisa junto a sus réplicas actuales\, generando un diálogo visual entre pasado y presente. \nEl valor del bono contribución de ingreso es de $2000 general y $1500 para menores entre 6 y 12 años inclusive\, jubilados y residentes de la micro región “Tierra de Palmares”. \nContacto: 3447436203 – www.museoelporvenir.com.ar
URL:https://villaelisa.gov.ar/evento/muestra-fotografica-villa-elisa-en-el-tiempo-una-mirada-a-los-135-anos-de-historia/2026-01-04/
LOCATION:Estancia Museo “El Porvenir”
ATTACH;FMTTYPE=image/jpeg:https://villaelisa.gov.ar/wp-content/uploads/2025/12/Muestra-temporal-2026-Villa-Elisa-en-el-tiempo-2.jpeg
END:VEVENT
BEGIN:VEVENT
DTSTART;TZID=America/Argentina/Buenos_Aires:20260104T160000
DTEND;TZID=America/Argentina/Buenos_Aires:20260104T203000
DTSTAMP:20260423T140508
CREATED:20251230T132032Z
LAST-MODIFIED:20251230T132032Z
UID:10007190-1767542400-1767558600@villaelisa.gov.ar
SUMMARY:Estación Elisa - Ferroclub Central Entrerriano
DESCRIPTION:  \nTodos los días desde las 16:00 hs. estará abierta la estación Elisa donde encontrarás maquinarias y elementos de época a las 17 y 19 horas habrá paseos en el tren histórico turístico para vivir una gran experiencia. \nCalle Centenario 2200 \nConsultas al 3442 551086
URL:https://villaelisa.gov.ar/evento/estacion-elisa-ferroclub-central-entrerriano-17/
LOCATION:Estación ferroviaria Villa Elisa
ATTACH;FMTTYPE=image/jpeg:https://villaelisa.gov.ar/wp-content/uploads/2025/12/WhatsApp-Image-2025-12-30-at-10.16.34-AM.jpeg
END:VEVENT
BEGIN:VEVENT
DTSTART;TZID=America/Argentina/Buenos_Aires:20260104T203000
DTEND;TZID=America/Argentina/Buenos_Aires:20260104T233000
DTSTAMP:20260423T140508
CREATED:20251226T182702Z
LAST-MODIFIED:20251229T161056Z
UID:10005041-1767558600-1767569400@villaelisa.gov.ar
SUMMARY:Encuentro de Músicos Populares Elisenses
DESCRIPTION:Este domingo 4 de enero\, desde las 20:30\, el Parque San Jorge será escenario del tradicional Encuentro de Músicos Populares Elisenses\, buscando celebrar y visibilizar a los músicos locales aficionados\, incluyendo todos los géneros. \nHabrá servicio de cantina y comidas rápidas. \nEl ingreso al evento es libre y gratuito. \nGrilla de actuación: \n\nLuis Blanc\nCarlos “Patín” Turín\nAldo Lambert\nHermes Riquelme\nMiguel Cuello\nMirko Laureiro\nBelén Noir\nRubén “Pelusa” Godoy\nRamón Soto\nTadeo Claa\nTorre Fuerte\nJosé María “Capicúa” Escalante\nCarolina Bozzeti
URL:https://villaelisa.gov.ar/evento/festival-de-musicos-populares/
LOCATION:Parque San Jorge\, Bv. Schroeder y Emilio Francou\, Villa Elisa
ATTACH;FMTTYPE=image/jpeg:https://villaelisa.gov.ar/wp-content/uploads/2025/12/WhatsApp-Image-2025-12-29-at-1.09.58-PM.jpeg
END:VEVENT
END:VCALENDAR