BEGIN:VCALENDAR
VERSION:2.0
PRODID:-//Municipalidad de Villa Elisa, Entre Ríos - ECPv6.6.4.2//NONSGML v1.0//EN
CALSCALE:GREGORIAN
METHOD:PUBLISH
X-WR-CALNAME:Municipalidad de Villa Elisa, Entre Ríos
X-ORIGINAL-URL:https://villaelisa.gov.ar
X-WR-CALDESC:Eventos para Municipalidad de Villa Elisa, Entre Ríos
REFRESH-INTERVAL;VALUE=DURATION:PT1H
X-Robots-Tag:noindex
X-PUBLISHED-TTL:PT1H
BEGIN:VTIMEZONE
TZID:America/Argentina/Buenos_Aires
BEGIN:STANDARD
TZOFFSETFROM:-0300
TZOFFSETTO:-0300
TZNAME:-03
DTSTART:20260101T000000
END:STANDARD
END:VTIMEZONE
BEGIN:VEVENT
DTSTART;TZID=America/Argentina/Buenos_Aires:20260223T100000
DTEND;TZID=America/Argentina/Buenos_Aires:20260223T203000
DTSTAMP:20260423T024638
CREATED:20260108T223621Z
LAST-MODIFIED:20260108T223621Z
UID:10009072-1771840800-1771878600@villaelisa.gov.ar
SUMMARY:Muestra fotográfica “Villa Elisa en el tiempo: una mirada a los 135 años de historia”
DESCRIPTION:De 10:00 a 13:00 y de 17:00 a 20:30 horas\, te invitamos a recorrer\, a través de esta muestra fotográfica\, la transformación urbana y social de nuestra ciudad a lo largo del tiempo.\nLa exposición reúne fotos históricas de distintos espacios de Villa Elisa junto a sus réplicas actuales\, generando un diálogo visual entre pasado y presente. \nEl valor del bono contribución de ingreso es de $2000 general y $1500 para menores entre 6 y 12 años inclusive\, jubilados y residentes de la micro región “Tierra de Palmares”. \nContacto: 3447436203 – www.museoelporvenir.com.ar
URL:https://villaelisa.gov.ar/evento/muestra-fotografica-villa-elisa-en-el-tiempo-una-mirada-a-los-135-anos-de-historia-2/2026-02-23/
LOCATION:Estancia Museo “El Porvenir”
ATTACH;FMTTYPE=image/jpeg:https://villaelisa.gov.ar/wp-content/uploads/2026/01/Muestra-temporal-2026-Villa-Elisa-en-el-tiempo-2.jpeg
END:VEVENT
BEGIN:VEVENT
DTSTART;TZID=America/Argentina/Buenos_Aires:20260223T103000
DTEND;TZID=America/Argentina/Buenos_Aires:20260223T130000
DTSTAMP:20260423T024638
CREATED:20260108T224343Z
LAST-MODIFIED:20260108T224343Z
UID:10009087-1771842600-1771851600@villaelisa.gov.ar
SUMMARY:Visitas Guiadas en Estancia Museo El Porvenir
DESCRIPTION:De lunes a viernes (excepto martes) las 10:30 y 12:00 horas\,  pueden realizarse las visitas guiadas gratuitas por la Estancia. \nSi se lo desea\, se puede visitar el lugar en forma independiente (sin visita guiada) de 10:00 a 13:00 y de 17:00 a 20:30 horas\, recordando que también está habilitado el sector del parque recreativo. \nEl valor del bono contribución de ingreso es de $2000 general y $1500 para menores entre 6 y 12 años inclusive\, jubilados y residentes de la micro región “Tierra de Palmares”. \nContacto: 3447436203 – www.museoelporvenir.com.ar
URL:https://villaelisa.gov.ar/evento/visitas-guiadas-en-estancia-museo-el-porvenir-13/2026-02-23/
LOCATION:Estancia Museo “El Porvenir”
ATTACH;FMTTYPE=image/jpeg:https://villaelisa.gov.ar/wp-content/uploads/2026/01/Horarios-enero-febrero-2026-feed.jpeg
END:VEVENT
BEGIN:VEVENT
DTSTART;TZID=America/Argentina/Buenos_Aires:20260223T160000
DTEND;TZID=America/Argentina/Buenos_Aires:20260223T203000
DTSTAMP:20260423T024638
CREATED:20251229T180552Z
LAST-MODIFIED:20251230T132155Z
UID:10007239-1771862400-1771878600@villaelisa.gov.ar
SUMMARY:Estación Elisa – Ferroclub Central Entrerriano
DESCRIPTION:Todos los días desde las 16:00 hs. estará abierta la estación Elisa donde encontrarás maquinarias y elementos de época a las 17 y 19 horas habrá paseos en el tren histórico turístico para vivir una gran experiencia. \nCalle Centenario 2200 \nConsultas al 3442 551086
URL:https://villaelisa.gov.ar/evento/estacion-elisa-ferroclub-central-entrerriano-14/2026-02-23/
LOCATION:Estación ferroviaria Villa Elisa
ATTACH;FMTTYPE=image/jpeg:https://villaelisa.gov.ar/wp-content/uploads/2025/03/WhatsApp-Image-2025-06-25-at-3.17.24-PM.jpeg
END:VEVENT
BEGIN:VEVENT
DTSTART;TZID=America/Argentina/Buenos_Aires:20260224T160000
DTEND;TZID=America/Argentina/Buenos_Aires:20260224T203000
DTSTAMP:20260423T024638
CREATED:20251229T180552Z
LAST-MODIFIED:20251230T132155Z
UID:10007240-1771948800-1771965000@villaelisa.gov.ar
SUMMARY:Estación Elisa – Ferroclub Central Entrerriano
DESCRIPTION:Todos los días desde las 16:00 hs. estará abierta la estación Elisa donde encontrarás maquinarias y elementos de época a las 17 y 19 horas habrá paseos en el tren histórico turístico para vivir una gran experiencia. \nCalle Centenario 2200 \nConsultas al 3442 551086
URL:https://villaelisa.gov.ar/evento/estacion-elisa-ferroclub-central-entrerriano-14/2026-02-24/
LOCATION:Estación ferroviaria Villa Elisa
ATTACH;FMTTYPE=image/jpeg:https://villaelisa.gov.ar/wp-content/uploads/2025/03/WhatsApp-Image-2025-06-25-at-3.17.24-PM.jpeg
END:VEVENT
BEGIN:VEVENT
DTSTART;TZID=America/Argentina/Buenos_Aires:20260225T100000
DTEND;TZID=America/Argentina/Buenos_Aires:20260225T203000
DTSTAMP:20260423T024638
CREATED:20260108T223621Z
LAST-MODIFIED:20260108T223621Z
UID:10009073-1772013600-1772051400@villaelisa.gov.ar
SUMMARY:Muestra fotográfica “Villa Elisa en el tiempo: una mirada a los 135 años de historia”
DESCRIPTION:De 10:00 a 13:00 y de 17:00 a 20:30 horas\, te invitamos a recorrer\, a través de esta muestra fotográfica\, la transformación urbana y social de nuestra ciudad a lo largo del tiempo.\nLa exposición reúne fotos históricas de distintos espacios de Villa Elisa junto a sus réplicas actuales\, generando un diálogo visual entre pasado y presente. \nEl valor del bono contribución de ingreso es de $2000 general y $1500 para menores entre 6 y 12 años inclusive\, jubilados y residentes de la micro región “Tierra de Palmares”. \nContacto: 3447436203 – www.museoelporvenir.com.ar
URL:https://villaelisa.gov.ar/evento/muestra-fotografica-villa-elisa-en-el-tiempo-una-mirada-a-los-135-anos-de-historia-2/2026-02-25/
LOCATION:Estancia Museo “El Porvenir”
ATTACH;FMTTYPE=image/jpeg:https://villaelisa.gov.ar/wp-content/uploads/2026/01/Muestra-temporal-2026-Villa-Elisa-en-el-tiempo-2.jpeg
END:VEVENT
BEGIN:VEVENT
DTSTART;TZID=America/Argentina/Buenos_Aires:20260225T103000
DTEND;TZID=America/Argentina/Buenos_Aires:20260225T130000
DTSTAMP:20260423T024638
CREATED:20260108T224343Z
LAST-MODIFIED:20260108T224343Z
UID:10009088-1772015400-1772024400@villaelisa.gov.ar
SUMMARY:Visitas Guiadas en Estancia Museo El Porvenir
DESCRIPTION:De lunes a viernes (excepto martes) las 10:30 y 12:00 horas\,  pueden realizarse las visitas guiadas gratuitas por la Estancia. \nSi se lo desea\, se puede visitar el lugar en forma independiente (sin visita guiada) de 10:00 a 13:00 y de 17:00 a 20:30 horas\, recordando que también está habilitado el sector del parque recreativo. \nEl valor del bono contribución de ingreso es de $2000 general y $1500 para menores entre 6 y 12 años inclusive\, jubilados y residentes de la micro región “Tierra de Palmares”. \nContacto: 3447436203 – www.museoelporvenir.com.ar
URL:https://villaelisa.gov.ar/evento/visitas-guiadas-en-estancia-museo-el-porvenir-13/2026-02-25/
LOCATION:Estancia Museo “El Porvenir”
ATTACH;FMTTYPE=image/jpeg:https://villaelisa.gov.ar/wp-content/uploads/2026/01/Horarios-enero-febrero-2026-feed.jpeg
END:VEVENT
BEGIN:VEVENT
DTSTART;TZID=America/Argentina/Buenos_Aires:20260225T160000
DTEND;TZID=America/Argentina/Buenos_Aires:20260225T203000
DTSTAMP:20260423T024638
CREATED:20251229T180552Z
LAST-MODIFIED:20251230T132155Z
UID:10007241-1772035200-1772051400@villaelisa.gov.ar
SUMMARY:Estación Elisa – Ferroclub Central Entrerriano
DESCRIPTION:Todos los días desde las 16:00 hs. estará abierta la estación Elisa donde encontrarás maquinarias y elementos de época a las 17 y 19 horas habrá paseos en el tren histórico turístico para vivir una gran experiencia. \nCalle Centenario 2200 \nConsultas al 3442 551086
URL:https://villaelisa.gov.ar/evento/estacion-elisa-ferroclub-central-entrerriano-14/2026-02-25/
LOCATION:Estación ferroviaria Villa Elisa
ATTACH;FMTTYPE=image/jpeg:https://villaelisa.gov.ar/wp-content/uploads/2025/03/WhatsApp-Image-2025-06-25-at-3.17.24-PM.jpeg
END:VEVENT
BEGIN:VEVENT
DTSTART;TZID=America/Argentina/Buenos_Aires:20260226T100000
DTEND;TZID=America/Argentina/Buenos_Aires:20260226T203000
DTSTAMP:20260423T024638
CREATED:20260108T223621Z
LAST-MODIFIED:20260108T223621Z
UID:10009074-1772100000-1772137800@villaelisa.gov.ar
SUMMARY:Muestra fotográfica “Villa Elisa en el tiempo: una mirada a los 135 años de historia”
DESCRIPTION:De 10:00 a 13:00 y de 17:00 a 20:30 horas\, te invitamos a recorrer\, a través de esta muestra fotográfica\, la transformación urbana y social de nuestra ciudad a lo largo del tiempo.\nLa exposición reúne fotos históricas de distintos espacios de Villa Elisa junto a sus réplicas actuales\, generando un diálogo visual entre pasado y presente. \nEl valor del bono contribución de ingreso es de $2000 general y $1500 para menores entre 6 y 12 años inclusive\, jubilados y residentes de la micro región “Tierra de Palmares”. \nContacto: 3447436203 – www.museoelporvenir.com.ar
URL:https://villaelisa.gov.ar/evento/muestra-fotografica-villa-elisa-en-el-tiempo-una-mirada-a-los-135-anos-de-historia-2/2026-02-26/
LOCATION:Estancia Museo “El Porvenir”
ATTACH;FMTTYPE=image/jpeg:https://villaelisa.gov.ar/wp-content/uploads/2026/01/Muestra-temporal-2026-Villa-Elisa-en-el-tiempo-2.jpeg
END:VEVENT
BEGIN:VEVENT
DTSTART;TZID=America/Argentina/Buenos_Aires:20260226T103000
DTEND;TZID=America/Argentina/Buenos_Aires:20260226T130000
DTSTAMP:20260423T024638
CREATED:20260108T224343Z
LAST-MODIFIED:20260108T224343Z
UID:10009089-1772101800-1772110800@villaelisa.gov.ar
SUMMARY:Visitas Guiadas en Estancia Museo El Porvenir
DESCRIPTION:De lunes a viernes (excepto martes) las 10:30 y 12:00 horas\,  pueden realizarse las visitas guiadas gratuitas por la Estancia. \nSi se lo desea\, se puede visitar el lugar en forma independiente (sin visita guiada) de 10:00 a 13:00 y de 17:00 a 20:30 horas\, recordando que también está habilitado el sector del parque recreativo. \nEl valor del bono contribución de ingreso es de $2000 general y $1500 para menores entre 6 y 12 años inclusive\, jubilados y residentes de la micro región “Tierra de Palmares”. \nContacto: 3447436203 – www.museoelporvenir.com.ar
URL:https://villaelisa.gov.ar/evento/visitas-guiadas-en-estancia-museo-el-porvenir-13/2026-02-26/
LOCATION:Estancia Museo “El Porvenir”
ATTACH;FMTTYPE=image/jpeg:https://villaelisa.gov.ar/wp-content/uploads/2026/01/Horarios-enero-febrero-2026-feed.jpeg
END:VEVENT
BEGIN:VEVENT
DTSTART;TZID=America/Argentina/Buenos_Aires:20260226T160000
DTEND;TZID=America/Argentina/Buenos_Aires:20260226T203000
DTSTAMP:20260423T024638
CREATED:20251229T180552Z
LAST-MODIFIED:20251230T132155Z
UID:10007242-1772121600-1772137800@villaelisa.gov.ar
SUMMARY:Estación Elisa – Ferroclub Central Entrerriano
DESCRIPTION:Todos los días desde las 16:00 hs. estará abierta la estación Elisa donde encontrarás maquinarias y elementos de época a las 17 y 19 horas habrá paseos en el tren histórico turístico para vivir una gran experiencia. \nCalle Centenario 2200 \nConsultas al 3442 551086
URL:https://villaelisa.gov.ar/evento/estacion-elisa-ferroclub-central-entrerriano-14/2026-02-26/
LOCATION:Estación ferroviaria Villa Elisa
ATTACH;FMTTYPE=image/jpeg:https://villaelisa.gov.ar/wp-content/uploads/2025/03/WhatsApp-Image-2025-06-25-at-3.17.24-PM.jpeg
END:VEVENT
BEGIN:VEVENT
DTSTART;TZID=America/Argentina/Buenos_Aires:20260226T163000
DTEND;TZID=America/Argentina/Buenos_Aires:20260226T190000
DTSTAMP:20260423T024638
CREATED:20260128T153231Z
LAST-MODIFIED:20260226T120511Z
UID:10009126-1772123400-1772132400@villaelisa.gov.ar
SUMMARY:Fútbol Infantil de los Barrios
DESCRIPTION:La esperada fecha final del torneo de fútbol infantil de verano
URL:https://villaelisa.gov.ar/evento/futbol-de-los-barrios/
LOCATION:Plaza Moreno\, Villa Elisa
ATTACH;FMTTYPE=image/jpeg:https://villaelisa.gov.ar/wp-content/uploads/2026/01/WhatsApp-Image-2026-02-26-at-9.00.30-AM.jpeg
END:VEVENT
BEGIN:VEVENT
DTSTART;TZID=America/Argentina/Buenos_Aires:20260226T200000
DTEND;TZID=America/Argentina/Buenos_Aires:20260226T210000
DTSTAMP:20260423T024638
CREATED:20260122T220207Z
LAST-MODIFIED:20260219T122425Z
UID:10009114-1772136000-1772139600@villaelisa.gov.ar
SUMMARY:Melodías y colecciones al anochecer
DESCRIPTION:El jueves 26 a las 20:00 horas en el Museo Estancia “El Porvenir”.\nUna experiencia que combina muestras museológicas con música en vivo.\nSe exhibirá una colección colección de elementos de belleza femenina.\nLa propuesta musical estará a cargo de Virginia Rocha y Martín Zermathen\, quienes aportarán un clima íntimo y sensible a la experiencia.\nEntrada libre y gratuita.
URL:https://villaelisa.gov.ar/evento/melodias-y-colecciones-al-anochecer-4/
LOCATION:Estancia Museo “El Porvenir”
ATTACH;FMTTYPE=image/jpeg:https://villaelisa.gov.ar/wp-content/uploads/2026/01/WhatsApp-Image-2026-02-19-at-9.18.40-AM.jpeg
END:VEVENT
BEGIN:VEVENT
DTSTART;TZID=America/Argentina/Buenos_Aires:20260227T100000
DTEND;TZID=America/Argentina/Buenos_Aires:20260227T203000
DTSTAMP:20260423T024638
CREATED:20260108T223621Z
LAST-MODIFIED:20260108T223621Z
UID:10009075-1772186400-1772224200@villaelisa.gov.ar
SUMMARY:Muestra fotográfica “Villa Elisa en el tiempo: una mirada a los 135 años de historia”
DESCRIPTION:De 10:00 a 13:00 y de 17:00 a 20:30 horas\, te invitamos a recorrer\, a través de esta muestra fotográfica\, la transformación urbana y social de nuestra ciudad a lo largo del tiempo.\nLa exposición reúne fotos históricas de distintos espacios de Villa Elisa junto a sus réplicas actuales\, generando un diálogo visual entre pasado y presente. \nEl valor del bono contribución de ingreso es de $2000 general y $1500 para menores entre 6 y 12 años inclusive\, jubilados y residentes de la micro región “Tierra de Palmares”. \nContacto: 3447436203 – www.museoelporvenir.com.ar
URL:https://villaelisa.gov.ar/evento/muestra-fotografica-villa-elisa-en-el-tiempo-una-mirada-a-los-135-anos-de-historia-2/2026-02-27/
LOCATION:Estancia Museo “El Porvenir”
ATTACH;FMTTYPE=image/jpeg:https://villaelisa.gov.ar/wp-content/uploads/2026/01/Muestra-temporal-2026-Villa-Elisa-en-el-tiempo-2.jpeg
END:VEVENT
BEGIN:VEVENT
DTSTART;TZID=America/Argentina/Buenos_Aires:20260227T103000
DTEND;TZID=America/Argentina/Buenos_Aires:20260227T130000
DTSTAMP:20260423T024638
CREATED:20260108T224343Z
LAST-MODIFIED:20260108T224343Z
UID:10009090-1772188200-1772197200@villaelisa.gov.ar
SUMMARY:Visitas Guiadas en Estancia Museo El Porvenir
DESCRIPTION:De lunes a viernes (excepto martes) las 10:30 y 12:00 horas\,  pueden realizarse las visitas guiadas gratuitas por la Estancia. \nSi se lo desea\, se puede visitar el lugar en forma independiente (sin visita guiada) de 10:00 a 13:00 y de 17:00 a 20:30 horas\, recordando que también está habilitado el sector del parque recreativo. \nEl valor del bono contribución de ingreso es de $2000 general y $1500 para menores entre 6 y 12 años inclusive\, jubilados y residentes de la micro región “Tierra de Palmares”. \nContacto: 3447436203 – www.museoelporvenir.com.ar
URL:https://villaelisa.gov.ar/evento/visitas-guiadas-en-estancia-museo-el-porvenir-13/2026-02-27/
LOCATION:Estancia Museo “El Porvenir”
ATTACH;FMTTYPE=image/jpeg:https://villaelisa.gov.ar/wp-content/uploads/2026/01/Horarios-enero-febrero-2026-feed.jpeg
END:VEVENT
BEGIN:VEVENT
DTSTART;TZID=America/Argentina/Buenos_Aires:20260227T160000
DTEND;TZID=America/Argentina/Buenos_Aires:20260227T203000
DTSTAMP:20260423T024638
CREATED:20251229T180552Z
LAST-MODIFIED:20251230T132155Z
UID:10007243-1772208000-1772224200@villaelisa.gov.ar
SUMMARY:Estación Elisa – Ferroclub Central Entrerriano
DESCRIPTION:Todos los días desde las 16:00 hs. estará abierta la estación Elisa donde encontrarás maquinarias y elementos de época a las 17 y 19 horas habrá paseos en el tren histórico turístico para vivir una gran experiencia. \nCalle Centenario 2200 \nConsultas al 3442 551086
URL:https://villaelisa.gov.ar/evento/estacion-elisa-ferroclub-central-entrerriano-14/2026-02-27/
LOCATION:Estación ferroviaria Villa Elisa
ATTACH;FMTTYPE=image/jpeg:https://villaelisa.gov.ar/wp-content/uploads/2025/03/WhatsApp-Image-2025-06-25-at-3.17.24-PM.jpeg
END:VEVENT
BEGIN:VEVENT
DTSTART;TZID=America/Argentina/Buenos_Aires:20260227T160000
DTEND;TZID=America/Argentina/Buenos_Aires:20260227T210000
DTSTAMP:20260423T024638
CREATED:20260225T144231Z
LAST-MODIFIED:20260225T144231Z
UID:10009207-1772208000-1772226000@villaelisa.gov.ar
SUMMARY:Feria de Cáritas
DESCRIPTION:Los esperamos en el patio de Cáritas con la tradicional Feria !!!
URL:https://villaelisa.gov.ar/evento/feria-de-caritas/
LOCATION:Caritas Villa Elisa\, Estrada y Bvard. Francou\, Villa Elisa
ATTACH;FMTTYPE=image/jpeg:https://villaelisa.gov.ar/wp-content/uploads/2026/02/WhatsApp-Image-2026-02-25-at-11.39.13-AM.jpeg
END:VEVENT
BEGIN:VEVENT
DTSTART;TZID=America/Argentina/Buenos_Aires:20260227T200000
DTEND;TZID=America/Argentina/Buenos_Aires:20260227T233000
DTSTAMP:20260423T024638
CREATED:20260224T155227Z
LAST-MODIFIED:20260225T171436Z
UID:10009206-1772222400-1772235000@villaelisa.gov.ar
SUMMARY:Peña folclórica “Los Teros y algo más”
DESCRIPTION:El Área de Discapacidad de la Municipalidad de Villa Elisa invita a la comunidad a compartir una noche especial de música\, baile y expresiones culturales en la Peña folclórica “Los Teros y algo más”. \nEl encuentro será este viernes 27 desde las 20 horas en el edificio del Centro Integral Manos Amigas (Javier Kuttel 1515). \nDurante esta noche\, habrá canto y baile\, de la mano de los integrantes de la Colonia de Vacaciones Los Teros\, y la actuación del Ballet Estrella Federal. \nAdemás\, se podrá disfrutar de música en vivo\, de la mano del Grupo En-Peñados; el grupo No me olvides de Colón\, que traerá un repertorio de tangofolk; y Yair Medina que nos deleitará con su acordeón. \nEl servicio de cantina estará a cargo de la Escuela de Educación Integral N° 29. \nLa entrada será libre y gratuita. Se sugiere llevar asiento.
URL:https://villaelisa.gov.ar/evento/pena-folclorica-los-teros-y-algo-mas/
LOCATION:Centro Integral Manos Amigas\, Javier Kuttel 1515\, Villa Elisa\, Entre Ríos
ATTACH;FMTTYPE=image/jpeg:https://villaelisa.gov.ar/wp-content/uploads/2026/02/WhatsApp-Image-2026-02-25-at-14.02.12.jpeg
END:VEVENT
BEGIN:VEVENT
DTSTART;TZID=America/Argentina/Buenos_Aires:20260228T100000
DTEND;TZID=America/Argentina/Buenos_Aires:20260228T203000
DTSTAMP:20260423T024638
CREATED:20260108T223621Z
LAST-MODIFIED:20260108T223621Z
UID:10009076-1772272800-1772310600@villaelisa.gov.ar
SUMMARY:Muestra fotográfica “Villa Elisa en el tiempo: una mirada a los 135 años de historia”
DESCRIPTION:De 10:00 a 13:00 y de 17:00 a 20:30 horas\, te invitamos a recorrer\, a través de esta muestra fotográfica\, la transformación urbana y social de nuestra ciudad a lo largo del tiempo.\nLa exposición reúne fotos históricas de distintos espacios de Villa Elisa junto a sus réplicas actuales\, generando un diálogo visual entre pasado y presente. \nEl valor del bono contribución de ingreso es de $2000 general y $1500 para menores entre 6 y 12 años inclusive\, jubilados y residentes de la micro región “Tierra de Palmares”. \nContacto: 3447436203 – www.museoelporvenir.com.ar
URL:https://villaelisa.gov.ar/evento/muestra-fotografica-villa-elisa-en-el-tiempo-una-mirada-a-los-135-anos-de-historia-2/2026-02-28/
LOCATION:Estancia Museo “El Porvenir”
ATTACH;FMTTYPE=image/jpeg:https://villaelisa.gov.ar/wp-content/uploads/2026/01/Muestra-temporal-2026-Villa-Elisa-en-el-tiempo-2.jpeg
END:VEVENT
BEGIN:VEVENT
DTSTART;TZID=America/Argentina/Buenos_Aires:20260228T160000
DTEND;TZID=America/Argentina/Buenos_Aires:20260228T203000
DTSTAMP:20260423T024638
CREATED:20251229T180552Z
LAST-MODIFIED:20251230T132155Z
UID:10007244-1772294400-1772310600@villaelisa.gov.ar
SUMMARY:Estación Elisa – Ferroclub Central Entrerriano
DESCRIPTION:Todos los días desde las 16:00 hs. estará abierta la estación Elisa donde encontrarás maquinarias y elementos de época a las 17 y 19 horas habrá paseos en el tren histórico turístico para vivir una gran experiencia. \nCalle Centenario 2200 \nConsultas al 3442 551086
URL:https://villaelisa.gov.ar/evento/estacion-elisa-ferroclub-central-entrerriano-14/2026-02-28/
LOCATION:Estación ferroviaria Villa Elisa
ATTACH;FMTTYPE=image/jpeg:https://villaelisa.gov.ar/wp-content/uploads/2025/03/WhatsApp-Image-2025-06-25-at-3.17.24-PM.jpeg
END:VEVENT
BEGIN:VEVENT
DTSTART;TZID=America/Argentina/Buenos_Aires:20260228T163000
DTEND;TZID=America/Argentina/Buenos_Aires:20260228T213000
DTSTAMP:20260423T024638
CREATED:20260221T173241Z
LAST-MODIFIED:20260226T142139Z
UID:10009201-1772296200-1772314200@villaelisa.gov.ar
SUMMARY:Amistoso de Fútbol Elisense
DESCRIPTION:Jornada de amistosos entre las categorías de Senior\, Máster\, Super Senior  y Femenino\, donde enfrentaremos a Cave \nValor de entrada: $3000 | Servicio de cantina 👍🏻 \n 
URL:https://villaelisa.gov.ar/evento/amistoso-de-futbol/
LOCATION:Estadio Justo José Lezcano (Cancha San Jorge)\, Villa Elisa\, 3265
ATTACH;FMTTYPE=image/jpeg:https://villaelisa.gov.ar/wp-content/uploads/2026/02/WhatsApp-Image-2026-02-26-at-11.15.25-AM.jpeg
END:VEVENT
BEGIN:VEVENT
DTSTART;TZID=America/Argentina/Buenos_Aires:20260228T203000
DTEND;TZID=America/Argentina/Buenos_Aires:20260228T233000
DTSTAMP:20260423T024638
CREATED:20260114T140132Z
LAST-MODIFIED:20260225T143924Z
UID:10009099-1772310600-1772321400@villaelisa.gov.ar
SUMMARY:Peña Folklórica de Estrella Federal
DESCRIPTION:Este sábado 28 de febrero\, Plaza Moreno se llena de música\, danza y tradición con la Peña Folklórica de Estrella Federal \n✨Nos estarán acompañando:\n✅ Pablo Ghilini – @pablo_ghilini\n✅ Enpeñados – @enpe_folcklore\n✅ No Tiene Goyete – @notienegoyeteok\n✅ Facundo Torresan Grupo – @facundotorresan.oficial\nCon un final a pura bailanta chamamecera para no quedarse sentado !! \n📍 Plaza Moreno\, Villa Elisa\n🕗 20:30 a 23:30 hs\n🌭 Servicio de cocina y cantina \n🎟️ Entrada libre y gratuita \nVenite con tu familia y tus amigos a vibrar con las raíces que nos identifican. ¡Te esperamos!
URL:https://villaelisa.gov.ar/evento/pena-de-folklore/
LOCATION:Plaza Moreno\, Villa Elisa
ATTACH;FMTTYPE=image/jpeg:https://villaelisa.gov.ar/wp-content/uploads/2026/01/WhatsApp-Image-2026-02-23-at-11.48.39-AM.jpeg
END:VEVENT
BEGIN:VEVENT
DTSTART;TZID=America/Argentina/Buenos_Aires:20260228T210000
DTEND;TZID=America/Argentina/Buenos_Aires:20260301T020000
DTSTAMP:20260423T024638
CREATED:20260219T123647Z
LAST-MODIFIED:20260219T123647Z
UID:10009168-1772312400-1772330400@villaelisa.gov.ar
SUMMARY:Sensacional Baile en Escuela 89
DESCRIPTION:Se viene un gran baile en la Escuela 89 de Colonia 3 de Febrero con actuación de tres lideres musicales para bailar toda la noche.
URL:https://villaelisa.gov.ar/evento/sensacional-baile-en-escuela-89/
LOCATION:Escuela 89\, Colonia 3 de Febrero\, Entre Rios\, Argentina
ATTACH;FMTTYPE=image/jpeg:https://villaelisa.gov.ar/wp-content/uploads/2026/02/WhatsApp-Image-2026-02-16-at-11.55.10-AM.jpeg
END:VEVENT
BEGIN:VEVENT
DTSTART;TZID=America/Argentina/Buenos_Aires:20260228T233000
DTEND;TZID=America/Argentina/Buenos_Aires:20260301T030000
DTSTAMP:20260423T024638
CREATED:20260226T164112Z
LAST-MODIFIED:20260226T164112Z
UID:10009213-1772321400-1772334000@villaelisa.gov.ar
SUMMARY:Música en Monkeys
DESCRIPTION:Noche de encuentros\, brindis y muy buena música con DJ Alejo Gerber
URL:https://villaelisa.gov.ar/evento/musica-en-monkeys-4/
LOCATION:Monkeys\, Bv Schroeder y T. del Pilar
ATTACH;FMTTYPE=image/jpeg:https://villaelisa.gov.ar/wp-content/uploads/2026/02/WhatsApp-Image-2026-02-26-at-1.37.29-PM.jpeg
END:VEVENT
BEGIN:VEVENT
DTSTART;TZID=America/Argentina/Buenos_Aires:20260301T100000
DTEND;TZID=America/Argentina/Buenos_Aires:20260301T130000
DTSTAMP:20260423T024638
CREATED:20241104T113404Z
LAST-MODIFIED:20241104T113404Z
UID:10002262-1772359200-1772370000@villaelisa.gov.ar
SUMMARY:Auto Tour
DESCRIPTION:TRAVELING VINA:  \nEs un servicio  extra\, que ofrece el complejo de Alojamientos “V I N A” \nExperiencia Rurales\, AUTO TOUR:  \nPlanificamos y coordinamos recorridos por bodegas\, fábricas de productos regionales\, y almacenes locales\, te llevamos a descubrir La Colonia\, cultura local y los paisajes mas hermosos de nuestra Tierra de Palmares.- \nOrganizado por Perla Lopez – \nReservas con anticipación: contacto 3447503491.- \nValor del recorrido: según destino elegido. \nTiempo demandado: aproximadamente 3 horas.- \nEl objetivo es formar una caravana\, con los vehículos de los interesados y hacer\, una mañana o una tarde de recorridos a los diferentes atractivos de nuestra zona  \nprevia coordinación.- \nPunto de salida: oficina de Turismo Villa Elisa.-
URL:https://villaelisa.gov.ar/evento/auto-tour/2026-03-01/
ATTACH;FMTTYPE=image/jpeg:https://villaelisa.gov.ar/wp-content/uploads/2024/11/Traveling-vina.jpg
END:VEVENT
BEGIN:VEVENT
DTSTART;TZID=America/Argentina/Buenos_Aires:20260301T100000
DTEND;TZID=America/Argentina/Buenos_Aires:20260301T203000
DTSTAMP:20260423T024638
CREATED:20260220T210033Z
LAST-MODIFIED:20260220T210033Z
UID:10009188-1772359200-1772397000@villaelisa.gov.ar
SUMMARY:Muestra fotográfica “Villa Elisa en el tiempo: una mirada a los 135 años de historia”
DESCRIPTION:De 10:00 a 13:00 y de 17:00 a 20:30 horas\, te invitamos a recorrer\, a través de esta muestra fotográfica\, la transformación urbana y social de nuestra ciudad a lo largo del tiempo.\nLa exposición reúne fotos históricas de distintos espacios de Villa Elisa junto a sus réplicas actuales\, generando un diálogo visual entre pasado y presente. \nEl valor del bono contribución de ingreso es de $2000 general y $1500 para menores entre 6 y 12 años inclusive\, jubilados y residentes de la micro región “Tierra de Palmares”. \nContacto: 3447436203 – www.museoelporvenir.com.ar
URL:https://villaelisa.gov.ar/evento/muestra-fotografica-villa-elisa-en-el-tiempo-una-mirada-a-los-135-anos-de-historia-4/
LOCATION:Estancia Museo “El Porvenir”
ATTACH;FMTTYPE=image/jpeg:https://villaelisa.gov.ar/wp-content/uploads/2026/02/Muestra-temporal-2026-Villa-Elisa-en-el-tiempo-2-1.jpeg
END:VEVENT
BEGIN:VEVENT
DTSTART;TZID=America/Argentina/Buenos_Aires:20260301T160000
DTEND;TZID=America/Argentina/Buenos_Aires:20260301T203000
DTSTAMP:20260423T024638
CREATED:20251229T180552Z
LAST-MODIFIED:20251230T132155Z
UID:10007245-1772380800-1772397000@villaelisa.gov.ar
SUMMARY:Estación Elisa – Ferroclub Central Entrerriano
DESCRIPTION:Todos los días desde las 16:00 hs. estará abierta la estación Elisa donde encontrarás maquinarias y elementos de época a las 17 y 19 horas habrá paseos en el tren histórico turístico para vivir una gran experiencia. \nCalle Centenario 2200 \nConsultas al 3442 551086
URL:https://villaelisa.gov.ar/evento/estacion-elisa-ferroclub-central-entrerriano-14/2026-03-01/
LOCATION:Estación ferroviaria Villa Elisa
ATTACH;FMTTYPE=image/jpeg:https://villaelisa.gov.ar/wp-content/uploads/2025/03/WhatsApp-Image-2025-06-25-at-3.17.24-PM.jpeg
END:VEVENT
BEGIN:VEVENT
DTSTART;TZID=America/Argentina/Buenos_Aires:20260301T170000
DTEND;TZID=America/Argentina/Buenos_Aires:20260301T203000
DTSTAMP:20260423T024638
CREATED:20260225T190437Z
LAST-MODIFIED:20260225T190437Z
UID:10009209-1772384400-1772397000@villaelisa.gov.ar
SUMMARY:Torneo Apertura de Fútbol Departamental
DESCRIPTION:Arranca el campeonato 🏆\nClub Recreativo San Jorge 🟡 🆚 Deportivo Barú 🔵⚪ \n🗓 Domingo 1\n🏟 Estadio Justo José Lescano\n⏰ Reserva 17:00 hs\n⏰ Primera 19:15 hs \nEmpieza la ilusión\, empieza el sueño 💛💙\n¡Nos vemos en la cancha!
URL:https://villaelisa.gov.ar/evento/torneo-apertura-de-futbol-departamental-2/
LOCATION:Estadio Justo José Lezcano (Cancha San Jorge)\, Villa Elisa\, 3265
ATTACH;FMTTYPE=image/jpeg:https://villaelisa.gov.ar/wp-content/uploads/2026/02/WhatsApp-Image-2026-02-25-at-4.00.40-PM.jpeg
END:VEVENT
END:VCALENDAR