BEGIN:VCALENDAR
VERSION:2.0
PRODID:-//Municipalidad de Villa Elisa, Entre Ríos - ECPv6.6.4.2//NONSGML v1.0//EN
CALSCALE:GREGORIAN
METHOD:PUBLISH
X-ORIGINAL-URL:https://villaelisa.gov.ar
X-WR-CALDESC:Eventos para Municipalidad de Villa Elisa, Entre Ríos
REFRESH-INTERVAL;VALUE=DURATION:PT1H
X-Robots-Tag:noindex
X-PUBLISHED-TTL:PT1H
BEGIN:VTIMEZONE
TZID:America/Argentina/Buenos_Aires
BEGIN:STANDARD
TZOFFSETFROM:-0300
TZOFFSETTO:-0300
TZNAME:-03
DTSTART:20260101T000000
END:STANDARD
END:VTIMEZONE
BEGIN:VEVENT
DTSTART;TZID=America/Argentina/Buenos_Aires:20260316T100000
DTEND;TZID=America/Argentina/Buenos_Aires:20260316T190000
DTSTAMP:20260422T195043
CREATED:20260316T202426Z
LAST-MODIFIED:20260316T202426Z
UID:10009373-1773655200-1773687600@villaelisa.gov.ar
SUMMARY:Muestra fotográfica “Villa Elisa en el tiempo: una mirada a los 135 años de historia”
DESCRIPTION:De 10:00 a 13:00 y de 16:00 a 19:00 horas\, te invitamos a recorrer\, a través de esta muestra fotográfica\, la transformación urbana y social de nuestra ciudad a lo largo del tiempo.\nLa exposición reúne fotos históricas de distintos espacios de Villa Elisa junto a sus réplicas actuales\, generando un diálogo visual entre pasado y presente. \nEl valor del bono contribución de ingreso es de $2000 general y $1500 para menores entre 6 y 12 años inclusive\, jubilados y residentes de la micro región “Tierra de Palmares”. \nContacto: 3447436203 – www.museoelporvenir.com.ar
URL:https://villaelisa.gov.ar/evento/muestra-fotografica-villa-elisa-en-el-tiempo-una-mirada-a-los-135-anos-de-historia-6/2026-03-16/
LOCATION:Estancia Museo “El Porvenir”
ATTACH;FMTTYPE=image/jpeg:https://villaelisa.gov.ar/wp-content/uploads/2026/02/Muestra-temporal-2026-Villa-Elisa-en-el-tiempo-2.jpeg
END:VEVENT
BEGIN:VEVENT
DTSTART;TZID=America/Argentina/Buenos_Aires:20260316T103000
DTEND;TZID=America/Argentina/Buenos_Aires:20260316T130000
DTSTAMP:20260422T195043
CREATED:20260220T205709Z
LAST-MODIFIED:20260220T205709Z
UID:10009181-1773657000-1773666000@villaelisa.gov.ar
SUMMARY:Visitas Guiadas en Estancia Museo El Porvenir
DESCRIPTION:De lunes a viernes (excepto martes) las 10:30 y 12:00 horas\,  pueden realizarse las visitas guiadas gratuitas por la Estancia. \nSi se lo desea\, se puede visitar el lugar en forma independiente (sin visita guiada) de 10:00 a 13:00 y de 16:00 a 19:00 horas\, recordando que también está habilitado el sector del parque recreativo. \nEl valor del bono contribución de ingreso es de $2000 general y $1500 para menores entre 6 y 12 años inclusive\, jubilados y residentes de la micro región “Tierra de Palmares”. \nContacto: 3447436203 – www.museoelporvenir.com.ar
URL:https://villaelisa.gov.ar/evento/visitas-guiadas-en-estancia-museo-el-porvenir-16/2026-03-16/
LOCATION:Estancia Museo “El Porvenir”
ATTACH;FMTTYPE=image/jpeg:https://villaelisa.gov.ar/wp-content/uploads/2026/02/Horarios-marzo-2026-feed.jpeg
END:VEVENT
BEGIN:VEVENT
DTSTART;TZID=America/Argentina/Buenos_Aires:20260316T210000
DTEND;TZID=America/Argentina/Buenos_Aires:20260316T230000
DTSTAMP:20260422T195043
CREATED:20260316T150943Z
LAST-MODIFIED:20260316T162736Z
UID:10009363-1773694800-1773702000@villaelisa.gov.ar
SUMMARY:Circo Latino
DESCRIPTION:🎪 CIRCO LATINO\n​¡Atención familias! 📢 El espectáculo más esperado. \nSE VA EL CIRCO!!!!!!!!!!!!!!!!!\n🕘 HORA: 21:00 hs.\n📍 UBICACIÓN: Predio Polideportivo\, Villa Elisa.\n​🌟 LO QUE NO TE PODÉS PERDER:\n​🏁 Globo de la Muerte: ¡Adrenalina extrema con nuestros motociclistas!\n​⚖️ El Péndulo Fantástico: Un desafío a las leyes de la física.\n​✨ Magia\, Malabaristas y Equilibristas: El arte tradicional del circo en su máxima expresión.\n​🤡 Payasos: Risas garantizadas para todas las edades.\n​👧 ¡TUS PERSONAJES FAVORITOS EN VIVO!\n​Los más chiquitos podrán conocer y sacarse fotos con:\n​🍌 Los divertidos Minions.\n​🐷 Peppa Pig.\n​🐝 Bumblebee el Transformer.\n​🐾 Capi Capibara.\n​🎟️ VENTA DE ENTRADAS: En las instalaciones del circo o en boletería desde 1 hora antes de la función.
URL:https://villaelisa.gov.ar/evento/circo-latino-2/
LOCATION:Polideportivo Municipal\, Bv. Churruarín y Héctor de Elía
ATTACH;FMTTYPE=image/jpeg:https://villaelisa.gov.ar/wp-content/uploads/2026/03/WhatsApp-Image-2026-03-16-at-12.07.14-PM.jpeg
END:VEVENT
BEGIN:VEVENT
DTSTART;TZID=America/Argentina/Buenos_Aires:20260318T100000
DTEND;TZID=America/Argentina/Buenos_Aires:20260318T190000
DTSTAMP:20260422T195043
CREATED:20260316T202426Z
LAST-MODIFIED:20260316T202426Z
UID:10009374-1773828000-1773860400@villaelisa.gov.ar
SUMMARY:Muestra fotográfica “Villa Elisa en el tiempo: una mirada a los 135 años de historia”
DESCRIPTION:De 10:00 a 13:00 y de 16:00 a 19:00 horas\, te invitamos a recorrer\, a través de esta muestra fotográfica\, la transformación urbana y social de nuestra ciudad a lo largo del tiempo.\nLa exposición reúne fotos históricas de distintos espacios de Villa Elisa junto a sus réplicas actuales\, generando un diálogo visual entre pasado y presente. \nEl valor del bono contribución de ingreso es de $2000 general y $1500 para menores entre 6 y 12 años inclusive\, jubilados y residentes de la micro región “Tierra de Palmares”. \nContacto: 3447436203 – www.museoelporvenir.com.ar
URL:https://villaelisa.gov.ar/evento/muestra-fotografica-villa-elisa-en-el-tiempo-una-mirada-a-los-135-anos-de-historia-6/2026-03-18/
LOCATION:Estancia Museo “El Porvenir”
ATTACH;FMTTYPE=image/jpeg:https://villaelisa.gov.ar/wp-content/uploads/2026/02/Muestra-temporal-2026-Villa-Elisa-en-el-tiempo-2.jpeg
END:VEVENT
BEGIN:VEVENT
DTSTART;TZID=America/Argentina/Buenos_Aires:20260318T103000
DTEND;TZID=America/Argentina/Buenos_Aires:20260318T130000
DTSTAMP:20260422T195043
CREATED:20260220T205709Z
LAST-MODIFIED:20260220T205709Z
UID:10009182-1773829800-1773838800@villaelisa.gov.ar
SUMMARY:Visitas Guiadas en Estancia Museo El Porvenir
DESCRIPTION:De lunes a viernes (excepto martes) las 10:30 y 12:00 horas\,  pueden realizarse las visitas guiadas gratuitas por la Estancia. \nSi se lo desea\, se puede visitar el lugar en forma independiente (sin visita guiada) de 10:00 a 13:00 y de 16:00 a 19:00 horas\, recordando que también está habilitado el sector del parque recreativo. \nEl valor del bono contribución de ingreso es de $2000 general y $1500 para menores entre 6 y 12 años inclusive\, jubilados y residentes de la micro región “Tierra de Palmares”. \nContacto: 3447436203 – www.museoelporvenir.com.ar
URL:https://villaelisa.gov.ar/evento/visitas-guiadas-en-estancia-museo-el-porvenir-16/2026-03-18/
LOCATION:Estancia Museo “El Porvenir”
ATTACH;FMTTYPE=image/jpeg:https://villaelisa.gov.ar/wp-content/uploads/2026/02/Horarios-marzo-2026-feed.jpeg
END:VEVENT
BEGIN:VEVENT
DTSTART;TZID=America/Argentina/Buenos_Aires:20260319T100000
DTEND;TZID=America/Argentina/Buenos_Aires:20260319T190000
DTSTAMP:20260422T195043
CREATED:20260316T202426Z
LAST-MODIFIED:20260316T202426Z
UID:10009375-1773914400-1773946800@villaelisa.gov.ar
SUMMARY:Muestra fotográfica “Villa Elisa en el tiempo: una mirada a los 135 años de historia”
DESCRIPTION:De 10:00 a 13:00 y de 16:00 a 19:00 horas\, te invitamos a recorrer\, a través de esta muestra fotográfica\, la transformación urbana y social de nuestra ciudad a lo largo del tiempo.\nLa exposición reúne fotos históricas de distintos espacios de Villa Elisa junto a sus réplicas actuales\, generando un diálogo visual entre pasado y presente. \nEl valor del bono contribución de ingreso es de $2000 general y $1500 para menores entre 6 y 12 años inclusive\, jubilados y residentes de la micro región “Tierra de Palmares”. \nContacto: 3447436203 – www.museoelporvenir.com.ar
URL:https://villaelisa.gov.ar/evento/muestra-fotografica-villa-elisa-en-el-tiempo-una-mirada-a-los-135-anos-de-historia-6/2026-03-19/
LOCATION:Estancia Museo “El Porvenir”
ATTACH;FMTTYPE=image/jpeg:https://villaelisa.gov.ar/wp-content/uploads/2026/02/Muestra-temporal-2026-Villa-Elisa-en-el-tiempo-2.jpeg
END:VEVENT
BEGIN:VEVENT
DTSTART;TZID=America/Argentina/Buenos_Aires:20260319T103000
DTEND;TZID=America/Argentina/Buenos_Aires:20260319T130000
DTSTAMP:20260422T195043
CREATED:20260220T205709Z
LAST-MODIFIED:20260220T205709Z
UID:10009183-1773916200-1773925200@villaelisa.gov.ar
SUMMARY:Visitas Guiadas en Estancia Museo El Porvenir
DESCRIPTION:De lunes a viernes (excepto martes) las 10:30 y 12:00 horas\,  pueden realizarse las visitas guiadas gratuitas por la Estancia. \nSi se lo desea\, se puede visitar el lugar en forma independiente (sin visita guiada) de 10:00 a 13:00 y de 16:00 a 19:00 horas\, recordando que también está habilitado el sector del parque recreativo. \nEl valor del bono contribución de ingreso es de $2000 general y $1500 para menores entre 6 y 12 años inclusive\, jubilados y residentes de la micro región “Tierra de Palmares”. \nContacto: 3447436203 – www.museoelporvenir.com.ar
URL:https://villaelisa.gov.ar/evento/visitas-guiadas-en-estancia-museo-el-porvenir-16/2026-03-19/
LOCATION:Estancia Museo “El Porvenir”
ATTACH;FMTTYPE=image/jpeg:https://villaelisa.gov.ar/wp-content/uploads/2026/02/Horarios-marzo-2026-feed.jpeg
END:VEVENT
BEGIN:VEVENT
DTSTART;TZID=America/Argentina/Buenos_Aires:20260319T160000
DTEND;TZID=America/Argentina/Buenos_Aires:20260319T190000
DTSTAMP:20260422T195043
CREATED:20260317T143243Z
LAST-MODIFIED:20260317T143243Z
UID:10009390-1773936000-1773946800@villaelisa.gov.ar
SUMMARY:Mujeres que inspiran....
DESCRIPTION:🌸 Marzo: mes de la mujer 🌸 \nEn este mes en el que honramos a las mujeres\, te invitamos a compartir un espacio para escuchar\, inspirarte y conectar. \nEste jueves nos visita Diana Grass Lovato\, empresaria\, quien compartirá su experiencia en el mundo de los negocios y cómo impactó en su camino haber sido semifinalista de los Premios Mujer Empresaria FEDE 2025. \nUn encuentro pensado para motivarte\, aprender y crecer juntas.\nDuración: 2 horas. \n📞 Consultas e inscripción: 3447 41 7749 \nNo te lo pierdas… ¡vení a ser parte de esta propuesta! ✨
URL:https://villaelisa.gov.ar/evento/mujeres-que-inspiran/
LOCATION:Biblioteca Popular General Mitre\, Av. Mitre 1160\, Villa Elisa\, 3265
ATTACH;FMTTYPE=image/jpeg:https://villaelisa.gov.ar/wp-content/uploads/2026/03/WhatsApp-Image-2026-03-17-at-10.15.31-AM-1.jpeg
END:VEVENT
BEGIN:VEVENT
DTSTART;TZID=America/Argentina/Buenos_Aires:20260320T100000
DTEND;TZID=America/Argentina/Buenos_Aires:20260320T190000
DTSTAMP:20260422T195043
CREATED:20260316T202426Z
LAST-MODIFIED:20260316T202426Z
UID:10009376-1774000800-1774033200@villaelisa.gov.ar
SUMMARY:Muestra fotográfica “Villa Elisa en el tiempo: una mirada a los 135 años de historia”
DESCRIPTION:De 10:00 a 13:00 y de 16:00 a 19:00 horas\, te invitamos a recorrer\, a través de esta muestra fotográfica\, la transformación urbana y social de nuestra ciudad a lo largo del tiempo.\nLa exposición reúne fotos históricas de distintos espacios de Villa Elisa junto a sus réplicas actuales\, generando un diálogo visual entre pasado y presente. \nEl valor del bono contribución de ingreso es de $2000 general y $1500 para menores entre 6 y 12 años inclusive\, jubilados y residentes de la micro región “Tierra de Palmares”. \nContacto: 3447436203 – www.museoelporvenir.com.ar
URL:https://villaelisa.gov.ar/evento/muestra-fotografica-villa-elisa-en-el-tiempo-una-mirada-a-los-135-anos-de-historia-6/2026-03-20/
LOCATION:Estancia Museo “El Porvenir”
ATTACH;FMTTYPE=image/jpeg:https://villaelisa.gov.ar/wp-content/uploads/2026/02/Muestra-temporal-2026-Villa-Elisa-en-el-tiempo-2.jpeg
END:VEVENT
BEGIN:VEVENT
DTSTART;TZID=America/Argentina/Buenos_Aires:20260320T103000
DTEND;TZID=America/Argentina/Buenos_Aires:20260320T130000
DTSTAMP:20260422T195043
CREATED:20260225T211536Z
LAST-MODIFIED:20260225T211536Z
UID:10009210-1774002600-1774011600@villaelisa.gov.ar
SUMMARY:Visitas Guiadas en Estancia Museo El Porvenir
DESCRIPTION:De lunes a viernes (excepto martes) las 10:30 y 12:00 horas\,  pueden realizarse las visitas guiadas gratuitas por la Estancia. \nSi se lo desea\, se puede visitar el lugar en forma independiente (sin visita guiada) de 10:00 a 13:00 y de 16:00 a 19:00 horas\, recordando que también está habilitado el sector del parque recreativo. \nEl valor del bono contribución de ingreso es de $2000 general y $1500 para menores entre 6 y 12 años inclusive\, jubilados y residentes de la micro región “Tierra de Palmares”. \nContacto: 3447436203 – www.museoelporvenir.com.ar
URL:https://villaelisa.gov.ar/evento/visitas-guiadas-en-estancia-museo-el-porvenir-17/
LOCATION:Estancia Museo “El Porvenir”
ATTACH;FMTTYPE=image/jpeg:https://villaelisa.gov.ar/wp-content/uploads/2026/02/Horarios-marzo-2026-feed.jpeg
END:VEVENT
BEGIN:VEVENT
DTSTART;TZID=America/Argentina/Buenos_Aires:20260320T233000
DTEND;TZID=America/Argentina/Buenos_Aires:20260321T040000
DTSTAMP:20260422T195043
CREATED:20260320T155855Z
LAST-MODIFIED:20260320T155855Z
UID:10009414-1774049400-1774065600@villaelisa.gov.ar
SUMMARY:Viernes de Fran Beer
DESCRIPTION:Tragos y muy buena música para una noche de grandes encuentros…
URL:https://villaelisa.gov.ar/evento/viernes-de-fran-beer/
LOCATION:Fran Beer\, Bv. Guex 1694\, Villa Elisa\, 3265
ATTACH;FMTTYPE=image/jpeg:https://villaelisa.gov.ar/wp-content/uploads/2026/03/WhatsApp-Image-2026-03-20-at-7.54.41-AM-1.jpeg
END:VEVENT
BEGIN:VEVENT
DTSTART;TZID=America/Argentina/Buenos_Aires:20260321T100000
DTEND;TZID=America/Argentina/Buenos_Aires:20260321T190000
DTSTAMP:20260422T195043
CREATED:20260316T202426Z
LAST-MODIFIED:20260316T202426Z
UID:10009377-1774087200-1774119600@villaelisa.gov.ar
SUMMARY:Muestra fotográfica “Villa Elisa en el tiempo: una mirada a los 135 años de historia”
DESCRIPTION:De 10:00 a 13:00 y de 16:00 a 19:00 horas\, te invitamos a recorrer\, a través de esta muestra fotográfica\, la transformación urbana y social de nuestra ciudad a lo largo del tiempo.\nLa exposición reúne fotos históricas de distintos espacios de Villa Elisa junto a sus réplicas actuales\, generando un diálogo visual entre pasado y presente. \nEl valor del bono contribución de ingreso es de $2000 general y $1500 para menores entre 6 y 12 años inclusive\, jubilados y residentes de la micro región “Tierra de Palmares”. \nContacto: 3447436203 – www.museoelporvenir.com.ar
URL:https://villaelisa.gov.ar/evento/muestra-fotografica-villa-elisa-en-el-tiempo-una-mirada-a-los-135-anos-de-historia-6/2026-03-21/
LOCATION:Estancia Museo “El Porvenir”
ATTACH;FMTTYPE=image/jpeg:https://villaelisa.gov.ar/wp-content/uploads/2026/02/Muestra-temporal-2026-Villa-Elisa-en-el-tiempo-2.jpeg
END:VEVENT
BEGIN:VEVENT
DTSTART;TZID=America/Argentina/Buenos_Aires:20260321T233000
DTEND;TZID=America/Argentina/Buenos_Aires:20260322T050000
DTSTAMP:20260422T195043
CREATED:20260320T160111Z
LAST-MODIFIED:20260320T160111Z
UID:10009415-1774135800-1774155600@villaelisa.gov.ar
SUMMARY:Noche ElySium
DESCRIPTION:En Fran Beer con los Djs Ale Vinzon y Piten Villalba será una noche grandiosa. Los espewramos
URL:https://villaelisa.gov.ar/evento/noche-elysium/
ATTACH;FMTTYPE=image/jpeg:https://villaelisa.gov.ar/wp-content/uploads/2026/03/WhatsApp-Image-2026-03-20-at-7.54.41-AM-1.jpeg
END:VEVENT
BEGIN:VEVENT
DTSTART;TZID=America/Argentina/Buenos_Aires:20260322T100000
DTEND;TZID=America/Argentina/Buenos_Aires:20260322T113000
DTSTAMP:20260422T195043
CREATED:20260317T135327Z
LAST-MODIFIED:20260317T135327Z
UID:10009384-1774173600-1774179000@villaelisa.gov.ar
SUMMARY:Caminatur
DESCRIPTION:No es solo un city tour…\nes una invitación a sentir la ciudad. \nA caminar sin prisa\,\na escuchar las historias que viven en sus calles\,\na descubrir rincones que emocionan\ncuando se mira distinto\ny se recorre con todos los sentidos. \nCosto colaboración a voluntad. \n📞 Reservas: 3447 456151\n👩‍🦰 Graciela Antonin\nGuía Nacional de Turismo – UADER\nMatrícula Nº 0054\nCoProTuer
URL:https://villaelisa.gov.ar/evento/caminatur-10/2026-03-22/
ATTACH;FMTTYPE=image/jpeg:https://villaelisa.gov.ar/wp-content/uploads/2026/03/WhatsApp-Image-2026-03-17-at-10.41.59-AM.jpeg
END:VEVENT
BEGIN:VEVENT
DTSTART;TZID=America/Argentina/Buenos_Aires:20260322T100000
DTEND;TZID=America/Argentina/Buenos_Aires:20260322T130000
DTSTAMP:20260422T195043
CREATED:20241104T113404Z
LAST-MODIFIED:20241104T113404Z
UID:10002265-1774173600-1774184400@villaelisa.gov.ar
SUMMARY:Auto Tour
DESCRIPTION:TRAVELING VINA:  \nEs un servicio  extra\, que ofrece el complejo de Alojamientos “V I N A” \nExperiencia Rurales\, AUTO TOUR:  \nPlanificamos y coordinamos recorridos por bodegas\, fábricas de productos regionales\, y almacenes locales\, te llevamos a descubrir La Colonia\, cultura local y los paisajes mas hermosos de nuestra Tierra de Palmares.- \nOrganizado por Perla Lopez – \nReservas con anticipación: contacto 3447503491.- \nValor del recorrido: según destino elegido. \nTiempo demandado: aproximadamente 3 horas.- \nEl objetivo es formar una caravana\, con los vehículos de los interesados y hacer\, una mañana o una tarde de recorridos a los diferentes atractivos de nuestra zona  \nprevia coordinación.- \nPunto de salida: oficina de Turismo Villa Elisa.-
URL:https://villaelisa.gov.ar/evento/auto-tour/2026-03-22/
ATTACH;FMTTYPE=image/jpeg:https://villaelisa.gov.ar/wp-content/uploads/2024/11/Traveling-vina.jpg
END:VEVENT
BEGIN:VEVENT
DTSTART;TZID=America/Argentina/Buenos_Aires:20260322T100000
DTEND;TZID=America/Argentina/Buenos_Aires:20260322T190000
DTSTAMP:20260422T195043
CREATED:20260316T202426Z
LAST-MODIFIED:20260316T202426Z
UID:10009378-1774173600-1774206000@villaelisa.gov.ar
SUMMARY:Muestra fotográfica “Villa Elisa en el tiempo: una mirada a los 135 años de historia”
DESCRIPTION:De 10:00 a 13:00 y de 16:00 a 19:00 horas\, te invitamos a recorrer\, a través de esta muestra fotográfica\, la transformación urbana y social de nuestra ciudad a lo largo del tiempo.\nLa exposición reúne fotos históricas de distintos espacios de Villa Elisa junto a sus réplicas actuales\, generando un diálogo visual entre pasado y presente. \nEl valor del bono contribución de ingreso es de $2000 general y $1500 para menores entre 6 y 12 años inclusive\, jubilados y residentes de la micro región “Tierra de Palmares”. \nContacto: 3447436203 – www.museoelporvenir.com.ar
URL:https://villaelisa.gov.ar/evento/muestra-fotografica-villa-elisa-en-el-tiempo-una-mirada-a-los-135-anos-de-historia-6/2026-03-22/
LOCATION:Estancia Museo “El Porvenir”
ATTACH;FMTTYPE=image/jpeg:https://villaelisa.gov.ar/wp-content/uploads/2026/02/Muestra-temporal-2026-Villa-Elisa-en-el-tiempo-2.jpeg
END:VEVENT
BEGIN:VEVENT
DTSTART;TZID=America/Argentina/Buenos_Aires:20260322T103000
DTEND;TZID=America/Argentina/Buenos_Aires:20260322T173000
DTSTAMP:20260422T195043
CREATED:20260306T201624Z
LAST-MODIFIED:20260306T201624Z
UID:10009349-1774175400-1774200600@villaelisa.gov.ar
SUMMARY:Visitas Guiadas en Estancia Museo El Porvenir
DESCRIPTION:Domingo 22 y lunes 23 a las 10:30\, 12:00\, 16:30 y 17:30 horas\,  pueden realizarse las visitas guiadas gratuitas por la Estancia. \nSi se lo desea\, se puede visitar el lugar en forma independiente (sin visita guiada) de 10:00 a 13:00 y de 16:00 a 19:00 horas\, recordando que también está habilitado el sector del parque recreativo. \nEl valor del bono contribución de ingreso es de $2000 general y $1500 para menores entre 6 y 12 años inclusive\, jubilados y residentes de la micro región “Tierra de Palmares”. \nContacto: 3447436203 – www.museoelporvenir.com.ar
URL:https://villaelisa.gov.ar/evento/visitas-guiadas-en-estancia-museo-el-porvenir-18/2026-03-22/
LOCATION:Estancia Museo “El Porvenir”
ATTACH;FMTTYPE=image/jpeg:https://villaelisa.gov.ar/wp-content/uploads/2026/03/Fin-de-semana-largo-21-al-24-de-marzo-2026-feed.jpeg
END:VEVENT
BEGIN:VEVENT
DTSTART;TZID=America/Argentina/Buenos_Aires:20260322T150000
DTEND;TZID=America/Argentina/Buenos_Aires:20260322T190000
DTSTAMP:20260422T195043
CREATED:20260303T133233Z
LAST-MODIFIED:20260317T141340Z
UID:10009387-1774191600-1774206000@villaelisa.gov.ar
SUMMARY:Estación Elisa – Ferroclub Central Entrerriano
DESCRIPTION:Sábado\, Domingo y Lunes  desde 15:00 hs. estará abierta la estación Elisa donde encontrarás maquinarias y elementos de época\, a las 15:30 y 18 horas habrá paseos en el tren histórico turístico para vivir una gran experiencia. \nCalle Centenario 2200 \nConsultas al 3442 551086
URL:https://villaelisa.gov.ar/evento/estacion-elisa-ferroclub-central-entrerriano-14-2/2026-03-22/
LOCATION:Estación ferroviaria Villa Elisa
ATTACH;FMTTYPE=image/jpeg:https://villaelisa.gov.ar/wp-content/uploads/2026/03/WhatsApp-Image-2026-03-17-at-10.58.48-AM.jpeg
END:VEVENT
BEGIN:VEVENT
DTSTART;TZID=America/Argentina/Buenos_Aires:20260322T180000
DTEND;TZID=America/Argentina/Buenos_Aires:20260322T200000
DTSTAMP:20260422T195043
CREATED:20260304T134208Z
LAST-MODIFIED:20260304T134208Z
UID:10009338-1774202400-1774209600@villaelisa.gov.ar
SUMMARY:Evento por La Democracia
DESCRIPTION:Conmemorando los 50 aniversario golpe a la Democracia\, realizaremos en “La Enredada”- Espacio Cultural un evento donde las Artes nos unen para la reflexión. \nRealizaremos una jornada de intervención pictórica con la campaña “Florecerán pañuelos”\, invitando a toda la comunidad a intervenir los pañuelos\, que se les dará en el lugar\, con flores\, frases\, para que florezcan historias. \nTambién contaremos con un escenario con músicos de diversos géneros musicales\, folcklore\, rock\, entre otros\, con temas alusivos al día en conmemoración. Contaremos con un servicio de cantina y comidas rápidas.
URL:https://villaelisa.gov.ar/evento/evento-por-la-democracia/
LOCATION:La ENREDADA\, FRANCOU 1548\, Villa Elisa\, 3265
ATTACH;FMTTYPE=image/png:https://villaelisa.gov.ar/wp-content/uploads/2026/03/Evento-x-la-Democracia.png
END:VEVENT
BEGIN:VEVENT
DTSTART;TZID=America/Argentina/Buenos_Aires:20260322T200000
DTEND;TZID=America/Argentina/Buenos_Aires:20260322T213000
DTSTAMP:20260422T195043
CREATED:20260224T153935Z
LAST-MODIFIED:20260325T125309Z
UID:10009412-1774209600-1774215000@villaelisa.gov.ar
SUMMARY:Cine Paradiso "El Salto de Christian"
DESCRIPTION:“El Salto de Christian” Una pelicula inspirada en la figura de Christian Madsen\, un personaje que trascendió el tiempo para convertirse en leyenda entre los habitantes de Claromecó\, Tres Arroyos y todo el sudeste bonaerense\, este film invita a volver al origen. A ese lugar donde las historias nacen\, donde la tierra y el mar se encuentran\, y donde comienza a gestarse algo único. Imperdible en Cine Paradiso de Alvear 942. Entrada solo $2000.
URL:https://villaelisa.gov.ar/evento/cine-paradiso-el-turista/2026-03-22/
LOCATION:Cine Paradiso\, Gral. Alvear 942\, Villa Elisa\, 3265
ATTACH;FMTTYPE=image/jpeg:https://villaelisa.gov.ar/wp-content/uploads/2026/02/WhatsApp-Image-2026-03-25-at-9.48.34-AM.jpeg
END:VEVENT
BEGIN:VEVENT
DTSTART;TZID=America/Argentina/Buenos_Aires:20260322T210000
DTEND;TZID=America/Argentina/Buenos_Aires:20260323T003000
DTSTAMP:20260422T195043
CREATED:20260318T140554Z
LAST-MODIFIED:20260318T140554Z
UID:10009392-1774213200-1774225800@villaelisa.gov.ar
SUMMARY:Cena Show en "El Paso"
DESCRIPTION:Vení a disfrutar de una experiencia única donde vas a poder degustar exquisitos menús\, con lo mejor de la parrilla y platos abundantes\, en un ambiente cálido y familiar. \nAdemás\, viví una noche diferente con show musical en vivo\, ideal para compartir con amigos o en familia.
URL:https://villaelisa.gov.ar/evento/cena-show-en-el-paso-14/
ATTACH;FMTTYPE=image/jpeg:https://villaelisa.gov.ar/wp-content/uploads/2026/03/WhatsApp-Image-2026-03-18-at-7.54.31-AM-1.jpeg
END:VEVENT
BEGIN:VEVENT
DTSTART;TZID=America/Argentina/Buenos_Aires:20260322T210000
DTEND;TZID=America/Argentina/Buenos_Aires:20260323T003000
DTSTAMP:20260422T195043
CREATED:20260319T123532Z
LAST-MODIFIED:20260319T123532Z
UID:10009393-1774213200-1774225800@villaelisa.gov.ar
SUMMARY:"Somos Asi" en El Paisanito
DESCRIPTION: ¡EL PLAN PERFECTO EXISTE! \nSi buscás el mejor lugar\, la mejor comida y la mejor música en vivo\, este es el lugar que no te podés perder… \n🍽️ Menúes exquisitos que te van a sorprender\n🎶 Todo el ritmo y la buena energía de Somos Así\n💃 En un ambiente único para disfrutar sin parar \n✨ Una experiencia que se vive de verdad ✨ \n  \n 
URL:https://villaelisa.gov.ar/evento/somos-asi-en-el-paisanito/
LOCATION:El Paisanito\, Bv. Schroeder 1430\, Villa Elisa\, 3265
ATTACH;FMTTYPE=image/png:https://villaelisa.gov.ar/wp-content/uploads/2026/03/somos-asi-el-paisa.png
END:VEVENT
END:VCALENDAR