BEGIN:VCALENDAR
VERSION:2.0
PRODID:-//Municipalidad de Villa Elisa, Entre Ríos - ECPv6.6.4.2//NONSGML v1.0//EN
CALSCALE:GREGORIAN
METHOD:PUBLISH
X-ORIGINAL-URL:https://villaelisa.gov.ar
X-WR-CALDESC:Eventos para Municipalidad de Villa Elisa, Entre Ríos
REFRESH-INTERVAL;VALUE=DURATION:PT1H
X-Robots-Tag:noindex
X-PUBLISHED-TTL:PT1H
BEGIN:VTIMEZONE
TZID:America/Argentina/Buenos_Aires
BEGIN:STANDARD
TZOFFSETFROM:-0300
TZOFFSETTO:-0300
TZNAME:-03
DTSTART:20260101T000000
END:STANDARD
END:VTIMEZONE
BEGIN:VEVENT
DTSTART;TZID=America/Argentina/Buenos_Aires:20260420T103000
DTEND;TZID=America/Argentina/Buenos_Aires:20260420T130000
DTSTAMP:20260422T154251
CREATED:20260319T195924Z
LAST-MODIFIED:20260319T195924Z
UID:10009406-1776681000-1776690000@villaelisa.gov.ar
SUMMARY:Visitas Guiadas en Estancia Museo El Porvenir
DESCRIPTION:De lunes a viernes (excepto martes) las 10:30 y 12:00 horas\,  pueden realizarse las visitas guiadas gratuitas por la Estancia. \nSi se lo desea\, se puede visitar el lugar en forma independiente (sin visita guiada) de 10:00 a 13:00 y de 16:00 a 19:00 horas\, recordando que también está habilitado el sector del parque recreativo. \nEl valor del bono contribución de ingreso es de $2000 general y $1500 para menores entre 6 y 12 años inclusive\, jubilados y residentes de la micro región “Tierra de Palmares”. \nContacto: 3447436203 – www.museoelporvenir.com.ar
URL:https://villaelisa.gov.ar/evento/visitas-guiadas-en-estancia-museo-el-porvenir-19/2026-04-20/
LOCATION:Estancia Museo “El Porvenir”
ATTACH;FMTTYPE=image/jpeg:https://villaelisa.gov.ar/wp-content/uploads/2026/02/Horarios-marzo-2026-feed.jpeg
END:VEVENT
BEGIN:VEVENT
DTSTART;TZID=America/Argentina/Buenos_Aires:20260422T103000
DTEND;TZID=America/Argentina/Buenos_Aires:20260422T130000
DTSTAMP:20260422T154251
CREATED:20260319T195924Z
LAST-MODIFIED:20260319T195924Z
UID:10009407-1776853800-1776862800@villaelisa.gov.ar
SUMMARY:Visitas Guiadas en Estancia Museo El Porvenir
DESCRIPTION:De lunes a viernes (excepto martes) las 10:30 y 12:00 horas\,  pueden realizarse las visitas guiadas gratuitas por la Estancia. \nSi se lo desea\, se puede visitar el lugar en forma independiente (sin visita guiada) de 10:00 a 13:00 y de 16:00 a 19:00 horas\, recordando que también está habilitado el sector del parque recreativo. \nEl valor del bono contribución de ingreso es de $2000 general y $1500 para menores entre 6 y 12 años inclusive\, jubilados y residentes de la micro región “Tierra de Palmares”. \nContacto: 3447436203 – www.museoelporvenir.com.ar
URL:https://villaelisa.gov.ar/evento/visitas-guiadas-en-estancia-museo-el-porvenir-19/2026-04-22/
LOCATION:Estancia Museo “El Porvenir”
ATTACH;FMTTYPE=image/jpeg:https://villaelisa.gov.ar/wp-content/uploads/2026/02/Horarios-marzo-2026-feed.jpeg
END:VEVENT
BEGIN:VEVENT
DTSTART;TZID=America/Argentina/Buenos_Aires:20260423T103000
DTEND;TZID=America/Argentina/Buenos_Aires:20260423T130000
DTSTAMP:20260422T154251
CREATED:20260319T195924Z
LAST-MODIFIED:20260319T195924Z
UID:10009408-1776940200-1776949200@villaelisa.gov.ar
SUMMARY:Visitas Guiadas en Estancia Museo El Porvenir
DESCRIPTION:De lunes a viernes (excepto martes) las 10:30 y 12:00 horas\,  pueden realizarse las visitas guiadas gratuitas por la Estancia. \nSi se lo desea\, se puede visitar el lugar en forma independiente (sin visita guiada) de 10:00 a 13:00 y de 16:00 a 19:00 horas\, recordando que también está habilitado el sector del parque recreativo. \nEl valor del bono contribución de ingreso es de $2000 general y $1500 para menores entre 6 y 12 años inclusive\, jubilados y residentes de la micro región “Tierra de Palmares”. \nContacto: 3447436203 – www.museoelporvenir.com.ar
URL:https://villaelisa.gov.ar/evento/visitas-guiadas-en-estancia-museo-el-porvenir-19/2026-04-23/
LOCATION:Estancia Museo “El Porvenir”
ATTACH;FMTTYPE=image/jpeg:https://villaelisa.gov.ar/wp-content/uploads/2026/02/Horarios-marzo-2026-feed.jpeg
END:VEVENT
BEGIN:VEVENT
DTSTART;TZID=America/Argentina/Buenos_Aires:20260423T190000
DTEND;TZID=America/Argentina/Buenos_Aires:20260423T203000
DTSTAMP:20260422T154251
CREATED:20260420T175627Z
LAST-MODIFIED:20260420T175627Z
UID:10009501-1776970800-1776976200@villaelisa.gov.ar
SUMMARY:P𝐫𝐞𝐬𝐞𝐧𝐭𝐚𝐜𝐢ó𝐧 𝐝𝐞𝐥 𝐥𝐢𝐛𝐫𝐨 “𝐏𝐞𝐝𝐚𝐥𝐞𝐬 𝐝𝐞 L𝐢𝐛𝐞𝐫𝐭𝐚𝐝”
DESCRIPTION:En el marco del Día Internacional del Libro y del Derecho de Autor\, comienza una nueva edición de esta propuesta cultural que organizamos a través del Área de Cultura y Educación. \nLa Apertura será con la 𝐩𝐫𝐞𝐬𝐞𝐧𝐭𝐚𝐜𝐢ó𝐧 𝐝𝐞𝐥 𝐥𝐢𝐛𝐫𝐨 “𝐏𝐞𝐝𝐚𝐥𝐞𝐬 𝐝𝐞 𝐥𝐢𝐛𝐞𝐫𝐭𝐚𝐝” 𝐝𝐞 𝐑𝐮𝐛é𝐧 𝐑𝐨𝐮𝐝𝐞.\nTe esperamos el jueves 23 de abril a las 19:00 horas.\nAuditorio Heraldo Peragallo. \nEl autor\, oriundo de Villa Elisa\, cuenta con una amplia trayectoria como escritor y poeta.\nSu nueva novela relata el viaje de un hombre por los caminos rurales de Entre Ríos\, en una historia atravesada por recuerdos y paisajes. \nAdemás\, se podrán disfrutar obras en pintura y escultura del autor. \n𝐄𝐧𝐭𝐫𝐚𝐝𝐚 𝐥𝐢𝐛𝐫𝐞 𝐲 𝐠𝐫𝐚𝐭𝐮𝐢𝐭𝐚
URL:https://villaelisa.gov.ar/evento/p%f0%9d%90%ab%f0%9d%90%9e%f0%9d%90%ac%f0%9d%90%9e%f0%9d%90%a7%f0%9d%90%ad%f0%9d%90%9a%f0%9d%90%9c%f0%9d%90%a2o%f0%9d%90%a7-%f0%9d%90%9d%f0%9d%90%9e%f0%9d%90%a5-%f0%9d%90%a5%f0%9d%90%a2%f0%9d%90%9b/
LOCATION:Casa de la Cultura H. Peragallo
ATTACH;FMTTYPE=image/png:https://villaelisa.gov.ar/wp-content/uploads/2026/04/Presentacion-del-libro-Pedales-de-libertad.png
END:VEVENT
BEGIN:VEVENT
DTSTART;TZID=America/Argentina/Buenos_Aires:20260424T103000
DTEND;TZID=America/Argentina/Buenos_Aires:20260424T130000
DTSTAMP:20260422T154251
CREATED:20260330T201103Z
LAST-MODIFIED:20260330T201103Z
UID:10009442-1777026600-1777035600@villaelisa.gov.ar
SUMMARY:Visitas Guiadas en Estancia Museo El Porvenir
DESCRIPTION:De lunes a viernes (excepto martes) las 10:30 y 12:00 horas\,  pueden realizarse las visitas guiadas gratuitas por la Estancia. \nSi se lo desea\, se puede visitar el lugar en forma independiente (sin visita guiada) de 10:00 a 13:00 y de 16:00 a 19:00 horas\, recordando que también está habilitado el sector del parque recreativo. \nEl valor del bono contribución de ingreso es de $2000 general y $1500 para menores entre 6 y 12 años inclusive\, jubilados y residentes de la micro región “Tierra de Palmares”. \nContacto: 3447436203 – www.museoelporvenir.com.ar
URL:https://villaelisa.gov.ar/evento/visitas-guiadas-en-estancia-museo-el-porvenir-21/
LOCATION:Estancia Museo “El Porvenir”
ATTACH;FMTTYPE=image/jpeg:https://villaelisa.gov.ar/wp-content/uploads/2026/02/Horarios-marzo-2026-feed.jpeg
END:VEVENT
BEGIN:VEVENT
DTSTART;TZID=America/Argentina/Buenos_Aires:20260424T200000
DTEND;TZID=America/Argentina/Buenos_Aires:20260424T233000
DTSTAMP:20260422T154251
CREATED:20260420T162932Z
LAST-MODIFIED:20260420T162932Z
UID:10009500-1777060800-1777073400@villaelisa.gov.ar
SUMMARY:Acordeonada entre Amigos
DESCRIPTION:Todos invitados a disfrutar de una velada única para compartir muy buena música\, encuentros entre amigos y emociones inolvidables. \n Además\, realizaremos un merecido reconocimiento al maestro Cacho Gauna\, celebrando su trayectoria y su gran aporte a la cultura. \n Organiza: Centro Piamontes Villa Elisa E. Rios
URL:https://villaelisa.gov.ar/evento/acordeonada-entre-amigos/
LOCATION:Salón Jockey Club Villa Elisa
ATTACH;FMTTYPE=image/jpeg:https://villaelisa.gov.ar/wp-content/uploads/2026/04/WhatsApp-Image-2026-04-20-at-1.17.16-PM.jpeg
END:VEVENT
BEGIN:VEVENT
DTSTART;TZID=America/Argentina/Buenos_Aires:20260424T210000
DTEND;TZID=America/Argentina/Buenos_Aires:20260424T233000
DTSTAMP:20260422T154251
CREATED:20260403T150505Z
LAST-MODIFIED:20260418T131722Z
UID:10009463-1777064400-1777073400@villaelisa.gov.ar
SUMMARY:"Hojas Secas" Concierto en Biblioteca Gral. Mitre
DESCRIPTION:La Biblioteca Popular General Mitre invita a una noche íntima de canciones y textos de la mano de Edgardo Rubinich. \n“Hojas Secas” es un recorrido sensible entre música y palabra\, donde lo cotidiano se vuelve poesía y la escucha se transforma en encuentro. \nBiblioteca Popular Gral. Mitre Av. Mitre 1160
URL:https://villaelisa.gov.ar/evento/hojas-secas-concierto-en-biblioteca-gral-mitre/
LOCATION:Biblioteca Popular General Mitre\, Av. Mitre 1160\, Villa Elisa\, 3265
ATTACH;FMTTYPE=image/jpeg:https://villaelisa.gov.ar/wp-content/uploads/2026/04/WhatsApp-Image-2026-04-18-at-10.05.41-AM-1.jpeg
END:VEVENT
BEGIN:VEVENT
DTSTART;TZID=America/Argentina/Buenos_Aires:20260425T203000
DTEND;TZID=America/Argentina/Buenos_Aires:20260425T223000
DTSTAMP:20260422T154251
CREATED:20260420T102249Z
LAST-MODIFIED:20260420T102249Z
UID:10009499-1777149000-1777156200@villaelisa.gov.ar
SUMMARY:Teatro "Madame Ciencia"
DESCRIPTION:Última fecha del ciclo Mujeres a las Tablas. \nSábado 25 de Abril – 21hs. – en La Fragua – Villa Elisa – Función a la gorra \nLlega desde Paraná\, Madame Ciencia\, es una obra inspirada en la vida de la científica Marie Curi quien desafió las barreras de género en un campo dominado por hombres. \nActúa: gabriela trevisani\nDirige: valeria folini\nUna experiencia de: mujeres barderas \n🎟 función a la gorra\n💬 desmontaje con la artista al finalizar\n🍔 buffet + bebidas \nLes esperamos!
URL:https://villaelisa.gov.ar/evento/teatro-madame-ciencia/
ATTACH;FMTTYPE=image/jpeg:https://villaelisa.gov.ar/wp-content/uploads/2026/04/madame-ciencia.jpeg
END:VEVENT
BEGIN:VEVENT
DTSTART;TZID=America/Argentina/Buenos_Aires:20260425T210000
DTEND;TZID=America/Argentina/Buenos_Aires:20260425T223000
DTSTAMP:20260422T154251
CREATED:20260416T131044Z
LAST-MODIFIED:20260420T185647Z
UID:10009503-1777150800-1777156200@villaelisa.gov.ar
SUMMARY:"Pasos Perdidos" Película en Cine Paradiso
DESCRIPTION:Cuenta justamente la historia de Mónica\, una joven de unos veinte años que vive en España con sus padres argentinos exiliados. Su vida da un giro cuando aparece Bruno\, quien la impulsa a descubrir su verdadera identidad y a reconstruir su pasado ligado a la Argentina. \nUna película con gran elenco y la estelar participación de Luis Brandoni \nCine Paradiso Alvear 942 Entrada $2000.
URL:https://villaelisa.gov.ar/evento/valentin-pelicula-en-cine-paradiso/
LOCATION:Cine Paradiso\, Gral. Alvear 942\, Villa Elisa\, 3265
ATTACH;FMTTYPE=image/jpeg:https://villaelisa.gov.ar/wp-content/uploads/2026/04/WhatsApp-Image-2026-04-20-at-3.45.50-PM.jpeg
END:VEVENT
BEGIN:VEVENT
DTSTART;TZID=America/Argentina/Buenos_Aires:20260425T210000
DTEND;TZID=America/Argentina/Buenos_Aires:20260426T030000
DTSTAMP:20260422T154251
CREATED:20260414T130432Z
LAST-MODIFIED:20260414T130432Z
UID:10009489-1777150800-1777172400@villaelisa.gov.ar
SUMMARY:GRAN BAILE
DESCRIPTION:SABADO 25 DE ABRIL \nGRAN BAILE \nCON \n“LOS DUENDES”
URL:https://villaelisa.gov.ar/evento/gran-baile-9/
LOCATION:Centro María Auxiliadora\, H. Irigoyen 1269\, Villa Elisa
ATTACH;FMTTYPE=image/jpeg:https://villaelisa.gov.ar/wp-content/uploads/2026/04/InShot_20260414_090629469.jpg
END:VEVENT
BEGIN:VEVENT
DTSTART;TZID=America/Argentina/Buenos_Aires:20260426T100000
DTEND;TZID=America/Argentina/Buenos_Aires:20260426T130000
DTSTAMP:20260422T154251
CREATED:20241104T113404Z
LAST-MODIFIED:20241104T113404Z
UID:10002270-1777197600-1777208400@villaelisa.gov.ar
SUMMARY:Auto Tour
DESCRIPTION:TRAVELING VINA:  \nEs un servicio  extra\, que ofrece el complejo de Alojamientos “V I N A” \nExperiencia Rurales\, AUTO TOUR:  \nPlanificamos y coordinamos recorridos por bodegas\, fábricas de productos regionales\, y almacenes locales\, te llevamos a descubrir La Colonia\, cultura local y los paisajes mas hermosos de nuestra Tierra de Palmares.- \nOrganizado por Perla Lopez – \nReservas con anticipación: contacto 3447503491.- \nValor del recorrido: según destino elegido. \nTiempo demandado: aproximadamente 3 horas.- \nEl objetivo es formar una caravana\, con los vehículos de los interesados y hacer\, una mañana o una tarde de recorridos a los diferentes atractivos de nuestra zona  \nprevia coordinación.- \nPunto de salida: oficina de Turismo Villa Elisa.-
URL:https://villaelisa.gov.ar/evento/auto-tour/2026-04-26/
ATTACH;FMTTYPE=image/jpeg:https://villaelisa.gov.ar/wp-content/uploads/2024/11/Traveling-vina.jpg
END:VEVENT
BEGIN:VEVENT
DTSTART;TZID=America/Argentina/Buenos_Aires:20260426T110000
DTEND;TZID=America/Argentina/Buenos_Aires:20260426T180000
DTSTAMP:20260422T154251
CREATED:20260417T135636Z
LAST-MODIFIED:20260417T135636Z
UID:10009496-1777201200-1777226400@villaelisa.gov.ar
SUMMARY:Gran Peña Bailable
DESCRIPTION:Te invitamos a vivir los bailes más lindos\, perfectos para compartir momentos inolvidables con amigos y familia\, en una jornada para disfrutar al máximo! \n🎶 Con toda la música y la alegría de Betola “El Vagabundo” y el destacado show de “Los Alfiles”\, que convertirán este día en una verdadera fiesta. \n💃🕺 Vení a la Escuela 37 de Colonia Hambís a bailar\, divertirte y llenarte de ritmo\, buena onda y compañía. \n 
URL:https://villaelisa.gov.ar/evento/gran-pena-bailable/
LOCATION:Escuela N° 37 Colonia Hambis
ATTACH;FMTTYPE=image/jpeg:https://villaelisa.gov.ar/wp-content/uploads/2026/04/WhatsApp-Image-2026-04-17-at-10.35.43-AM.jpeg
END:VEVENT
END:VCALENDAR