BEGIN:VCALENDAR
VERSION:2.0
PRODID:-//Municipalidad de Villa Elisa, Entre Ríos - ECPv6.6.4.2//NONSGML v1.0//EN
CALSCALE:GREGORIAN
METHOD:PUBLISH
X-ORIGINAL-URL:https://villaelisa.gov.ar
X-WR-CALDESC:Eventos para Municipalidad de Villa Elisa, Entre Ríos
REFRESH-INTERVAL;VALUE=DURATION:PT1H
X-Robots-Tag:noindex
X-PUBLISHED-TTL:PT1H
BEGIN:VTIMEZONE
TZID:America/Argentina/Buenos_Aires
BEGIN:STANDARD
TZOFFSETFROM:-0300
TZOFFSETTO:-0300
TZNAME:-03
DTSTART:20260101T000000
END:STANDARD
END:VTIMEZONE
BEGIN:VEVENT
DTSTART;TZID=America/Argentina/Buenos_Aires:20260427T103000
DTEND;TZID=America/Argentina/Buenos_Aires:20260427T130000
DTSTAMP:20260422T182507
CREATED:20260319T195924Z
LAST-MODIFIED:20260319T195924Z
UID:10009409-1777285800-1777294800@villaelisa.gov.ar
SUMMARY:Visitas Guiadas en Estancia Museo El Porvenir
DESCRIPTION:De lunes a viernes (excepto martes) las 10:30 y 12:00 horas\,  pueden realizarse las visitas guiadas gratuitas por la Estancia. \nSi se lo desea\, se puede visitar el lugar en forma independiente (sin visita guiada) de 10:00 a 13:00 y de 16:00 a 19:00 horas\, recordando que también está habilitado el sector del parque recreativo. \nEl valor del bono contribución de ingreso es de $2000 general y $1500 para menores entre 6 y 12 años inclusive\, jubilados y residentes de la micro región “Tierra de Palmares”. \nContacto: 3447436203 – www.museoelporvenir.com.ar
URL:https://villaelisa.gov.ar/evento/visitas-guiadas-en-estancia-museo-el-porvenir-19/2026-04-27/
LOCATION:Estancia Museo “El Porvenir”
ATTACH;FMTTYPE=image/jpeg:https://villaelisa.gov.ar/wp-content/uploads/2026/02/Horarios-marzo-2026-feed.jpeg
END:VEVENT
BEGIN:VEVENT
DTSTART;TZID=America/Argentina/Buenos_Aires:20260429T103000
DTEND;TZID=America/Argentina/Buenos_Aires:20260429T130000
DTSTAMP:20260422T182507
CREATED:20260319T195924Z
LAST-MODIFIED:20260319T195924Z
UID:10009410-1777458600-1777467600@villaelisa.gov.ar
SUMMARY:Visitas Guiadas en Estancia Museo El Porvenir
DESCRIPTION:De lunes a viernes (excepto martes) las 10:30 y 12:00 horas\,  pueden realizarse las visitas guiadas gratuitas por la Estancia. \nSi se lo desea\, se puede visitar el lugar en forma independiente (sin visita guiada) de 10:00 a 13:00 y de 16:00 a 19:00 horas\, recordando que también está habilitado el sector del parque recreativo. \nEl valor del bono contribución de ingreso es de $2000 general y $1500 para menores entre 6 y 12 años inclusive\, jubilados y residentes de la micro región “Tierra de Palmares”. \nContacto: 3447436203 – www.museoelporvenir.com.ar
URL:https://villaelisa.gov.ar/evento/visitas-guiadas-en-estancia-museo-el-porvenir-19/2026-04-29/
LOCATION:Estancia Museo “El Porvenir”
ATTACH;FMTTYPE=image/jpeg:https://villaelisa.gov.ar/wp-content/uploads/2026/02/Horarios-marzo-2026-feed.jpeg
END:VEVENT
BEGIN:VEVENT
DTSTART;TZID=America/Argentina/Buenos_Aires:20260430T103000
DTEND;TZID=America/Argentina/Buenos_Aires:20260430T130000
DTSTAMP:20260422T182507
CREATED:20260319T195924Z
LAST-MODIFIED:20260319T195924Z
UID:10009411-1777545000-1777554000@villaelisa.gov.ar
SUMMARY:Visitas Guiadas en Estancia Museo El Porvenir
DESCRIPTION:De lunes a viernes (excepto martes) las 10:30 y 12:00 horas\,  pueden realizarse las visitas guiadas gratuitas por la Estancia. \nSi se lo desea\, se puede visitar el lugar en forma independiente (sin visita guiada) de 10:00 a 13:00 y de 16:00 a 19:00 horas\, recordando que también está habilitado el sector del parque recreativo. \nEl valor del bono contribución de ingreso es de $2000 general y $1500 para menores entre 6 y 12 años inclusive\, jubilados y residentes de la micro región “Tierra de Palmares”. \nContacto: 3447436203 – www.museoelporvenir.com.ar
URL:https://villaelisa.gov.ar/evento/visitas-guiadas-en-estancia-museo-el-porvenir-19/2026-04-30/
LOCATION:Estancia Museo “El Porvenir”
ATTACH;FMTTYPE=image/jpeg:https://villaelisa.gov.ar/wp-content/uploads/2026/02/Horarios-marzo-2026-feed.jpeg
END:VEVENT
BEGIN:VEVENT
DTSTART;TZID=America/Argentina/Buenos_Aires:20260430T163000
DTEND;TZID=America/Argentina/Buenos_Aires:20260430T180000
DTSTAMP:20260422T182507
CREATED:20260421T183614Z
LAST-MODIFIED:20260421T183614Z
UID:10009506-1777566600-1777572000@villaelisa.gov.ar
SUMMARY:Volando sobre Plaza Pueyrredón
DESCRIPTION:Te invitamos a compartir esta hermosa jornada de cuentos y barriletes en Plaza Pueyrredón. 🌈📖🪁 \nUn encuentro para disfrutar en familia\, dejar volar la imaginación y llenar el cielo de colores. ¡No te lo pierdas!
URL:https://villaelisa.gov.ar/evento/volando-sobre-plaza-pueyrredon-2/
ATTACH;FMTTYPE=image/jpeg:https://villaelisa.gov.ar/wp-content/uploads/2026/04/WhatsApp-Image-2026-04-21-at-11.40.01-AM.jpeg
END:VEVENT
BEGIN:VEVENT
DTSTART;TZID=America/Argentina/Buenos_Aires:20260430T210000
DTEND;TZID=America/Argentina/Buenos_Aires:20260501T000000
DTSTAMP:20260422T182507
CREATED:20260421T161255Z
LAST-MODIFIED:20260421T161609Z
UID:10009505-1777582800-1777593600@villaelisa.gov.ar
SUMMARY:Peña Amiga
DESCRIPTION:Se viene la peña amiga para disfrutar\, bailar y compartir lo mejor de nuestro folclore\nHabrá micrófono abierto para que todos puedan sumarse 🎤 \nTe esperamos para vivir una noche llena de música\, alegría y tradición argentina. \nPizzeria y bebidas \n👉 Entrada libre y gratuita \nAv Urquiza 2720 \n¡No faltes!
URL:https://villaelisa.gov.ar/evento/pena-amiga-2/
ATTACH;FMTTYPE=image/jpeg:https://villaelisa.gov.ar/wp-content/uploads/2026/04/WhatsApp-Image-2026-04-21-at-12.46.44-PM.jpeg
END:VEVENT
BEGIN:VEVENT
DTSTART;TZID=America/Argentina/Buenos_Aires:20260501T100000
DTEND;TZID=America/Argentina/Buenos_Aires:20260501T180000
DTSTAMP:20260422T182507
CREATED:20260403T211359Z
LAST-MODIFIED:20260403T211359Z
UID:10009464-1777629600-1777658400@villaelisa.gov.ar
SUMMARY:Vivencias del Trabajo en la Colonia
DESCRIPTION:El viernes 1° de mayo\, de 10 a 18 horas\, te esperamos para compartir una nueva edición de esta propuesta especial\, en el marco del 𝐃í𝐚 𝐈𝐧𝐭𝐞𝐫𝐧𝐚𝐜𝐢𝐨𝐧𝐚𝐥 𝐝𝐞𝐥 𝐓𝐫𝐚𝐛𝐚𝐣𝐚𝐝𝐨𝐫. \nVas a poder disfrutar de:\nDemostraciones y exhibiciones de herramientas y maquinarias antiguas.\nOficios tradicionales en funcionamiento.\nExposición de autos antiguos y clásicos. \nHabrá música en vivo.\nServicio de cantina y comidas. \nEntrada libre y gratuita
URL:https://villaelisa.gov.ar/evento/vivencias-del-trabajo-en-la-colonia-2/
LOCATION:Estancia Museo “El Porvenir”
ATTACH;FMTTYPE=image/jpeg:https://villaelisa.gov.ar/wp-content/uploads/2026/04/Vivencias-del-trabajo-en-la-colonia-2026-feed.jpeg
END:VEVENT
BEGIN:VEVENT
DTSTART;TZID=America/Argentina/Buenos_Aires:20260501T193000
DTEND;TZID=America/Argentina/Buenos_Aires:20260501T203000
DTSTAMP:20260422T182507
CREATED:20260416T104026Z
LAST-MODIFIED:20260416T104026Z
UID:10009491-1777663800-1777667400@villaelisa.gov.ar
SUMMARY:NOCHES ELECTRICAS\, Braulio Durand\, escritor de nuestra ciudad
DESCRIPTION:En ocasión de la semana del libro\, el escritor local\, presenta su obra. \nPara compartir y apoyar a nuestros escritores. \nBiblioteca Popular General Mitre
URL:https://villaelisa.gov.ar/evento/noches-electricas-braulio-durand-escritor-de-nuestra-ciudad/
LOCATION:Biblioteca Popular General Mitre\, Av. Mitre 1160\, Villa Elisa\, 3265
ATTACH;FMTTYPE=image/jpeg:https://villaelisa.gov.ar/wp-content/uploads/2026/04/IMG-20260413-WA0096-1.jpg
END:VEVENT
BEGIN:VEVENT
DTSTART;TZID=America/Argentina/Buenos_Aires:20260502T163000
DTEND;TZID=America/Argentina/Buenos_Aires:20260502T220000
DTSTAMP:20260422T182507
CREATED:20260404T153906Z
LAST-MODIFIED:20260421T182908Z
UID:10009447-1777739400-1777759200@villaelisa.gov.ar
SUMMARY:Feria Emprendedores Paseo de la Vida
DESCRIPTION:  \nEste fin de semana\, emprendedores y artesanos se preparan para una nueva jornada de feria que invita a disfrutar de una tarde diferente. \nLa cita será el sábado 2 de mayo a partir de las 16:30 horas\, en el Paseo de la Vida (Av. Urquiza entre Las Heras y Alvear)\, donde se podrán recorrer diversos stands con productos locales. \nAdemás\, el encuentro contará con cuadros musicales a cargo de Fusión Ballet\, sumando arte y movimiento a la jornada. \nComo siempre\, no faltarán las delicias caseras: tortas fritas\, empanadas y masas dulces para acompañar la tarde. \nLa entrada es libre y gratuita. \n 
URL:https://villaelisa.gov.ar/evento/feria-activa-paseo-de-la-vida-xl-2-2/
LOCATION:Paseo de la Vida\, Villa Elisa
ATTACH;FMTTYPE=image/jpeg:https://villaelisa.gov.ar/wp-content/uploads/2026/04/WhatsApp-Image-2026-04-21-at-11.39.16-AM.jpeg
END:VEVENT
BEGIN:VEVENT
DTSTART;TZID=America/Argentina/Buenos_Aires:20260503T100000
DTEND;TZID=America/Argentina/Buenos_Aires:20260503T130000
DTSTAMP:20260422T182507
CREATED:20241104T113404Z
LAST-MODIFIED:20241104T113404Z
UID:10002271-1777802400-1777813200@villaelisa.gov.ar
SUMMARY:Auto Tour
DESCRIPTION:TRAVELING VINA:  \nEs un servicio  extra\, que ofrece el complejo de Alojamientos “V I N A” \nExperiencia Rurales\, AUTO TOUR:  \nPlanificamos y coordinamos recorridos por bodegas\, fábricas de productos regionales\, y almacenes locales\, te llevamos a descubrir La Colonia\, cultura local y los paisajes mas hermosos de nuestra Tierra de Palmares.- \nOrganizado por Perla Lopez – \nReservas con anticipación: contacto 3447503491.- \nValor del recorrido: según destino elegido. \nTiempo demandado: aproximadamente 3 horas.- \nEl objetivo es formar una caravana\, con los vehículos de los interesados y hacer\, una mañana o una tarde de recorridos a los diferentes atractivos de nuestra zona  \nprevia coordinación.- \nPunto de salida: oficina de Turismo Villa Elisa.-
URL:https://villaelisa.gov.ar/evento/auto-tour/2026-05-03/
ATTACH;FMTTYPE=image/jpeg:https://villaelisa.gov.ar/wp-content/uploads/2024/11/Traveling-vina.jpg
END:VEVENT
BEGIN:VEVENT
DTSTART;TZID=America/Argentina/Buenos_Aires:20260503T110000
DTEND;TZID=America/Argentina/Buenos_Aires:20260503T180000
DTSTAMP:20260422T182507
CREATED:20260417T142048Z
LAST-MODIFIED:20260417T142048Z
UID:10009497-1777806000-1777831200@villaelisa.gov.ar
SUMMARY:Festival del Trabajador
DESCRIPTION:✨ ¡Una fecha especial para disfrutar al máximo! ✨ \nTe invitamos a vivir los bailes más lindos\, ideales para compartir momentos inolvidables con amigos y familia. \n🎶 Con toda la música y la alegría de Alan y Daniel Lezica\, Litoral Chamamecero\, Grupo Galaxia\, Pedro Martínez y Leo Milezzi\, quienes harán de esta jornada una verdadera fiesta del trabajador. \n💃🕺 Vení a bailar\, divertirte y llenarte de ritmo\, buena onda y la mejor compañía. \nAsado con cuero y variedad de comidas !!! \n¡No te lo podés perder!
URL:https://villaelisa.gov.ar/evento/festival-del-trabajador-2/
LOCATION:Polideportivo Municipal de Primero de Mayo
ATTACH;FMTTYPE=image/jpeg:https://villaelisa.gov.ar/wp-content/uploads/2026/04/WhatsApp-Image-2026-04-17-at-11.13.55-AM.jpeg
END:VEVENT
END:VCALENDAR