BEGIN:VCALENDAR
VERSION:2.0
PRODID:-//Municipalidad de Villa Elisa, Entre Ríos - ECPv6.6.4.2//NONSGML v1.0//EN
CALSCALE:GREGORIAN
METHOD:PUBLISH
X-WR-CALNAME:Municipalidad de Villa Elisa, Entre Ríos
X-ORIGINAL-URL:https://villaelisa.gov.ar
X-WR-CALDESC:Eventos para Municipalidad de Villa Elisa, Entre Ríos
REFRESH-INTERVAL;VALUE=DURATION:PT1H
X-Robots-Tag:noindex
X-PUBLISHED-TTL:PT1H
BEGIN:VTIMEZONE
TZID:America/Argentina/Buenos_Aires
BEGIN:STANDARD
TZOFFSETFROM:-0300
TZOFFSETTO:-0300
TZNAME:-03
DTSTART:20250101T000000
END:STANDARD
END:VTIMEZONE
BEGIN:VEVENT
DTSTART;TZID=America/Argentina/Buenos_Aires:20250515T193000
DTEND;TZID=America/Argentina/Buenos_Aires:20250515T203000
DTSTAMP:20260420T092243
CREATED:20250507T131130Z
LAST-MODIFIED:20250507T131130Z
UID:10004051-1747337400-1747341000@villaelisa.gov.ar
SUMMARY:"Mientras Nos Quede Un Latido"
DESCRIPTION:La escritora sanjosesina Pamela Medina presentará su último libro “Mientras nos quede un latido”\nEsta novela despliega un universo femenino\, en donde se desgranan secretos familiares\, deseos ocultos\, verdades postergadas y la incesante búsqueda del amor. \nTe esperamos. Entrada libre y gratuita.
URL:https://villaelisa.gov.ar/evento/mientras-nos-quede-un-latido/
LOCATION:Biblioteca Popular General Mitre\, Av. Mitre 1160\, Villa Elisa\, 3265
ATTACH;FMTTYPE=image/jpeg:https://villaelisa.gov.ar/wp-content/uploads/2025/05/Presentacion-del-libro-de-Pamela-Medina.jpg
END:VEVENT
END:VCALENDAR