BEGIN:VCALENDAR
VERSION:2.0
PRODID:-//Municipalidad de Villa Elisa, Entre Ríos - ECPv6.6.4.2//NONSGML v1.0//EN
CALSCALE:GREGORIAN
METHOD:PUBLISH
X-WR-CALNAME:Municipalidad de Villa Elisa, Entre Ríos
X-ORIGINAL-URL:https://villaelisa.gov.ar
X-WR-CALDESC:Eventos para Municipalidad de Villa Elisa, Entre Ríos
REFRESH-INTERVAL;VALUE=DURATION:PT1H
X-Robots-Tag:noindex
X-PUBLISHED-TTL:PT1H
BEGIN:VTIMEZONE
TZID:America/Argentina/Buenos_Aires
BEGIN:STANDARD
TZOFFSETFROM:-0300
TZOFFSETTO:-0300
TZNAME:-03
DTSTART:20250101T000000
END:STANDARD
END:VTIMEZONE
BEGIN:VEVENT
DTSTART;TZID=America/Argentina/Buenos_Aires:20260103T160000
DTEND;TZID=America/Argentina/Buenos_Aires:20260103T203000
DTSTAMP:20260424T192601
CREATED:20251229T175742Z
LAST-MODIFIED:20251229T180059Z
UID:10004249-1767456000-1767472200@villaelisa.gov.ar
SUMMARY:Estación Elisa - Ferroclub Central Entrerriano
DESCRIPTION:  \nTodos los días desde las 16:00 hs. estará abierta la estación Elisa donde encontrarás maquinarias y elementos de época a las 17 y 19 horas habrá paseos en el tren histórico turístico para vivir una gran experiencia. \nCalle Centenario 2200 \nConsultas al 3442 551086
URL:https://villaelisa.gov.ar/evento/ferroclub-central-entrerriano-6-2-2-2-5-8/2026-01-03/
LOCATION:Ferroclub Central Entrerriano\, Centenario y Arenales\, Villa Elisa\, 3265
ATTACH;FMTTYPE=image/jpeg:https://villaelisa.gov.ar/wp-content/uploads/2025/01/IMG_20231210_175944197-scaled.jpg
END:VEVENT
BEGIN:VEVENT
DTSTART;TZID=America/Argentina/Buenos_Aires:20251206T160000
DTEND;TZID=America/Argentina/Buenos_Aires:20251206T200000
DTSTAMP:20260424T192601
CREATED:20251128T171930Z
LAST-MODIFIED:20251206T142540Z
UID:10004892-1765036800-1765051200@villaelisa.gov.ar
SUMMARY:Estación Elisa - Ferroclub Central Entrerriano
DESCRIPTION:  \nTe esperamos para un viaje inolvidable. Viví la magia del pasado en la Estación Elisa. Desde las 16:00 podrás recorrer la estación y descubrir increíbles maquinarias y objetos de época que te transportarán en el tiempo. \nA las 19:00 hs no te pierdas los emocionantes paseos en el Tren Histórico. \nUna experiencia única para disfrutar en familia o con amigos!!!\nCalle Centenario 2200 – Consultas: 3442 551086
URL:https://villaelisa.gov.ar/evento/ferroclub-central-entrerriano-6-2-2-2-5-6-6-2/
LOCATION:Ferroclub Central Entrerriano\, Centenario y Arenales\, Villa Elisa\, 3265
ATTACH;FMTTYPE=image/jpeg:https://villaelisa.gov.ar/wp-content/uploads/2025/01/IMG_20231210_175944197-scaled.jpg
END:VEVENT
BEGIN:VEVENT
DTSTART;TZID=America/Argentina/Buenos_Aires:20251130T153000
DTEND;TZID=America/Argentina/Buenos_Aires:20251130T190000
DTSTAMP:20260424T192601
CREATED:20251128T172447Z
LAST-MODIFIED:20251128T172447Z
UID:10004949-1764516600-1764529200@villaelisa.gov.ar
SUMMARY:Estación Elisa - Ferroclub Central Entrerriano
DESCRIPTION:Te esperamos para un viaje inolvidable. Viví la magia del pasado en la Estación Elisa. Desde las 15:30 hs podrás recorrer la estación y descubrir increíbles maquinarias y objetos de época que te transportarán en el tiempo. \nA las 17:00 hs no te pierdas los emocionantes paseos en el Tren Histórico. \nUna experiencia única para disfrutar en familia o con amigos!!!\nCalle Centenario 2200 – Consultas: 3442 551086
URL:https://villaelisa.gov.ar/evento/estacion-elisa-ferroclub-central-entrerriano-11/
LOCATION:Ferroclub Central Entrerriano\, Centenario y Arenales\, Villa Elisa\, 3265
ATTACH;FMTTYPE=image/jpeg:https://villaelisa.gov.ar/wp-content/uploads/2025/03/WhatsApp-Image-2025-06-25-at-3.17.24-PM.jpeg
END:VEVENT
BEGIN:VEVENT
DTSTART;TZID=America/Argentina/Buenos_Aires:20250914T150000
DTEND;TZID=America/Argentina/Buenos_Aires:20250914T183000
DTSTAMP:20260424T192601
CREATED:20250819T193227Z
LAST-MODIFIED:20250819T193228Z
UID:10004375-1757862000-1757874600@villaelisa.gov.ar
SUMMARY:Estación Elisa - Ferroclub Central Entrerriano
DESCRIPTION:  \nDesde las 15:00 estará abierta la estación Elisa donde encontrarás maquinarias y elementos de época a las 15:30 hs. habrá paseos en el tren histórico turístico para vivir una gran experiencia. \nCalle Centenario 2200 \nConsultas al 3442 551086
URL:https://villaelisa.gov.ar/evento/ferroclub-central-entrerriano-6-2-2-2-5-6-5/
LOCATION:Ferroclub Central Entrerriano\, Centenario y Arenales\, Villa Elisa\, 3265
ATTACH;FMTTYPE=image/jpeg:https://villaelisa.gov.ar/wp-content/uploads/2025/01/IMG_20231210_175944197-scaled.jpg
END:VEVENT
BEGIN:VEVENT
DTSTART;TZID=America/Argentina/Buenos_Aires:20250907T150000
DTEND;TZID=America/Argentina/Buenos_Aires:20250907T183000
DTSTAMP:20260424T192601
CREATED:20250819T193110Z
LAST-MODIFIED:20250819T193110Z
UID:10004374-1757257200-1757269800@villaelisa.gov.ar
SUMMARY:Estación Elisa - Ferroclub Central Entrerriano
DESCRIPTION:  \nDesde las 15:00 estará abierta la estación Elisa donde encontrarás maquinarias y elementos de época a las 15:30 hs. habrá paseos en el tren histórico turístico para vivir una gran experiencia. \nCalle Centenario 2200 \nConsultas al 3442 551086
URL:https://villaelisa.gov.ar/evento/ferroclub-central-entrerriano-6-2-2-2-5-6-4/
LOCATION:Ferroclub Central Entrerriano\, Centenario y Arenales\, Villa Elisa\, 3265
ATTACH;FMTTYPE=image/jpeg:https://villaelisa.gov.ar/wp-content/uploads/2025/01/IMG_20231210_175944197-scaled.jpg
END:VEVENT
BEGIN:VEVENT
DTSTART;TZID=America/Argentina/Buenos_Aires:20250831T150000
DTEND;TZID=America/Argentina/Buenos_Aires:20250831T183000
DTSTAMP:20260424T192601
CREATED:20250819T192453Z
LAST-MODIFIED:20250819T192453Z
UID:10004373-1756652400-1756665000@villaelisa.gov.ar
SUMMARY:Estación Elisa - Ferroclub Central Entrerriano
DESCRIPTION:  \nDesde las 15:00 estará abierta la estación Elisa donde encontrarás maquinarias y elementos de época a las 15:30 hs. habrá paseos en el tren histórico turístico para vivir una gran experiencia. \nCalle Centenario 2200 \nConsultas al 3442 551086
URL:https://villaelisa.gov.ar/evento/ferroclub-central-entrerriano-6-2-2-2-5-6-3/
LOCATION:Ferroclub Central Entrerriano\, Centenario y Arenales\, Villa Elisa\, 3265
ATTACH;FMTTYPE=image/jpeg:https://villaelisa.gov.ar/wp-content/uploads/2025/01/IMG_20231210_175944197-scaled.jpg
END:VEVENT
BEGIN:VEVENT
DTSTART;TZID=America/Argentina/Buenos_Aires:20250830T150000
DTEND;TZID=America/Argentina/Buenos_Aires:20250830T183000
DTSTAMP:20260424T192601
CREATED:20250819T151434Z
LAST-MODIFIED:20250819T151434Z
UID:10004261-1756566000-1756578600@villaelisa.gov.ar
SUMMARY:Estación Elisa - Ferroclub Central Entrerriano
DESCRIPTION:  \nDesde las 15:00 estará abierta la estación Elisa donde encontrarás maquinarias y elementos de época a las 15:30 hs. habrá paseos en el tren histórico turístico para vivir una gran experiencia. \nCalle Centenario 2200 \nConsultas al 3442 551086
URL:https://villaelisa.gov.ar/evento/ferroclub-central-entrerriano-6-2-2-2-5-6/2025-08-30/
LOCATION:Ferroclub Central Entrerriano\, Centenario y Arenales\, Villa Elisa\, 3265
ATTACH;FMTTYPE=image/jpeg:https://villaelisa.gov.ar/wp-content/uploads/2025/01/IMG_20231210_175944197-scaled.jpg
END:VEVENT
BEGIN:VEVENT
DTSTART;TZID=America/Argentina/Buenos_Aires:20250824T150000
DTEND;TZID=America/Argentina/Buenos_Aires:20250824T183000
DTSTAMP:20260424T192601
CREATED:20250819T153906Z
LAST-MODIFIED:20250819T153907Z
UID:10004372-1756047600-1756060200@villaelisa.gov.ar
SUMMARY:Estación Elisa - Ferroclub Central Entrerriano
DESCRIPTION:  \nDesde las 15:00 estará abierta la estación Elisa donde encontrarás maquinarias y elementos de época a las 15:30 hs. habrá paseos en el tren histórico turístico para vivir una gran experiencia. \nCalle Centenario 2200 \nConsultas al 3442 551086
URL:https://villaelisa.gov.ar/evento/ferroclub-central-entrerriano-6-2-2-2-5-6-2/
LOCATION:Ferroclub Central Entrerriano\, Centenario y Arenales\, Villa Elisa\, 3265
ATTACH;FMTTYPE=image/jpeg:https://villaelisa.gov.ar/wp-content/uploads/2025/01/IMG_20231210_175944197-scaled.jpg
END:VEVENT
BEGIN:VEVENT
DTSTART;TZID=America/Argentina/Buenos_Aires:20250823T150000
DTEND;TZID=America/Argentina/Buenos_Aires:20250823T183000
DTSTAMP:20260424T192601
CREATED:20250819T151434Z
LAST-MODIFIED:20250819T151434Z
UID:10004259-1755961200-1755973800@villaelisa.gov.ar
SUMMARY:Estación Elisa - Ferroclub Central Entrerriano
DESCRIPTION:  \nDesde las 15:00 estará abierta la estación Elisa donde encontrarás maquinarias y elementos de época a las 15:30 hs. habrá paseos en el tren histórico turístico para vivir una gran experiencia. \nCalle Centenario 2200 \nConsultas al 3442 551086
URL:https://villaelisa.gov.ar/evento/ferroclub-central-entrerriano-6-2-2-2-5-6/2025-08-23/
LOCATION:Ferroclub Central Entrerriano\, Centenario y Arenales\, Villa Elisa\, 3265
ATTACH;FMTTYPE=image/jpeg:https://villaelisa.gov.ar/wp-content/uploads/2025/01/IMG_20231210_175944197-scaled.jpg
END:VEVENT
BEGIN:VEVENT
DTSTART;TZID=America/Argentina/Buenos_Aires:20250817T150000
DTEND;TZID=America/Argentina/Buenos_Aires:20250817T183000
DTSTAMP:20260424T192601
CREATED:20250808T144725Z
LAST-MODIFIED:20250811T164410Z
UID:10004371-1755442800-1755455400@villaelisa.gov.ar
SUMMARY:Estación Elisa - Ferroclub Central Entrerriano
DESCRIPTION:  \nDesde las 15:00 estará abierta la estación Elisa donde encontrarás maquinarias y elementos de época a las 15:30 y 17 horas habrá paseos en el tren histórico turístico para vivir una gran experiencia. \nCalle Centenario 2200 \nConsultas al 3442 551086
URL:https://villaelisa.gov.ar/evento/ferroclub-central-entrerriano-6-2-2-2-5-7/
LOCATION:Ferroclub Central Entrerriano\, Centenario y Arenales\, Villa Elisa\, 3265
ATTACH;FMTTYPE=image/jpeg:https://villaelisa.gov.ar/wp-content/uploads/2025/01/IMG_20231210_175944197-scaled.jpg
END:VEVENT
BEGIN:VEVENT
DTSTART;TZID=America/Argentina/Buenos_Aires:20250809T150000
DTEND;TZID=America/Argentina/Buenos_Aires:20250809T183000
DTSTAMP:20260424T192601
CREATED:20250808T115615Z
LAST-MODIFIED:20250808T115616Z
UID:10004255-1754751600-1754764200@villaelisa.gov.ar
SUMMARY:Estación Elisa - Ferroclub Central Entrerriano
DESCRIPTION:  \nDesde las 15:00 estará abierta la estación Elisa donde encontrarás maquinarias y elementos de época a las 15:30 y 17 horas habrá paseos en el tren histórico turístico para vivir una gran experiencia. \nCalle Centenario 2200 \nConsultas al 3442 551086
URL:https://villaelisa.gov.ar/evento/ferroclub-central-entrerriano-6-2-2-2-5-5/
LOCATION:Ferroclub Central Entrerriano\, Centenario y Arenales\, Villa Elisa\, 3265
ATTACH;FMTTYPE=image/jpeg:https://villaelisa.gov.ar/wp-content/uploads/2025/01/IMG_20231210_175944197-scaled.jpg
END:VEVENT
BEGIN:VEVENT
DTSTART;TZID=America/Argentina/Buenos_Aires:20250803T150000
DTEND;TZID=America/Argentina/Buenos_Aires:20250803T183000
DTSTAMP:20260424T192601
CREATED:20250723T190823Z
LAST-MODIFIED:20250723T190823Z
UID:10004369-1754233200-1754245800@villaelisa.gov.ar
SUMMARY:Estación Elisa - Ferroclub Central Entrerriano
DESCRIPTION:  \nEn vacaciones de invierno todos los días desde las 15:00 estará abierta la estación Elisa donde encontrarás maquinarias y elementos de época a las 15:30 y 17 horas habrá paseos en el tren histórico turístico para vivir una gran experiencia. \nCalle Centenario 2200 \nConsultas al 3442 551086
URL:https://villaelisa.gov.ar/evento/ferroclub-central-entrerriano-6-2-2-2-5-2/
LOCATION:Ferroclub Central Entrerriano\, Centenario y Arenales\, Villa Elisa\, 3265
ATTACH;FMTTYPE=image/jpeg:https://villaelisa.gov.ar/wp-content/uploads/2025/01/IMG_20231210_175944197-scaled.jpg
END:VEVENT
BEGIN:VEVENT
DTSTART;TZID=America/Argentina/Buenos_Aires:20250730T150000
DTEND;TZID=America/Argentina/Buenos_Aires:20250730T183000
DTSTAMP:20260424T192601
CREATED:20250728T135128Z
LAST-MODIFIED:20250728T135129Z
UID:10004367-1753887600-1753900200@villaelisa.gov.ar
SUMMARY:Estación Elisa - Ferroclub Central Entrerriano
DESCRIPTION:  \nEn vacaciones de invierno todos los días desde las 15:00 estará abierta la estación Elisa donde encontrarás maquinarias y elementos de época a las 15:30 y 17 horas habrá paseos en el tren histórico turístico para vivir una gran experiencia. \nCalle Centenario 2200 \nConsultas al 3442 551086
URL:https://villaelisa.gov.ar/evento/ferroclub-central-entrerriano-6-2-2-2-5-3/
LOCATION:Ferroclub Central Entrerriano\, Centenario y Arenales\, Villa Elisa\, 3265
ATTACH;FMTTYPE=image/jpeg:https://villaelisa.gov.ar/wp-content/uploads/2025/01/IMG_20231210_175944197-scaled.jpg
END:VEVENT
BEGIN:VEVENT
DTSTART;TZID=America/Argentina/Buenos_Aires:20250729T150000
DTEND;TZID=America/Argentina/Buenos_Aires:20250729T183000
DTSTAMP:20260424T192601
CREATED:20250728T135247Z
LAST-MODIFIED:20250728T135248Z
UID:10004366-1753801200-1753813800@villaelisa.gov.ar
SUMMARY:Estación Elisa - Ferroclub Central Entrerriano
DESCRIPTION:  \nEn vacaciones de invierno todos los días desde las 15:00 estará abierta la estación Elisa donde encontrarás maquinarias y elementos de época a las 15:30 y 17 horas habrá paseos en el tren histórico turístico para vivir una gran experiencia. \nCalle Centenario 2200 \nConsultas al 3442 551086
URL:https://villaelisa.gov.ar/evento/ferroclub-central-entrerriano-6-2-2-2-5-4/
LOCATION:Ferroclub Central Entrerriano\, Centenario y Arenales\, Villa Elisa\, 3265
ATTACH;FMTTYPE=image/jpeg:https://villaelisa.gov.ar/wp-content/uploads/2025/01/IMG_20231210_175944197-scaled.jpg
END:VEVENT
BEGIN:VEVENT
DTSTART;TZID=America/Argentina/Buenos_Aires:20250715T150000
DTEND;TZID=America/Argentina/Buenos_Aires:20250716T170000
DTSTAMP:20260424T192601
CREATED:20250613T145052Z
LAST-MODIFIED:20250704T212621Z
UID:10004150-1752591600-1752685200@villaelisa.gov.ar
SUMMARY:Estación Elisa
DESCRIPTION:En vacaciones de invierno todos los días desde las 15:00 estará abierta la estación Elisa donde encontrarás maquinarias y elementos de época a las 15:30 y 17 horas habrá paseos en el tren histórico turístico para vivir una gran experiencia. \nCalle Centenario 2200 \nConsultas al 3442 551086
URL:https://villaelisa.gov.ar/evento/estacion-elisa-3/
LOCATION:Ferroclub Central Entrerriano\, Centenario y Arenales\, Villa Elisa\, 3265
ATTACH;FMTTYPE=image/jpeg:https://villaelisa.gov.ar/wp-content/uploads/2025/06/FINES-JUNIO2025-1530.jpg
END:VEVENT
BEGIN:VEVENT
DTSTART;TZID=America/Argentina/Buenos_Aires:20250714T150000
DTEND;TZID=America/Argentina/Buenos_Aires:20250714T173000
DTSTAMP:20260424T192602
CREATED:20250704T212257Z
LAST-MODIFIED:20250704T212257Z
UID:10004235-1752505200-1752514200@villaelisa.gov.ar
SUMMARY:Estación Elisa - Ferroclub Central Entrerriano
DESCRIPTION:  \nEn vacaciones de invierno todos los días desde las 15:00 estará abierta la estación Elisa donde encontrarás maquinarias y elementos de época a las 15:30 y 17 horas habrá paseos en el tren histórico turístico para vivir una gran experiencia. \nCalle Centenario 2200 \nConsultas al 3442 551086
URL:https://villaelisa.gov.ar/evento/ferroclub-central-entrerriano-6-2-2-2-6/2025-07-14/
LOCATION:Ferroclub Central Entrerriano\, Centenario y Arenales\, Villa Elisa\, 3265
ATTACH;FMTTYPE=image/jpeg:https://villaelisa.gov.ar/wp-content/uploads/2025/01/IMG_20231210_175944197-scaled.jpg
END:VEVENT
BEGIN:VEVENT
DTSTART;TZID=America/Argentina/Buenos_Aires:20250713T150000
DTEND;TZID=America/Argentina/Buenos_Aires:20250713T183000
DTSTAMP:20260424T192602
CREATED:20250625T181914Z
LAST-MODIFIED:20250625T181914Z
UID:10004248-1752418800-1752431400@villaelisa.gov.ar
SUMMARY:Estación Elisa - Ferroclub Central Entrerriano
DESCRIPTION:Todos los fines de semana\, a partir de las 15:00 hs.\, vení al Ferroclub Central Villa Elisa a visitar a la Estación de trenes.  Encontraras reliquias y recuerdos. \nEl único paseo es a las 15:30 hs. en el Tren Histórico\, un tren lleno de magia. \nCalle Centenario 2200 \nConsultas al 3442 551086 \n 
URL:https://villaelisa.gov.ar/evento/ferroclub-central-entrerriano-6-2-2-2-2/
LOCATION:Ferroclub Central Entrerriano\, Centenario y Arenales\, Villa Elisa\, 3265
ATTACH;FMTTYPE=image/jpeg:https://villaelisa.gov.ar/wp-content/uploads/2025/03/WhatsApp-Image-2025-06-25-at-3.17.24-PM.jpeg
END:VEVENT
BEGIN:VEVENT
DTSTART;TZID=America/Argentina/Buenos_Aires:20250712T150000
DTEND;TZID=America/Argentina/Buenos_Aires:20250712T183000
DTSTAMP:20260424T192602
CREATED:20250704T211942Z
LAST-MODIFIED:20250704T211942Z
UID:10004247-1752332400-1752345000@villaelisa.gov.ar
SUMMARY:Estación Elisa - Ferroclub Central Entrerriano
DESCRIPTION:  \nEn vacaciones de invierno todos los días desde las 15:00 estará abierta la estación Elisa donde encontrarás maquinarias y elementos de época a las 15:30 y 17 horas habrá paseos en el tren histórico turístico para vivir una gran experiencia. \nCalle Centenario 2200 \nConsultas al 3442 551086
URL:https://villaelisa.gov.ar/evento/ferroclub-central-entrerriano-6-2-2-2-5/2025-07-12/
LOCATION:Ferroclub Central Entrerriano\, Centenario y Arenales\, Villa Elisa\, 3265
ATTACH;FMTTYPE=image/jpeg:https://villaelisa.gov.ar/wp-content/uploads/2025/01/IMG_20231210_175944197-scaled.jpg
END:VEVENT
BEGIN:VEVENT
DTSTART;TZID=America/Argentina/Buenos_Aires:20250711T150000
DTEND;TZID=America/Argentina/Buenos_Aires:20250711T183000
DTSTAMP:20260424T192602
CREATED:20250625T182053Z
LAST-MODIFIED:20250704T211612Z
UID:10004243-1752246000-1752258600@villaelisa.gov.ar
SUMMARY:Estación Elisa - Ferroclub Central Entrerriano
DESCRIPTION:En vacaciones de invierno todos los días desde las 15:00 estará abierta la estación Elisa donde encontrarás maquinarias y elementos de época a las 15:30 y 17 horas habrá paseos en el tren histórico turístico para vivir una gran experiencia. \nCalle Centenario 2200 \nConsultas al 3442 551086 \n 
URL:https://villaelisa.gov.ar/evento/ferroclub-central-entrerriano-6-2-2-2-3/
LOCATION:Ferroclub Central Entrerriano\, Centenario y Arenales\, Villa Elisa\, 3265
ATTACH;FMTTYPE=image/jpeg:https://villaelisa.gov.ar/wp-content/uploads/2025/03/WhatsApp-Image-2025-06-25-at-3.17.24-PM.jpeg
END:VEVENT
BEGIN:VEVENT
DTSTART;TZID=America/Argentina/Buenos_Aires:20250710T150000
DTEND;TZID=America/Argentina/Buenos_Aires:20250710T183000
DTSTAMP:20260424T192602
CREATED:20250704T211942Z
LAST-MODIFIED:20250704T211942Z
UID:10004244-1752159600-1752172200@villaelisa.gov.ar
SUMMARY:Estación Elisa - Ferroclub Central Entrerriano
DESCRIPTION:  \nEn vacaciones de invierno todos los días desde las 15:00 estará abierta la estación Elisa donde encontrarás maquinarias y elementos de época a las 15:30 y 17 horas habrá paseos en el tren histórico turístico para vivir una gran experiencia. \nCalle Centenario 2200 \nConsultas al 3442 551086
URL:https://villaelisa.gov.ar/evento/ferroclub-central-entrerriano-6-2-2-2-5/2025-07-10/
LOCATION:Ferroclub Central Entrerriano\, Centenario y Arenales\, Villa Elisa\, 3265
ATTACH;FMTTYPE=image/jpeg:https://villaelisa.gov.ar/wp-content/uploads/2025/01/IMG_20231210_175944197-scaled.jpg
END:VEVENT
BEGIN:VEVENT
DTSTART;TZID=America/Argentina/Buenos_Aires:20250709T150000
DTEND;TZID=America/Argentina/Buenos_Aires:20250711T170000
DTSTAMP:20260424T192602
CREATED:20250619T124442Z
LAST-MODIFIED:20250704T211508Z
UID:10004162-1752073200-1752253200@villaelisa.gov.ar
SUMMARY:Tren Turístico
DESCRIPTION:En vacaciones de invierno todos los días desde las 15:00 estará abierta la estación Elisa donde encontrarás maquinarias y elementos de época a las 15:30 y 17 horas habrá paseos en el tren histórico turístico para vivir una gran experiencia. \nCalle Centenario 2200 \nConsultas al 3442 551086
URL:https://villaelisa.gov.ar/evento/tren-turistico-2/
LOCATION:Ferroclub Central Entrerriano\, Centenario y Arenales\, Villa Elisa\, 3265
ATTACH;FMTTYPE=image/jpeg:https://villaelisa.gov.ar/wp-content/uploads/2025/06/FINES-JUNIO2025-1530-1.jpg
END:VEVENT
BEGIN:VEVENT
DTSTART;TZID=America/Argentina/Buenos_Aires:20250708T150000
DTEND;TZID=America/Argentina/Buenos_Aires:20250708T170000
DTSTAMP:20260424T192602
CREATED:20250704T211334Z
LAST-MODIFIED:20250704T211334Z
UID:10004365-1751986800-1751994000@villaelisa.gov.ar
SUMMARY:Ferroclub Central Entrerriano
DESCRIPTION:En vacaciones de invierno todos los días desde las 15:00 estará abierta la estación Elisa donde encontrarás maquinarias y elementos de época a las 15:30 y 17 horas habrá paseos en el tren histórico turístico para vivir una gran experiencia. \nCalle Centenario 2200 \nConsultas al 3442 551086
URL:https://villaelisa.gov.ar/evento/ferroclub-central-entrerriano-10/
LOCATION:Ferroclub Central Entrerriano\, Centenario y Arenales\, Villa Elisa\, 3265
ATTACH;FMTTYPE=image/jpeg:https://villaelisa.gov.ar/wp-content/uploads/2025/06/WhatsApp-Image-2025-06-25-at-2.27.24-PM.jpeg
END:VEVENT
BEGIN:VEVENT
DTSTART;TZID=America/Argentina/Buenos_Aires:20250707T150000
DTEND;TZID=America/Argentina/Buenos_Aires:20250707T170000
DTSTAMP:20260424T192602
CREATED:20250704T132625Z
LAST-MODIFIED:20250704T211222Z
UID:10004362-1751900400-1751907600@villaelisa.gov.ar
SUMMARY:Ferroclub Central Entrerriano
DESCRIPTION:En vacaciones de invierno todos los días desde las 15:00 estará abierta la estación Elisa donde encontrarás maquinarias y elementos de época a las 15:30 y 17 horas habrá paseos en el tren histórico turístico para vivir una gran experiencia. \nCalle Centenario 2200 \nConsultas al 3442 551086
URL:https://villaelisa.gov.ar/evento/ferroclub-central-entrerriano-2/
LOCATION:Ferroclub Central Entrerriano\, Centenario y Arenales\, Villa Elisa\, 3265
ATTACH;FMTTYPE=image/jpeg:https://villaelisa.gov.ar/wp-content/uploads/2025/03/WhatsApp-Image-2025-06-25-at-3.17.24-PM.jpeg
END:VEVENT
BEGIN:VEVENT
DTSTART;TZID=America/Argentina/Buenos_Aires:20250705T150000
DTEND;TZID=America/Argentina/Buenos_Aires:20250705T183000
DTSTAMP:20260424T192602
CREATED:20250625T182237Z
LAST-MODIFIED:20250704T210931Z
UID:10004245-1751727600-1751740200@villaelisa.gov.ar
SUMMARY:Estación Elisa - Ferroclub Central Entrerriano
DESCRIPTION:En vacaciones de invierno todos los días desde las 15:00 estará abierta la estación Elisa donde encontrarás maquinarias y elementos de época a las 15:30 y 17 horas habrá paseos en el tren histórico turístico para vivir una gran experiencia \nCalle Centenario 2200 \nConsultas al 3442 551086 \n 
URL:https://villaelisa.gov.ar/evento/ferroclub-central-entrerriano-6-2-2-2-4/
LOCATION:Ferroclub Central Entrerriano\, Centenario y Arenales\, Villa Elisa\, 3265
ATTACH;FMTTYPE=image/jpeg:https://villaelisa.gov.ar/wp-content/uploads/2025/06/WhatsApp-Image-2025-06-25-at-2.27.24-PM.jpeg
END:VEVENT
BEGIN:VEVENT
DTSTART;TZID=America/Argentina/Buenos_Aires:20250525T150000
DTEND;TZID=America/Argentina/Buenos_Aires:20250525T183000
DTSTAMP:20260424T192602
CREATED:20250314T131303Z
LAST-MODIFIED:20250704T211726Z
UID:10004234-1748185200-1748197800@villaelisa.gov.ar
SUMMARY:Estación Elisa - Ferroclub Central Entrerriano
DESCRIPTION:  \nEn vacaciones de invierno todos los días desde las 15:00 estará abierta la estación Elisa donde encontrarás maquinarias y elementos de época a las 15:30 y 17 horas habrá paseos en el tren histórico turístico para vivir una gran experiencia. \nCalle Centenario 2200 \nConsultas al 3442 551086
URL:https://villaelisa.gov.ar/evento/ferroclub-central-entrerriano-6-2-2-2/2025-05-25/
LOCATION:Ferroclub Central Entrerriano\, Centenario y Arenales\, Villa Elisa\, 3265
ATTACH;FMTTYPE=image/jpeg:https://villaelisa.gov.ar/wp-content/uploads/2025/01/IMG_20231210_175944197-scaled.jpg
END:VEVENT
BEGIN:VEVENT
DTSTART;TZID=America/Argentina/Buenos_Aires:20250524T150000
DTEND;TZID=America/Argentina/Buenos_Aires:20250524T183000
DTSTAMP:20260424T192602
CREATED:20250314T131303Z
LAST-MODIFIED:20250704T211726Z
UID:10004233-1748098800-1748111400@villaelisa.gov.ar
SUMMARY:Estación Elisa - Ferroclub Central Entrerriano
DESCRIPTION:  \nEn vacaciones de invierno todos los días desde las 15:00 estará abierta la estación Elisa donde encontrarás maquinarias y elementos de época a las 15:30 y 17 horas habrá paseos en el tren histórico turístico para vivir una gran experiencia. \nCalle Centenario 2200 \nConsultas al 3442 551086
URL:https://villaelisa.gov.ar/evento/ferroclub-central-entrerriano-6-2-2-2/2025-05-24/
LOCATION:Ferroclub Central Entrerriano\, Centenario y Arenales\, Villa Elisa\, 3265
ATTACH;FMTTYPE=image/jpeg:https://villaelisa.gov.ar/wp-content/uploads/2025/01/IMG_20231210_175944197-scaled.jpg
END:VEVENT
BEGIN:VEVENT
DTSTART;TZID=America/Argentina/Buenos_Aires:20250518T150000
DTEND;TZID=America/Argentina/Buenos_Aires:20250518T183000
DTSTAMP:20260424T192602
CREATED:20250314T131303Z
LAST-MODIFIED:20250704T211726Z
UID:10004232-1747580400-1747593000@villaelisa.gov.ar
SUMMARY:Estación Elisa - Ferroclub Central Entrerriano
DESCRIPTION:  \nEn vacaciones de invierno todos los días desde las 15:00 estará abierta la estación Elisa donde encontrarás maquinarias y elementos de época a las 15:30 y 17 horas habrá paseos en el tren histórico turístico para vivir una gran experiencia. \nCalle Centenario 2200 \nConsultas al 3442 551086
URL:https://villaelisa.gov.ar/evento/ferroclub-central-entrerriano-6-2-2-2/2025-05-18/
LOCATION:Ferroclub Central Entrerriano\, Centenario y Arenales\, Villa Elisa\, 3265
ATTACH;FMTTYPE=image/jpeg:https://villaelisa.gov.ar/wp-content/uploads/2025/01/IMG_20231210_175944197-scaled.jpg
END:VEVENT
BEGIN:VEVENT
DTSTART;TZID=America/Argentina/Buenos_Aires:20250517T150000
DTEND;TZID=America/Argentina/Buenos_Aires:20250517T183000
DTSTAMP:20260424T192602
CREATED:20250314T131303Z
LAST-MODIFIED:20250704T211726Z
UID:10004231-1747494000-1747506600@villaelisa.gov.ar
SUMMARY:Estación Elisa - Ferroclub Central Entrerriano
DESCRIPTION:  \nEn vacaciones de invierno todos los días desde las 15:00 estará abierta la estación Elisa donde encontrarás maquinarias y elementos de época a las 15:30 y 17 horas habrá paseos en el tren histórico turístico para vivir una gran experiencia. \nCalle Centenario 2200 \nConsultas al 3442 551086
URL:https://villaelisa.gov.ar/evento/ferroclub-central-entrerriano-6-2-2-2/2025-05-17/
LOCATION:Ferroclub Central Entrerriano\, Centenario y Arenales\, Villa Elisa\, 3265
ATTACH;FMTTYPE=image/jpeg:https://villaelisa.gov.ar/wp-content/uploads/2025/01/IMG_20231210_175944197-scaled.jpg
END:VEVENT
BEGIN:VEVENT
DTSTART;TZID=America/Argentina/Buenos_Aires:20250511T150000
DTEND;TZID=America/Argentina/Buenos_Aires:20250511T183000
DTSTAMP:20260424T192602
CREATED:20250314T131303Z
LAST-MODIFIED:20250704T211726Z
UID:10004230-1746975600-1746988200@villaelisa.gov.ar
SUMMARY:Estación Elisa - Ferroclub Central Entrerriano
DESCRIPTION:  \nEn vacaciones de invierno todos los días desde las 15:00 estará abierta la estación Elisa donde encontrarás maquinarias y elementos de época a las 15:30 y 17 horas habrá paseos en el tren histórico turístico para vivir una gran experiencia. \nCalle Centenario 2200 \nConsultas al 3442 551086
URL:https://villaelisa.gov.ar/evento/ferroclub-central-entrerriano-6-2-2-2/2025-05-11/
LOCATION:Ferroclub Central Entrerriano\, Centenario y Arenales\, Villa Elisa\, 3265
ATTACH;FMTTYPE=image/jpeg:https://villaelisa.gov.ar/wp-content/uploads/2025/01/IMG_20231210_175944197-scaled.jpg
END:VEVENT
BEGIN:VEVENT
DTSTART;TZID=America/Argentina/Buenos_Aires:20250510T150000
DTEND;TZID=America/Argentina/Buenos_Aires:20250510T183000
DTSTAMP:20260424T192602
CREATED:20250314T131303Z
LAST-MODIFIED:20250704T211726Z
UID:10004229-1746889200-1746901800@villaelisa.gov.ar
SUMMARY:Estación Elisa - Ferroclub Central Entrerriano
DESCRIPTION:  \nEn vacaciones de invierno todos los días desde las 15:00 estará abierta la estación Elisa donde encontrarás maquinarias y elementos de época a las 15:30 y 17 horas habrá paseos en el tren histórico turístico para vivir una gran experiencia. \nCalle Centenario 2200 \nConsultas al 3442 551086
URL:https://villaelisa.gov.ar/evento/ferroclub-central-entrerriano-6-2-2-2/2025-05-10/
LOCATION:Ferroclub Central Entrerriano\, Centenario y Arenales\, Villa Elisa\, 3265
ATTACH;FMTTYPE=image/jpeg:https://villaelisa.gov.ar/wp-content/uploads/2025/01/IMG_20231210_175944197-scaled.jpg
END:VEVENT
END:VCALENDAR