BEGIN:VCALENDAR
VERSION:2.0
PRODID:-//Municipalidad de Villa Elisa, Entre Ríos - ECPv6.6.4.2//NONSGML v1.0//EN
CALSCALE:GREGORIAN
METHOD:PUBLISH
X-WR-CALNAME:Municipalidad de Villa Elisa, Entre Ríos
X-ORIGINAL-URL:https://villaelisa.gov.ar
X-WR-CALDESC:Eventos para Municipalidad de Villa Elisa, Entre Ríos
REFRESH-INTERVAL;VALUE=DURATION:PT1H
X-Robots-Tag:noindex
X-PUBLISHED-TTL:PT1H
BEGIN:VTIMEZONE
TZID:America/Argentina/Buenos_Aires
BEGIN:STANDARD
TZOFFSETFROM:-0300
TZOFFSETTO:-0300
TZNAME:-03
DTSTART:20250101T000000
END:STANDARD
END:VTIMEZONE
BEGIN:VEVENT
DTSTART;TZID=America/Argentina/Buenos_Aires:20251010T100000
DTEND;TZID=America/Argentina/Buenos_Aires:20251010T180000
DTSTAMP:20260424T105835
CREATED:20250922T132923Z
LAST-MODIFIED:20250922T133219Z
UID:10004639-1760090400-1760119200@villaelisa.gov.ar
SUMMARY:42° Exposición Rural
DESCRIPTION:En Predio Ferial\, Colonia San Miguel\, Colón – Entre Ríos \nCon la participación de más de 40 empresas\, tecnología\, innovación\, espacios de formación\, gastronomía\, emprendedores ¡y una grilla artística que no te podés perder. \nLa Nueva Luna del Chino\, Gera Bourlot\, Marcos Martín\, Caio y los Chamameceros\, Conectados Retro y Los del Litoral serán parte de un fin de semana a pura fiesta y tradición.
URL:https://villaelisa.gov.ar/evento/42-exposicion-rural-de-colon/
LOCATION:Sociedad Rural
ATTACH;FMTTYPE=image/jpeg:https://villaelisa.gov.ar/wp-content/uploads/2025/09/WhatsApp-Image-2025-09-22-at-10.26.54-AM.jpeg
END:VEVENT
END:VCALENDAR